BEGIN:VCALENDAR
VERSION:2.0
PRODID:-//Dom Tramwajarza - ECPv6.15.11//NONSGML v1.0//EN
CALSCALE:GREGORIAN
METHOD:PUBLISH
X-WR-CALNAME:Dom Tramwajarza
X-ORIGINAL-URL:https://dt.fundacjapanagara.pl
X-WR-CALDESC:Wydarzenia dla Dom Tramwajarza
REFRESH-INTERVAL;VALUE=DURATION:PT1H
X-Robots-Tag:noindex
X-PUBLISHED-TTL:PT1H
BEGIN:VTIMEZONE
TZID:Europe/Warsaw
BEGIN:DAYLIGHT
TZOFFSETFROM:+0100
TZOFFSETTO:+0200
TZNAME:CEST
DTSTART:20240331T010000
END:DAYLIGHT
BEGIN:STANDARD
TZOFFSETFROM:+0200
TZOFFSETTO:+0100
TZNAME:CET
DTSTART:20241027T010000
END:STANDARD
BEGIN:DAYLIGHT
TZOFFSETFROM:+0100
TZOFFSETTO:+0200
TZNAME:CEST
DTSTART:20250330T010000
END:DAYLIGHT
BEGIN:STANDARD
TZOFFSETFROM:+0200
TZOFFSETTO:+0100
TZNAME:CET
DTSTART:20251026T010000
END:STANDARD
BEGIN:DAYLIGHT
TZOFFSETFROM:+0100
TZOFFSETTO:+0200
TZNAME:CEST
DTSTART:20260329T010000
END:DAYLIGHT
BEGIN:STANDARD
TZOFFSETFROM:+0200
TZOFFSETTO:+0100
TZNAME:CET
DTSTART:20261025T010000
END:STANDARD
END:VTIMEZONE
BEGIN:VEVENT
DTSTART;TZID=Europe/Warsaw:20250215T200000
DTEND;TZID=Europe/Warsaw:20250215T220000
DTSTAMP:20260422T180850
CREATED:20250129T125448Z
LAST-MODIFIED:20250129T125448Z
UID:2582-1739649600-1739656800@dt.fundacjapanagara.pl
SUMMARY:Tannu Tuva - koncert w Panu Garze
DESCRIPTION:15 lutego zapraszamy na koncert bałkańskiego bandu Tannu Tuva\, który zagra na scenie klubu Pan Gar:\n𝐓𝐀𝐍𝐍𝐔 𝐓𝐔𝐕𝐀Future Punk\, Electronica\, Freestyle\, Jazz Experimental\, Techno\, Shaman Trips\, audio/visual live Performance\ngrają:Zoran Pars Vujanović\, Gianluca Pellerito\, Ivan Dugandžić\, RIcardo Oliva\nbilety: 40 zł\n\nZespół\, wykonujący eksperymentalną i elektroniczną muzykę wokalną\, czerpie inspirację z tradycji i mistycyzmu regionu Tannu Tuva\, a także z bogatego dziedzictwa kulturowego Bałkanów\, stanowiąc pomost między starożytnymi i współczesnymi pejzażami dźwiękowymi.Kolektyw ten eksploruje granice między przeszłością i przyszłością\, łącząc tradycyjne eksperymentalne techniki wokalne z nowoczesnymi instrumentami elektronicznymi i akustycznymi oraz eksperymentalnymi brzmieniami.Ich muzyka tworzy niepowtarzalną atmosferę\, w której organiczne dźwięki natury\, takie jak szum wiatru znad wysokich równin Tuwy i melancholijne motywy bałkańskich wiosek\, łączą się w złożone kompozycje elektroniczne. Elektronika nie jest tylko narzędziem\, ale rozwinięciem technik wokalnych\, które śpiewacy i wykonawcy wykorzystują\, aby stworzyć dla publiczności hipnotyczne\, transcendentalne doświadczenie.Ich występy są wzbogacone o improwizację\, która pozostawia wrażenie nieprzewidywalność\, ale zawsze głęboko związana z przestrzenią emocjonalną i duchową.Inspiracją dla Tuwy jest jej fascynujące dziedzictwo dźwiękowe\, w którym dźwięk ma symboliczne znaczenie\, odnoszące się do natury i świata duchowego. Śpiew gardłowy\, jeden z podstawowych elementów tej grupy\, symbolizuje więź z korzeniami ziemi i duchowością przodków. Z drugiej strony wpływy bałkańskie przejawiają się w niezwykłych wzorcach metrycznych\, emocjonalnych melodiach i nieskrępowanym duchu awangardy\, czerpiącym siłę z buntowniczej energii ruchu punkowego.
URL:https://dt.fundacjapanagara.pl/wydarzenie/tannu-tuva-koncert-w-panu-garze/
LOCATION:Dom Tramwajarza\, Słowackiego 19/21\, Poznań\, 60-822\, Poland
CATEGORIES:Koncert,koncerty,Koncerty/muzyka
ATTACH;FMTTYPE=image/png:https://dt.fundacjapanagara.pl/wp-content/uploads/2025/01/tannu.png
END:VEVENT
BEGIN:VEVENT
DTSTART;TZID=Europe/Warsaw:20250131T183000
DTEND;TZID=Europe/Warsaw:20250131T220000
DTSTAMP:20260422T180850
CREATED:20250109T145412Z
LAST-MODIFIED:20250109T145412Z
UID:2551-1738348200-1738360800@dt.fundacjapanagara.pl
SUMMARY:Koncert charytatywny dla Piotra Pepela - BaiKa\, Łukasz Łyczkowski
DESCRIPTION:Zapraszamy na koncert charytatywny\, którego celem jest zebranie środków na rehabilitację dla Piotra Pepela.31.01.2025 Dom Tramwajarza PoznańStart 18:30 Wstęp: 70 zł.Piotr od urodzenia zmaga się z dziecięcym czterokończynowym porażeniem mózgowym. Porusza się na wózku inwalidzkim. Od najmłodszych lat przebywał w szpitalach\, gdzie poddawany był licznym zabiegom operacyjnym\, które miały poprawić jego sprawność.W klinice ortopedycznej im. Prof. Wiktora Degi w Poznaniu spędził kilka lat\, w trakcie których prowadzono diagnostykę jego stanu zdrowia\, przeprowadzono liczne operacje i rozpoczęto żmudną rehabilitację.Dzięki uporowi\, sile walki i mozolnemu wysiłkowi Piotr udowodnił\, że niemożliwe nie istnieje.Dobrzy ludzie umożliwili mu leczenie\, rehabilitację\, mieszkanie i podjęcie zatrudnienia\, dzięki czemu rozpoczął samodzielne życie w Poznaniu patrząc z nadzieją w przyszłość.Niestety stan jego zdrowia bardzo się pogorszył\, pozbawiając go pracy i samodzielności. Każdego dnia Piotr zmaga się z przenikającym bólem i cierpieniem. W niedługim czasie ma zostać poddany operacjom obu nóg. W listopadzie ubiegłego roku stracił czucie w jedynej sprawnej ręce i obecnie wymaga opieki i pomocy. Poddawany szeregowi badań i konsultacji z bezradnością oczekuje na diagnozę. W domu rodzinnym\, który nie jest przystosowany dla osoby z niepełnosprawnościami czeka go wyłącznie egzystencja. Przed Piotrem kolejne badania\, zabiegi i operacje. Dlatego nie możemy pozostać obojętni i dołożymy wszelkich starań\, by Piotrowi ułatwić codzienność i zapewnić odpowiednie leczenie I rehabilitację.W ten wyjątkowy dzień czeka na Was potężna dawka muzyki i niesamowita atmosfera!!!Na scenie wystąpią: – Łukasz Łyczkowski wokalista 5 RANO z projektem solowym!!! Charyzmatyczny wokalista\, który od 20 lat walczy o Rock&Rolla\, rozkochany w klasycznym rocku z lat 70-tych. Łukasz był najlepszym męskim głosem 8 edycji The Voice Of Poland\, w finale zajął 2 miejsce. Występuje z 5 RANO na największych festiwalach zdobywając szereg nagród. Zbierał doświadczenie sceniczne m.in. u boku Leszka Cichońskiego\, z którym nominowany był do nagrody FRYDERYKI za album „Sobą gram” oraz wystąpił na Pol’ and’ Rock. Należy do czołówki wokalistów rockowych w Polsce. W 2022 wydał z 5 RANO trzeci album\, który wciąż zbiera znakomite recenzje\, a dotychczasowe single zebrały ponad 40 milionów wyświetleń w YOUTOUBE. W 2025 Artysta wyda solowy\, autorski album i będzie koncertować wraz z zespołem po całej Polsce. https://youtu.be/FONYyZ3vpRo?si=q4BNn-DQZc0jykI4 https://youtu.be/mEup05AKeSU?si=KA_HLYwLsexgB8dU https://youtu.be/rU78425O-AA?si=Du7ToJ9lfctknglpBAiKA – powstały w 2015 duet gitarzysty i producenta Piotra Banacha\, założyciela i lidera HEY\, INDIOS BRAVOS oraz wokalistki Katarzyny „Kafi” Figaj. W lutym 2018 duet zaprezentował swój debiutancki studyjny album „Byty zależne”\, który został bardzo dobrze przyjęty zarówno przez słuchaczy\, jak i recenzujących go dziennikarzy. Piosenki duetu zaczęły pojawiać się na radiowych listach przebojów\, zdobywając czołowe miejsca między innymi w rockowej rozgłośni Antyradio. Z równym powodzeniem występowali w małych\, kameralnych klubach\, jak i na dużych\, festiwalowych scenach – m.in. Pol’and’Rock i Jarocin Festiwal!!! https://youtu.be/0-TXzmldkpE?si=ESZUE_WipqzDnm4o https://youtu.be/mpZp57YeR64?si=CiJ_V0tGIrAqd7SG https://youtu.be/CEb3QOgyOmw?si=tlfrx-taJ6phh-fqCały dochód z koncertu zostanie przeznaczony na leczenie i rehabilitację Piotra Pepela!Nie moze Was zabraknąć! POMAGAJMY DOBRO WRACA!!! Dziękujemy wszystkim organizatorom\, Klubowi Dom Tramwajarza oraz Artystom – Łukaszowi Łyczkowskiemu i duetowi BAiKE\, bez których ten koncert nie mógłby się odbyć!Zapraszamy Was na prawdziwą muzyczną ucztę!!!Widzimy się 31.01.2025 w Domu Tramwajarza w Poznaniu!Bądźmy razem dla Piotra!
URL:https://dt.fundacjapanagara.pl/wydarzenie/koncert-charytatywny-dla-piotra-pepela-baika-lukasz-lyczkowski/
LOCATION:Dom Tramwajarza\, Słowackiego 19/21\, Poznań\, 60-822\, Poland
CATEGORIES:Koncert
ATTACH;FMTTYPE=image/jpeg:https://dt.fundacjapanagara.pl/wp-content/uploads/2025/01/472683168_8925234590922884_4546392368396326045_n.jpg
END:VEVENT
END:VCALENDAR