BEGIN:VCALENDAR
VERSION:2.0
PRODID:-//Dom Tramwajarza - ECPv6.15.11//NONSGML v1.0//EN
CALSCALE:GREGORIAN
METHOD:PUBLISH
X-ORIGINAL-URL:https://dt.fundacjapanagara.pl
X-WR-CALDESC:Wydarzenia dla Dom Tramwajarza
REFRESH-INTERVAL;VALUE=DURATION:PT1H
X-Robots-Tag:noindex
X-PUBLISHED-TTL:PT1H
BEGIN:VTIMEZONE
TZID:Europe/Warsaw
BEGIN:DAYLIGHT
TZOFFSETFROM:+0100
TZOFFSETTO:+0200
TZNAME:CEST
DTSTART:20230326T010000
END:DAYLIGHT
BEGIN:STANDARD
TZOFFSETFROM:+0200
TZOFFSETTO:+0100
TZNAME:CET
DTSTART:20231029T010000
END:STANDARD
BEGIN:DAYLIGHT
TZOFFSETFROM:+0100
TZOFFSETTO:+0200
TZNAME:CEST
DTSTART:20240331T010000
END:DAYLIGHT
BEGIN:STANDARD
TZOFFSETFROM:+0200
TZOFFSETTO:+0100
TZNAME:CET
DTSTART:20241027T010000
END:STANDARD
BEGIN:DAYLIGHT
TZOFFSETFROM:+0100
TZOFFSETTO:+0200
TZNAME:CEST
DTSTART:20250330T010000
END:DAYLIGHT
BEGIN:STANDARD
TZOFFSETFROM:+0200
TZOFFSETTO:+0100
TZNAME:CET
DTSTART:20251026T010000
END:STANDARD
BEGIN:DAYLIGHT
TZOFFSETFROM:+0100
TZOFFSETTO:+0200
TZNAME:CEST
DTSTART:20260329T010000
END:DAYLIGHT
BEGIN:STANDARD
TZOFFSETFROM:+0200
TZOFFSETTO:+0100
TZNAME:CET
DTSTART:20261025T010000
END:STANDARD
BEGIN:DAYLIGHT
TZOFFSETFROM:+0100
TZOFFSETTO:+0200
TZNAME:CEST
DTSTART:20270328T010000
END:DAYLIGHT
BEGIN:STANDARD
TZOFFSETFROM:+0200
TZOFFSETTO:+0100
TZNAME:CET
DTSTART:20271031T010000
END:STANDARD
END:VTIMEZONE
BEGIN:VEVENT
DTSTART;TZID=Europe/Warsaw:20260420T200000
DTEND;TZID=Europe/Warsaw:20260420T213000
DTSTAMP:20260422T163806
CREATED:20260408T224834Z
LAST-MODIFIED:20260408T224835Z
UID:3031-1776715200-1776720600@dt.fundacjapanagara.pl
SUMMARY:Stary numer - spektakl Nagle Teatru
DESCRIPTION:Przypadkowe (?) zajrzenie w telefon ukochanej osoby prowadzi do odkrycia brutalnej prawdy. Czy lepiej było nie wiedzieć? Magda szykuje się do pracy\, w której pełni ważną funkcję\, a Olga pracuje z domu. Co to za praca\, o co kłócą się dziewczyny i czego chcą ludzie odwiedzający Olgę po wyjściu Magdy? Zaskakująca komedia inspirowana życiem\, a to oznacza\, że możesz na scenie zobaczyć osoby\, które dobrze znasz\, a może tylko Ci się wydaje\, że znasz… Sprawdź\, czy nie ma tam Ciebie.\nOBSADA:Asia KrasińskaWeronika OlszewskaPatrycja KasperczakKamil MaciejewskiDamian WołowskiKatarzyna KozaneckaJakub Sajkowski\nSCENARIUSZ I REŻYSERIA:Anna Kapczyńska-Martínez\nBilety – 30 zł (do 12.04) i 35 zł (po 12.04)
URL:https://dt.fundacjapanagara.pl/wydarzenie/stary-numer-spektakl-nagle-teatru/
LOCATION:Dom Tramwajarza sala Piccolo – Pan Gar\, ul. Słowackiego 19/21\, Poznań\, wielkopolskie\, Poland
CATEGORIES:Spektakl
ATTACH;FMTTYPE=image/jpeg:https://dt.fundacjapanagara.pl/wp-content/uploads/2026/04/645915310_122269356266179037_993381595591752092_n.jpg
END:VEVENT
BEGIN:VEVENT
DTSTART;TZID=Europe/Warsaw:20260220T190000
DTEND;TZID=Europe/Warsaw:20260220T203000
DTSTAMP:20260422T163806
CREATED:20260217T115709Z
LAST-MODIFIED:20260217T115709Z
UID:2997-1771614000-1771619400@dt.fundacjapanagara.pl
SUMMARY:Po trupie do celi - spektakl grupy Nagle Teatr
DESCRIPTION:Pierogi\, nalewka\, ksiądz\, siostra zakonna\, gospodynie i… trup. Co miało być miłą dyskusją o literaturze\, zmienia się w scenę rodem z Agathy Christie\, podaną z solidną porcją humoru. „Po trupie do celi” bawi absurdem\, igra z konwencją kryminału i przywołuje atmosferę kultowego „Co ludzie powiedzą”. A jaki w tym wszystkim udział ma Karel Gott? Przekonaj się na własne oczy\, że na wsi nic nie jest tak niewinne\, jak wygląda.\nScenariusz: Anna Kapczyńska-MartínezReżyseria: Julita BanaśkiewiczChoreografia: Antoni TomaszewskiKostiumy: Marta Stajkowska\nWystępują:Aleksandra JednaszewskaSeverin PacholczykAgata ŻywicaMarta StajkowskaGrzegorz TomaszewskiAnna Kapczyńska- Martínez
URL:https://dt.fundacjapanagara.pl/wydarzenie/po-trupie-do-celi-spektakl-grupy-nagle-teatr/
LOCATION:Dom Tramwajarza sala Piccolo – Pan Gar\, ul. Słowackiego 19/21\, Poznań\, wielkopolskie\, Poland
CATEGORIES:Spektakl,Spektakle
ATTACH;FMTTYPE=image/jpeg:https://dt.fundacjapanagara.pl/wp-content/uploads/2026/02/633560467_122266784678179037_1061020552173614567_n.jpg
END:VEVENT
BEGIN:VEVENT
DTSTART;TZID=Europe/Warsaw:20250510T120000
DTEND;TZID=Europe/Warsaw:20250510T130000
DTSTAMP:20260422T163807
CREATED:20250429T114829Z
LAST-MODIFIED:20250429T114829Z
UID:2665-1746878400-1746882000@dt.fundacjapanagara.pl
SUMMARY:Wędrówka do Panamy - spektakl dla dzieci Teatru Złota Kaczka / Dom Tramwajarza
DESCRIPTION:Serdecznie zapraszamy na lalkowy spektakl dla dzieci „Wędrówka do Panamy” w wykonaniu Teatru Złota Kaczka!\nKIEDY?10 maja – sobota – godz. 12.00GDZIE?Dom Tramwajarza – ul. Słowackiego 19/21 – Sala AmarantowaBILETY: (dostępne na platformie Kicket)– dziecięcy – 15 zł (do 10 roku życia)– normalny – 20 zł\nSpektakl „Wędrówka do Panamy” Jest to opowieść o podróży dwóch przyjaciół – niedźwiedzia i tygrysa – do Panamy\, krainy ich marzeń.\nW czasie tej wędrówki spotykają oni mysz\, lisa\, krowę\, zająca z jeżem oraz wronę.Na koniec okazuje się\, że ta wyśniona przez nich kraina z marzeń to nic innego\, jak ich własny dom\, w którym dotąd mieszkali. Nic innego\, jak rzeka\, w której łowili ryby\, las\, w którym zbierali grzyby.\nMożna zatem powiedzieć\, że to\, co wymarzone i wyśnione mamy tu\, gdzie żyjemy.I jedyne\, czego potrzebujemy\, to samemu się o tym przekonać.\nczas trwania – ok. 45 minut
URL:https://dt.fundacjapanagara.pl/wydarzenie/wedrowka-do-panamy-spektakl-dla-dzieci-teatru-zlota-kaczka-dom-tramwajarza/
LOCATION:Dom Tramwajarza Sala Amarantowa\, Słowackiego 19/21\, Poznań\, wielkopolskie\, 60-822\, Poland
CATEGORIES:Spektakle
ATTACH;FMTTYPE=image/png:https://dt.fundacjapanagara.pl/wp-content/uploads/2025/04/wedrowka-do-PAnamy-baner.png
END:VEVENT
BEGIN:VEVENT
DTSTART;TZID=Europe/Warsaw:20250411T190000
DTEND;TZID=Europe/Warsaw:20250411T203000
DTSTAMP:20260422T163807
CREATED:20250401T143947Z
LAST-MODIFIED:20250401T143947Z
UID:2653-1744398000-1744403400@dt.fundacjapanagara.pl
SUMMARY:27B - spektakl Pauli Głowackiej
DESCRIPTION:Zapraszamy na spektakl w reżyserii Pauli Głowackiej „𝟮𝟳𝗕”.\n 11 kwietnia – piątek – godz. 19.00 Dom Tramwajarza / Słowackiego 19/21 bilety : 49 zł – dostępne na platformie Kicket:https://kicket.com/wydarzenia/27b-spektakl-w-rez-pauli-glowackiej-25210\n\n27B to spektakl performatywny\, który wykorzystując elementy biograficzne oraz twórczość czwórki artystów z tak zwanego „klubu 27” prowadzi widza przez meandry psychiki kobiety zmagającej się z zaburzeniami osobowości. Przepełniony emocjami\, poczuciem humoru i muzyką godzinny obraz\, wykorzystuje elementy spektaklu teatralnego\, sztuk performatywnych i kameralnego koncertu\, by zaangażować widza i zwrócić uwagę na trudności\, jakimi często stawiają czoła bardzo wrażliwi artyści. Muzyka jest elementem przeprowadzającym odbiorcę przez historię zawirowań emocjonalnych młodej artystki.(opis twórców)\n“Artystka przeplata ze sobą coś\, co na potrzeby tego tekstu nazwałabym płaszczyzną estradową”\, z “płaszczyzną intymną”. Ta pierwsza byłaby związana z wariantem osobowości bohaterki\, który nastawiony jest na relację z widzem. W tych momentach artystka zwraca się bezpośrednio do publiczności. Stara się pokazać przebojowe cechy swojej osobowości – zabawia publiczność\, wzrusza anegdotą\, oczarowuje śpiewem. (…) podobnego dylematu wobec spektaklu “27B” nie mam i ufam Głowackiej\, że jej reaserch (być może) własne doświadczenia miały pomóc naświetlić oraz zgłębić problem zaburzeń psychicznych. (…) Niezależnie od zachowania artystki\, gitarzysta pozostaje milczący\, czasem odwraca wzrok\, spuszcza go na podłogę lub zajmuje się instrumentem. Zestawienie jego stoicyzmu ze skrajnym zachowaniem wokalistki wytwarza w spektaklu interesującą dla widza płaszczyznę odbioru. (..) Gdyby przyłożyć do spektaklu Głowackiej kalkę z życia Cobaina\, Winehouse czy Joplin\, może kupowanie biletów na ich koncerty byłoby takim właśnie symbolicznym podaniem mikrofonu zamiast pomocnej dłoni?”fragment recenzji (Julia Niedziejko)
URL:https://dt.fundacjapanagara.pl/wydarzenie/27b-spektakl-pauli-glowackiej/
LOCATION:Dom Tramwajarza Sala Amarantowa\, Słowackiego 19/21\, Poznań\, wielkopolskie\, 60-822\, Poland
CATEGORIES:Spektakl,Spektakle
ATTACH;FMTTYPE=image/jpeg:https://dt.fundacjapanagara.pl/wp-content/uploads/2025/04/483487871_643665348372051_2194445156287829183_n.jpg
END:VEVENT
BEGIN:VEVENT
DTSTART;TZID=Europe/Warsaw:20250317T190000
DTEND;TZID=Europe/Warsaw:20250317T210000
DTSTAMP:20260422T163807
CREATED:20250306T130155Z
LAST-MODIFIED:20250306T130155Z
UID:2635-1742238000-1742245200@dt.fundacjapanagara.pl
SUMMARY:Escape Room - spektakl Nagle Teatru w Domu Tramwajarza
DESCRIPTION:Dwa zaprzyjaźnione ze sobą małżeństwa spotykają się w Escape Roomie\, który powstał w ich bloku na prestiżowym osiedlu „Tarasy Jeżyc”. Spodziewają się niebanalnej rozrywki i miłego spędzenia czasu\, ale podczas rozwiązywania zagadek puszczają nerwy i na jaw wychodzą tajemnice\, które nigdy nie miały ujrzeć światła dziennego…\nWYSTĘPUJĄ:Paulina ChmielaAdrianna KrupskaKamil KrynicaKamil Maciejewski\nGŁOSÓW UŻYCZYLI:Jakub DryjaAdam KałużnyWeronika Olszewska\nNADZÓR TECHNICZNY: Robert SidorowiczSCENARIUSZ I REŻYSERIA: Anna Kapczyńska i Kamil Krynica
URL:https://dt.fundacjapanagara.pl/wydarzenie/escape-room-spektakl-nagle-teatru-w-domu-tramwajarza/
LOCATION:wielkopolskie
CATEGORIES:Spektakl,Spektakle
ATTACH;FMTTYPE=image/jpeg:https://dt.fundacjapanagara.pl/wp-content/uploads/2025/03/480998463_122207194388179037_4389174723764918746_n.jpg
END:VEVENT
BEGIN:VEVENT
DTSTART;TZID=Europe/Warsaw:20240927T180000
DTEND;TZID=Europe/Warsaw:20240927T200000
DTSTAMP:20260422T163807
CREATED:20240906T112722Z
LAST-MODIFIED:20240906T112722Z
UID:2364-1727460000-1727467200@dt.fundacjapanagara.pl
SUMMARY:SłowoTok - spektakl Teatru Soma - Dom Tramwajarza
DESCRIPTION:„(…)nie ma ucieczki przed gębą\, jak tylko w inną gębę\, a przed człowiekiem schronić się można jedynie w objęcia innego człowieka. Przed pupą zaś w ogóle nie ma ucieczki”.\n\nZapraszamy na spektakl „SłowoTok” Teatru Soma do Domu Tramwajarza:\n 27 września – piątek – godz. 18.00 Dom Tramwajarza – ul. Słowackiego 19/21 – Poznań bilety: 30 zł – https://zrzutka.pl/856j4y\n\n„SłowoTok” to spektakl inspirowany powieścią „Ferdydurke” Witolda Gombrowicza\, który poprzez pantomimę i teatr ruchu przedstawia historię głównego bohatera\, trzydziestoletniego Józia\, zagubionego w poszukiwaniu własnej tożsamości. Przeplatając elementy absurdu i groteski\, aktorzy ukazują wewnętrzne konflikty bohatera oraz jego nieustanną walkę ze społecznymi oczekiwaniami i normami\, zamykając go w różnych formach\, często dla niego niewygodnych. „SłowoTok” pozwala widzowi zanurzyć się w surrealistycznym świecie Gombrowicza\, gdzie granice między rzeczywistością a fantazją stają się coraz bardziej rozmyte. Dzięki językowi pantomimy “słowa w toku” stają się jeszcze bardziej dosadne\, ale też dające wiele nowych interpretacji. Jak zatem na pozór dwie nieprzystające do siebie sztuki: sztuka słowa\, która jest charakterystyczna dla Gombrowiczowskiego upupionego świata i język pantomimy oraz abstrakcyjne formy teatru ruchu miałyby się spotkać? Tę zagadkę postaramy się rozwikłać już podczas premiery naszego spektaklu!\n\nCzy słowa posiadają najwięcej sensu a może sens leży u podstaw gestów\, mimik i ekspresji ciała? Uważa się\, że słowami można kłamać\, a czy ciałem też? Czy Józio nasz główny bohater poradzi sobie z wyzwaniami\, jakie niesie za sobą forma ciała i forma słowa? Co będzie dla niego autentycznym nośnikiem treści? Czy odnajdzie prawdę o sobie w świecie gęby i upupienia? Dowiecie się już niebawem podczas premiery “SłowoTok’u”
URL:https://dt.fundacjapanagara.pl/wydarzenie/slowotok-spektakl-teatru-soma-dom-tramwajarza/
LOCATION:Dom Tramwajarza\, Słowackiego 19/21\, Poznań\, 60-822\, Poland
CATEGORIES:Spektakle
ATTACH;FMTTYPE=image/png:https://dt.fundacjapanagara.pl/wp-content/uploads/2024/09/slowotok-baner.png
END:VEVENT
BEGIN:VEVENT
DTSTART;TZID=Europe/Warsaw:20240923T200000
DTEND;TZID=Europe/Warsaw:20240923T220000
DTSTAMP:20260422T163807
CREATED:20240906T113539Z
LAST-MODIFIED:20240906T113539Z
UID:2370-1727121600-1727128800@dt.fundacjapanagara.pl
SUMMARY:Escape Room - spektakl teatru Nagle Teatr
DESCRIPTION:Dwa zaprzyjaźnione ze sobą małżeństwa spotykają się w Escape Roomie\, który powstał w ich bloku na prestiżowym osiedlu „Tarasy Jeżyc”. Spodziewają się niebanalnej rozrywki i miłego spędzenia czasu\, ale podczas rozwiązywania zagadek puszczają nerwy i na jaw wychodzą tajemnice\, które nigdy nie miały ujrzeć światła dziennego…\nUWAGA Spektakl dla widzów dorosłych o mocnej konstrukcji psychicznej\, otwartych na trudne i drażliwe tematy\nWstęp bezpłatny\, ale obowiązuje rezerwacja miejsc – TYLKO PRZEZ FORMULARZ:\nhttps://forms.gle/RkJZ7a2qDtstMbHf8\nOBSADA:Paulina ChmielaAdrianna KrupskaKamil MaciejewskiKamil Krynica\nGŁOSÓW UŻYCZYLI:Jakub DryjaAdam KałużnyWeronika Olszewska\nSCENOGRAFIA: Marta StajkowskaNADZÓR TECHNICZNY: Robert Sidorowicz\nSCENARIUSZ I REŻYSERIA: Anna Kapczyńska i Kamil Krynica\nProjekt dofinansowany ze środków budżetowych Miasta Poznania
URL:https://dt.fundacjapanagara.pl/wydarzenie/escape-room-spektakl-teatru-nagle-teatr/
LOCATION:Dom Tramwajarza Sala Amarantowa\, Słowackiego 19/21\, Poznań\, wielkopolskie\, 60-822\, Poland
CATEGORIES:Spektakl
ATTACH;FMTTYPE=image/jpeg:https://dt.fundacjapanagara.pl/wp-content/uploads/2024/09/455012097_507537291815326_6409339807034510230_n.jpg
END:VEVENT
BEGIN:VEVENT
DTSTART;TZID=Europe/Warsaw:20240915T120000
DTEND;TZID=Europe/Warsaw:20240915T130000
DTSTAMP:20260422T163807
CREATED:20240822T090132Z
LAST-MODIFIED:20240822T090132Z
UID:2340-1726401600-1726405200@dt.fundacjapanagara.pl
SUMMARY:Podróżniczki w czasie - spektakl familijny Teatru Pantomimka
DESCRIPTION:Serdecznie zapraszamy na pełen przygód\, niezwykle barwny i piękny spektakl dla całych rodzin „Podróżniczki w czasie” teatru Pantomimka!\n\n 15 września – niedziela – godzina 12.00 Dom Tramwajarza – ul. Słowackiego 19/21\, Poznań bilety : 15 zł – dostępne na platformie GoOut – https://goout.net/pl/bilety/podrozniczki-w-czasie/rxyy/\n\nSpektakl opowiada o podróżniczkach\, które stoją na straży linii czasowej. Jednak\, gdy czas zostaje zaburzony\, przemierzają niezliczone epoki\, by dzięki swej niezwykłej bystrości i naukowemu podejściu naprawić bieg wydarzeń. Zwiedzają odległe krainy z przeszłości\, w których poznają obyczaje i kulturyówczesnych ludzi.\nPodróżniczki próbują odkryć zagadkę marnowania czasu przez obecnych\, współczesnych ludzi.Czy znajdą odpowiedź podróżując do innych epok?Jakie przygody spotkają podróżniczki przekonacie się podczas 40 minutowej muzycznej opowieści Epruwetki i Terpentynki.\n\n„Podróżniczki w czasie”\nreż. Patrycja Kozyrascenariusz: Pamela Kokotmuzyka: Joanna Jewuła\nwystępują:Natalia Mazurczak\,Patrycja Kozyra\,Oliwier Korejwo\n\nSerdecznie zapraszamy!!\nWydarzenie współfinansowane ze środków budżetowych miasta Poznania oraz Rady Osiedla Jeżyce.#poznanwspiera
URL:https://dt.fundacjapanagara.pl/wydarzenie/podrozniczki-w-czasie-spektakl-familijny-teatru-pantomimka/
LOCATION:Dom Tramwajarza Sala Amarantowa\, Słowackiego 19/21\, Poznań\, wielkopolskie\, 60-822\, Poland
CATEGORIES:Spektakl
ATTACH;FMTTYPE=image/png:https://dt.fundacjapanagara.pl/wp-content/uploads/2024/08/podrozniczki-w-czasie.png
END:VEVENT
BEGIN:VEVENT
DTSTART;TZID=Europe/Warsaw:20240701T200000
DTEND;TZID=Europe/Warsaw:20240701T220000
DTSTAMP:20260422T163807
CREATED:20240621T133154Z
LAST-MODIFIED:20240621T133154Z
UID:2210-1719864000-1719871200@dt.fundacjapanagara.pl
SUMMARY:"Spróbujmy jeszcze raz" - spektakl komediowy z Lucyną Malec i Markiem Siudymem
DESCRIPTION:Zapraszamy na rewelacyjną komedię „Spróbujmy jeszcze raz” w reżyserii Marcina Sławińskiego z Lucyną Malec i Markiem Siudymem w rolach głównych!\n\n1 lipca – poniedziałek – godz. 20.00Dom Tramwajarza – ul. Słowackiego 19/21 – PoznańBilety : 100 zł – do nabycia na platformie GoOut: https://goout.net/pl/sprobujmy-jeszcze-raz/szbpqfx/oraz w Domu Tramwajarza!\n\nŚwiatowy przebój\, znany dobrze również z polskich scen\, który rozśmieszy Was do łez – sztuka Murraya Schisgala (nominowanego do Oscara za scenariusz do „Tootsie”) opowiada perypetie byłej pary\, która spotyka się po latach i postanawia spróbować jeszcze raz. Jak im się to uda?\nSalwy śmiechu\, błyskotliwe dialogi i odrobina refleksji o towarzyszących nam sinusoidach uczuć. Znakomite kreacje 𝐋𝐮𝐜𝐲𝐧𝐲 𝐌𝐚𝐥𝐞𝐜 („KOC – komiczny odcinek cykliczny”\, „Mój Nikifor”\, „Na Wspólnej”) oraz 𝐌𝐚𝐫𝐤𝐚 𝐒𝐢𝐮𝐝𝐲𝐦𝐚 („Miś”\, „Zmiennicy”\, „Lokatorzy”) gwarantują wyśmienitą zabawę! A jako głos doktora Oliovsky’ego usłyszymy samego 𝐉𝐚𝐧𝐚 𝐊𝐨𝐛𝐮𝐬𝐳𝐞𝐰𝐬𝐤𝐢𝐞𝐠𝐨\n\nTego spektaklu NIE MOŻECIE przegapić!\n\nMurray F. Schisgal:\n„Spróbujmy jeszcze raz”\ntłumaczenie: Bożena Sławińska\nreżyseria : Marcin Sławiński\nscenografia : Wojciech Stefaniak\nkostiumy : Joanna Snopek\nzdjęcia: Rafał Olejniczak\nProducent : Joanna Cywińska
URL:https://dt.fundacjapanagara.pl/wydarzenie/sprobujmy-jeszcze-raz-spektakl-komediowy-z-lucyna-malec-i-markiem-siudymem/
LOCATION:Dom Tramwajarza Sala Amarantowa\, Słowackiego 19/21\, Poznań\, wielkopolskie\, 60-822\, Poland
CATEGORIES:Spektakl
ATTACH;FMTTYPE=image/jpeg:https://dt.fundacjapanagara.pl/wp-content/uploads/2024/06/446917006_449636047774983_8341832865546207154_n.jpg
END:VEVENT
BEGIN:VEVENT
DTSTART;TZID=Europe/Warsaw:20240622T190000
DTEND;TZID=Europe/Warsaw:20240622T220000
DTSTAMP:20260422T163807
CREATED:20240621T140718Z
LAST-MODIFIED:20240621T140718Z
UID:2229-1719082800-1719093600@dt.fundacjapanagara.pl
SUMMARY:SłowoTok - spektakl Teatru SOMA na podstawie "Ferdydurke" Witolda Gombrowicza
DESCRIPTION:„(…)nie ma ucieczki przed gębą\, jak tylko w inną gębę\, a przed człowiekiem schronić się można jedynie w objęcia innego człowieka. Przed pupą zaś w ogóle nie ma ucieczki”.Witold Gombrowicz\n\n„SłowoTok” to spektakl inspirowany powieścią „Ferdydurke” Witolda Gombrowicza\, który poprzez pantomimę i teatr ruchu przedstawia historię głównego bohatera\, trzydziestoletniego Józia\, zagubionego w poszukiwaniu własnej tożsamości. Przeplatając elementy absurdu i groteski\, aktorzy ukazują wewnętrzne konflikty bohatera oraz jego nieustanną walkę ze społecznymi oczekiwaniami i normami\, zamykając go w różnych formach\, często dla niego niewygodnych. „SłowoTok” pozwala widzowi zanurzyć się w surrealistycznym świecie Gombrowicza\, gdzie granice między rzeczywistością a fantazją stają się coraz bardziej rozmyte. Dzięki językowi pantomimy “słowa w toku” stają się jeszcze bardziej dosadne\, ale też dające wiele nowych interpretacji. Jak zatem na pozór dwie nieprzystające do siebie sztuki: sztuka słowa\, która jest charakterystyczna dla Gombrowiczowskiego upupionego świata i język pantomimy oraz abstrakcyjne formy teatru ruchu miałyby się spotkać? Tę zagadkę postaramy się rozwikłać już podczas premiery naszego spektaklu!Czy słowa posiadają najwięcej sensu a może sens leży u podstaw gestów\, mimik i ekspresji ciała? Uważa się\, że słowami można kłamać\, a czy ciałem też? Czy Józio nasz główny bohater poradzi sobie z wyzwaniami\, jakie niesie za sobą forma ciała i forma słowa? Co będzie dla niego autentycznym nośnikiem treści? Czy odnajdzie prawdę o sobie w świecie gęby i upupienia? Dowiecie się już niebawem podczas premiery “SłowoTok’u”.Spektakl jest realizowany przez adeptów rocznego kursu Studia Ruchu SOMA.\n\nreż. Natalia Mazurczak & Patrycja Kozyrascenografia: Wiktoria Gazdawystępują:Wojtek KlimowiczGabi SadowskaJakub JaskułaJoanna PietrowiczKasia BurzykowskaLena BiałkowskaMagdalena KłodnickaNatalia MazurczakPatrycja Kozyragościnnie: Krzysztof Podsiadło\n\nKiedy?22 czerwca 2024 r.Gdzie?w Domu Tramwajarza (sala Amarantowa)\, na Jeżycach w Poznaniu\, ul. Słowackiego 19/21\nBilety:\n30 zł – https://zrzutka.pl/pr6mwj\n\nTeatr SOMA działający pod egidą Fundacji Obszar Działań Twórczych SOMA i Studia Ruchu SOMA to projekt\, który zrzesza wielu sympatyków sztuki teatru fizycznego.\n\nNasz teatr tworzymy od postaw z wielkim zaangażowaniem. Atutem jest przede wszystkim sposób ukazywania świata przedstawionego w sposób pozawerbalny\, a więc za pomocą gestu\, mimiki i ekspresji cielesnej.Projekt ten tworzą między innymi mimowie\, kuglarze\, tancerze oraz aktorzy\, co pozwala widzieć sztukę z wielu perspektyw.\n\nCo robimy?\n\nJako młoda grupa teatralna\, tym bardziej\, że związana z mało znanym rodzajem sztuki jakim jest pantomima i teatr ruchu\, chcemy rozpowszechniać jej piękno w całej Polsce.\n\nPremiera SłowoToku będzie wyjątkowa! Dlaczego? Bo postanowiłyśmy wesprzeć naszego kolegę ze studiów.Piotr Wróblewski\, z którym uczęszczałyśmy do SkiBY – Pomaturalnej Szkoły Animatorów Kultury we Wrocławiu jakiś czas temu miał wypadek\, dlatego też postanowiłyśmy go wesprzeć i tym samym 10% ze sprzedaży biletów przeznaczone zostanie na rehabilitację Piotra. Mamy nadzieję\, że Piotrek szybko wróci do zdrowia i będzie mógł kontynuować swoje plany i spełniać marzenia.Życzymy Ci dużo zdrowia!Natalia i Pati!\nBILETY do kupienia na portalu zrzutka.plprzy rezerwacji prosimy wybrać w opcjach nagrodę – bilet.Do wyboru bilet studencki/szkolny lub zwykły.U organizatora pojawi się wówczas informacja o rezerwacji miejsca.
URL:https://dt.fundacjapanagara.pl/wydarzenie/slowotok-spektakl-teatru-soma-na-podstawie-ferdydurke-witolda-gombrowicza/
LOCATION:Dom Tramwajarza Sala Amarantowa\, Słowackiego 19/21\, Poznań\, wielkopolskie\, 60-822\, Poland
CATEGORIES:Spektakle
ATTACH;FMTTYPE=image/jpeg:https://dt.fundacjapanagara.pl/wp-content/uploads/2024/06/446881324_770219295222099_49250804051921512_n.jpg
END:VEVENT
END:VCALENDAR