BEGIN:VCALENDAR
VERSION:2.0
PRODID:-//Dom Tramwajarza - ECPv6.15.11//NONSGML v1.0//EN
CALSCALE:GREGORIAN
METHOD:PUBLISH
X-WR-CALNAME:Dom Tramwajarza
X-ORIGINAL-URL:https://dt.fundacjapanagara.pl
X-WR-CALDESC:Wydarzenia dla Dom Tramwajarza
REFRESH-INTERVAL;VALUE=DURATION:PT1H
X-Robots-Tag:noindex
X-PUBLISHED-TTL:PT1H
BEGIN:VTIMEZONE
TZID:Europe/Warsaw
BEGIN:DAYLIGHT
TZOFFSETFROM:+0100
TZOFFSETTO:+0200
TZNAME:CEST
DTSTART:20240331T010000
END:DAYLIGHT
BEGIN:STANDARD
TZOFFSETFROM:+0200
TZOFFSETTO:+0100
TZNAME:CET
DTSTART:20241027T010000
END:STANDARD
BEGIN:DAYLIGHT
TZOFFSETFROM:+0100
TZOFFSETTO:+0200
TZNAME:CEST
DTSTART:20250330T010000
END:DAYLIGHT
BEGIN:STANDARD
TZOFFSETFROM:+0200
TZOFFSETTO:+0100
TZNAME:CET
DTSTART:20251026T010000
END:STANDARD
BEGIN:DAYLIGHT
TZOFFSETFROM:+0100
TZOFFSETTO:+0200
TZNAME:CEST
DTSTART:20260329T010000
END:DAYLIGHT
BEGIN:STANDARD
TZOFFSETFROM:+0200
TZOFFSETTO:+0100
TZNAME:CET
DTSTART:20261025T010000
END:STANDARD
BEGIN:DAYLIGHT
TZOFFSETFROM:+0100
TZOFFSETTO:+0200
TZNAME:CEST
DTSTART:20270328T010000
END:DAYLIGHT
BEGIN:STANDARD
TZOFFSETFROM:+0200
TZOFFSETTO:+0100
TZNAME:CET
DTSTART:20271031T010000
END:STANDARD
END:VTIMEZONE
BEGIN:VEVENT
DTSTART;TZID=Europe/Warsaw:20260420T200000
DTEND;TZID=Europe/Warsaw:20260420T213000
DTSTAMP:20260422T181558
CREATED:20260408T224834Z
LAST-MODIFIED:20260408T224835Z
UID:3031-1776715200-1776720600@dt.fundacjapanagara.pl
SUMMARY:Stary numer - spektakl Nagle Teatru
DESCRIPTION:Przypadkowe (?) zajrzenie w telefon ukochanej osoby prowadzi do odkrycia brutalnej prawdy. Czy lepiej było nie wiedzieć? Magda szykuje się do pracy\, w której pełni ważną funkcję\, a Olga pracuje z domu. Co to za praca\, o co kłócą się dziewczyny i czego chcą ludzie odwiedzający Olgę po wyjściu Magdy? Zaskakująca komedia inspirowana życiem\, a to oznacza\, że możesz na scenie zobaczyć osoby\, które dobrze znasz\, a może tylko Ci się wydaje\, że znasz… Sprawdź\, czy nie ma tam Ciebie.\nOBSADA:Asia KrasińskaWeronika OlszewskaPatrycja KasperczakKamil MaciejewskiDamian WołowskiKatarzyna KozaneckaJakub Sajkowski\nSCENARIUSZ I REŻYSERIA:Anna Kapczyńska-Martínez\nBilety – 30 zł (do 12.04) i 35 zł (po 12.04)
URL:https://dt.fundacjapanagara.pl/wydarzenie/stary-numer-spektakl-nagle-teatru/
LOCATION:Dom Tramwajarza sala Piccolo – Pan Gar\, ul. Słowackiego 19/21\, Poznań\, wielkopolskie\, Poland
CATEGORIES:Spektakl
ATTACH;FMTTYPE=image/jpeg:https://dt.fundacjapanagara.pl/wp-content/uploads/2026/04/645915310_122269356266179037_993381595591752092_n.jpg
END:VEVENT
BEGIN:VEVENT
DTSTART;TZID=Europe/Warsaw:20260412T190000
DTEND;TZID=Europe/Warsaw:20260412T210000
DTSTAMP:20260422T181558
CREATED:20260408T224543Z
LAST-MODIFIED:20260408T224543Z
UID:3028-1776020400-1776027600@dt.fundacjapanagara.pl
SUMMARY:Seans - PREMIERA Nagle Teatru - czarna komedia
DESCRIPTION:Maria całe życie skrywa pewną tajemnicę i liczy na to\, że uda jej się zabrać ją ze sobą do grobu. Nie wie\, że jej najbliżsi też mają coś na sumieniu. Rozczarowana małżeństwem i niezadowolona z dzieci\, jest przekonana\, że nic ją już w życiu nie czeka. Chce się przygotować na swoje kulminacyjne show\, więc trenuje umieranie. Nie zamierza odchodzić z tego świata byle jak\, tylko z gracją\, umalowana\, ufryzowana i w najlepszej koszuli nocnej. Ale się nie spodziewa takiego finału…\nOBSADA:Krystyna KasperskaMagdalena BorMarcin KwiatkowskiMagdalena LechMikołaj LanzberczakIga Miłowicz\nSCENARIUSZ I REŻYSERIA: Anna Kapczyńska-Martínez\nBILETY: 30 zł (do 31.03)35 zł (po 31.03)
URL:https://dt.fundacjapanagara.pl/wydarzenie/seans-premiera-nagle-teatru-czarna-komedia/
LOCATION:Dom Tramwajarza sala Piccolo – Pan Gar\, ul. Słowackiego 19/21\, Poznań\, wielkopolskie\, Poland
CATEGORIES:Spektakl
ATTACH;FMTTYPE=image/jpeg:https://dt.fundacjapanagara.pl/wp-content/uploads/2026/04/668510115_122274224990179037_5061115073141214347_n.jpg
END:VEVENT
BEGIN:VEVENT
DTSTART;TZID=Europe/Warsaw:20260220T190000
DTEND;TZID=Europe/Warsaw:20260220T203000
DTSTAMP:20260422T181558
CREATED:20260217T115709Z
LAST-MODIFIED:20260217T115709Z
UID:2997-1771614000-1771619400@dt.fundacjapanagara.pl
SUMMARY:Po trupie do celi - spektakl grupy Nagle Teatr
DESCRIPTION:Pierogi\, nalewka\, ksiądz\, siostra zakonna\, gospodynie i… trup. Co miało być miłą dyskusją o literaturze\, zmienia się w scenę rodem z Agathy Christie\, podaną z solidną porcją humoru. „Po trupie do celi” bawi absurdem\, igra z konwencją kryminału i przywołuje atmosferę kultowego „Co ludzie powiedzą”. A jaki w tym wszystkim udział ma Karel Gott? Przekonaj się na własne oczy\, że na wsi nic nie jest tak niewinne\, jak wygląda.\nScenariusz: Anna Kapczyńska-MartínezReżyseria: Julita BanaśkiewiczChoreografia: Antoni TomaszewskiKostiumy: Marta Stajkowska\nWystępują:Aleksandra JednaszewskaSeverin PacholczykAgata ŻywicaMarta StajkowskaGrzegorz TomaszewskiAnna Kapczyńska- Martínez
URL:https://dt.fundacjapanagara.pl/wydarzenie/po-trupie-do-celi-spektakl-grupy-nagle-teatr/
LOCATION:Dom Tramwajarza sala Piccolo – Pan Gar\, ul. Słowackiego 19/21\, Poznań\, wielkopolskie\, Poland
CATEGORIES:Spektakl,Spektakle
ATTACH;FMTTYPE=image/jpeg:https://dt.fundacjapanagara.pl/wp-content/uploads/2026/02/633560467_122266784678179037_1061020552173614567_n.jpg
END:VEVENT
BEGIN:VEVENT
DTSTART;TZID=Europe/Warsaw:20251230T190000
DTEND;TZID=Europe/Warsaw:20251230T200000
DTSTAMP:20260422T181558
CREATED:20251208T092140Z
LAST-MODIFIED:20251208T092140Z
UID:2909-1767121200-1767124800@dt.fundacjapanagara.pl
SUMMARY:Something Completely FRANTIC! - Romano D. Franto - spektakl w Panu Garze
DESCRIPTION:A teraz coś z zupełnie innej beczki!W przedostatni dzień roku zapraszamy na komediowy monodram w wykonaniu Romano D. Franto – „Something Completely FRANTIC!”\n\n 30 grudnia – wtorek – godz. 19.00 Dom Tramwajarza – ul. Słowackiego 19/21 – Pan Gar bilety: 25 zł\n\n„SOMETHING COMPLETELY FRANTIC!” to absurdalny monodram cyrkowo-komediowy oparty na krótkich scenkach i płynnych transformacjach głównego bohatera. Karuzela postaci prowadzi nas przez abstrakcyjny\, szalony\, a czasem głęboko filozoficzny krajobraz ludzkiej psychiki. Romano D. Franto – ekscentryczny komik\, błazen i muzyk z Chorwacji. Zajmuje się muzyką\, aktorstwem\, pantomimą oraz cyrkowym storytellingiem z nutą groteski. Prowadzi warsztaty „Art of nothing” i „Mind’fool’ness”. Instagram\, YouTube\, Facebook\, TikTok: Romano D. Franto (Frantic)
URL:https://dt.fundacjapanagara.pl/wydarzenie/something-completely-frantic-romano-d-franto-spektakl-w-panu-garze/
LOCATION:Dom Tramwajarza sala Piccolo – Pan Gar\, ul. Słowackiego 19/21\, Poznań\, wielkopolskie\, Poland
CATEGORIES:Spektakl
ATTACH;FMTTYPE=image/png:https://dt.fundacjapanagara.pl/wp-content/uploads/2025/12/frantic-baner.png
END:VEVENT
BEGIN:VEVENT
DTSTART;TZID=Europe/Warsaw:20250516T183000
DTEND;TZID=Europe/Warsaw:20250516T200000
DTSTAMP:20260422T181558
CREATED:20250429T120357Z
LAST-MODIFIED:20250429T120357Z
UID:2677-1747420200-1747425600@dt.fundacjapanagara.pl
SUMMARY:Niedoczas - spektakl teatru Soma w Domu Tramwajarza
DESCRIPTION: Zapraszamy na wyjątkowy spektakl „Niedoczas” \nCzy zastanawialiście się kiedyś\, jak często wpadając w wir codziennych obowiązków\, gubimy poczucie pełni życia? „Niedoczas” to poruszająca opowieść o tym\, jak brak czasu i nieustanny pośpiech uniemożliwiają nam czerpanie z życia tego\, co najważniejsze.\nW dzisiejszym świecie żyjemy na pełnych obrotach\, ścigając się z czasem i nie zdając sobie sprawy\, że każda chwila jest bezcenna. Czy zastanawialiście się\, ile tracimy\, kiedy nie potrafimy zatrzymać się na moment i docenić drobnych radości? A co\, jeśli za rogiem czai się nieunikniona śmierć\, czekająca na naszą nieufną próbę ucieczki?\n„Niedoczas” to refleksja nad tym\, jak szybko możemy przekroczyć granicę i czy w pogoni za czasem nie tracimy czegoś znacznie cenniejszego – życia w pełni\, tu i teraz.\nDołączcie do nas i pozwólcie się poruszyć\, zatrzymać\, przemyśleć. Bo czasem najważniejsze wydarzenia mają miejsce właśnie wtedy\, gdy zwalniamy piąty bieg i dostrzegamy to\, co naprawdę ma znaczenie. Ta sztuka jest zarówno farsą\, jak i tragicznym komizmem\, ponieważ z jednej strony bohaterowie pokazują błahą codzienność odzierając ją z iluzji wyjątkowości\, a jednocześnie zanurzają widzów w świat nadrealny\, który narasta na scenie. Postaci\, ich zachowania i zdarzenia\, które wydają się zwyczajne\, stopniowo przeradzają się w nieprawdopodobne sytuacje\, tworząc kalejdoskop dziwności. Widzowie zostają zatopieni w wirze komicznych nieporozumień i tragikomicznych zdarzeń\, które ukazują\, jak dalece może posunąć się iluzoryczność ludzkich działań. Cała sztuka ukazuje\, że granice między powagą a śmiesznością zacierają się\, a świat przedstawiony staje się miejscem pełnym absurdu\, wywołując zarówno śmiech\, jak i refleksję nad tragi-komizmem ludzkiego losu.\n\nreż. Patrycja Kozyra i Natalia Mazurczakchoreografia: Natalia Mazurczakmuzyka: Patryk Przybylakwystępują: Studenci Studia Ruchu SOMAMarcel Jarocki\, Patryk Piotrowicz\, Jakub Jaskuła\, Lena Białkowska\, Marta Szymaniuk\, Gabi Sadowska\, Mateusz Gołąb.\nKiedy?16 maja o godz. 18.30Gdzie?w Domu Tramwajarza\, Słowackiego 19/21\, 60-702 PoznańBilety:Normalny – 40 złStudencki i senioralny – 35 zł
URL:https://dt.fundacjapanagara.pl/wydarzenie/niedoczas-spektakl-teatru-soma-w-domu-tramwajarza/
LOCATION:Dom Tramwajarza Sala Amarantowa\, Słowackiego 19/21\, Poznań\, wielkopolskie\, 60-822\, Poland
CATEGORIES:Spektakl
ATTACH;FMTTYPE=image/jpeg:https://dt.fundacjapanagara.pl/wp-content/uploads/2025/04/492490941_988303273413699_1870683766784716817_n.jpg
END:VEVENT
BEGIN:VEVENT
DTSTART;TZID=Europe/Warsaw:20250510T120000
DTEND;TZID=Europe/Warsaw:20250510T130000
DTSTAMP:20260422T181558
CREATED:20250429T114829Z
LAST-MODIFIED:20250429T114829Z
UID:2665-1746878400-1746882000@dt.fundacjapanagara.pl
SUMMARY:Wędrówka do Panamy - spektakl dla dzieci Teatru Złota Kaczka / Dom Tramwajarza
DESCRIPTION:Serdecznie zapraszamy na lalkowy spektakl dla dzieci „Wędrówka do Panamy” w wykonaniu Teatru Złota Kaczka!\nKIEDY?10 maja – sobota – godz. 12.00GDZIE?Dom Tramwajarza – ul. Słowackiego 19/21 – Sala AmarantowaBILETY: (dostępne na platformie Kicket)– dziecięcy – 15 zł (do 10 roku życia)– normalny – 20 zł\nSpektakl „Wędrówka do Panamy” Jest to opowieść o podróży dwóch przyjaciół – niedźwiedzia i tygrysa – do Panamy\, krainy ich marzeń.\nW czasie tej wędrówki spotykają oni mysz\, lisa\, krowę\, zająca z jeżem oraz wronę.Na koniec okazuje się\, że ta wyśniona przez nich kraina z marzeń to nic innego\, jak ich własny dom\, w którym dotąd mieszkali. Nic innego\, jak rzeka\, w której łowili ryby\, las\, w którym zbierali grzyby.\nMożna zatem powiedzieć\, że to\, co wymarzone i wyśnione mamy tu\, gdzie żyjemy.I jedyne\, czego potrzebujemy\, to samemu się o tym przekonać.\nczas trwania – ok. 45 minut
URL:https://dt.fundacjapanagara.pl/wydarzenie/wedrowka-do-panamy-spektakl-dla-dzieci-teatru-zlota-kaczka-dom-tramwajarza/
LOCATION:Dom Tramwajarza Sala Amarantowa\, Słowackiego 19/21\, Poznań\, wielkopolskie\, 60-822\, Poland
CATEGORIES:Spektakle
ATTACH;FMTTYPE=image/png:https://dt.fundacjapanagara.pl/wp-content/uploads/2025/04/wedrowka-do-PAnamy-baner.png
END:VEVENT
BEGIN:VEVENT
DTSTART;TZID=Europe/Warsaw:20250411T190000
DTEND;TZID=Europe/Warsaw:20250411T203000
DTSTAMP:20260422T181558
CREATED:20250401T143947Z
LAST-MODIFIED:20250401T143947Z
UID:2653-1744398000-1744403400@dt.fundacjapanagara.pl
SUMMARY:27B - spektakl Pauli Głowackiej
DESCRIPTION:Zapraszamy na spektakl w reżyserii Pauli Głowackiej „𝟮𝟳𝗕”.\n 11 kwietnia – piątek – godz. 19.00 Dom Tramwajarza / Słowackiego 19/21 bilety : 49 zł – dostępne na platformie Kicket:https://kicket.com/wydarzenia/27b-spektakl-w-rez-pauli-glowackiej-25210\n\n27B to spektakl performatywny\, który wykorzystując elementy biograficzne oraz twórczość czwórki artystów z tak zwanego „klubu 27” prowadzi widza przez meandry psychiki kobiety zmagającej się z zaburzeniami osobowości. Przepełniony emocjami\, poczuciem humoru i muzyką godzinny obraz\, wykorzystuje elementy spektaklu teatralnego\, sztuk performatywnych i kameralnego koncertu\, by zaangażować widza i zwrócić uwagę na trudności\, jakimi często stawiają czoła bardzo wrażliwi artyści. Muzyka jest elementem przeprowadzającym odbiorcę przez historię zawirowań emocjonalnych młodej artystki.(opis twórców)\n“Artystka przeplata ze sobą coś\, co na potrzeby tego tekstu nazwałabym płaszczyzną estradową”\, z “płaszczyzną intymną”. Ta pierwsza byłaby związana z wariantem osobowości bohaterki\, który nastawiony jest na relację z widzem. W tych momentach artystka zwraca się bezpośrednio do publiczności. Stara się pokazać przebojowe cechy swojej osobowości – zabawia publiczność\, wzrusza anegdotą\, oczarowuje śpiewem. (…) podobnego dylematu wobec spektaklu “27B” nie mam i ufam Głowackiej\, że jej reaserch (być może) własne doświadczenia miały pomóc naświetlić oraz zgłębić problem zaburzeń psychicznych. (…) Niezależnie od zachowania artystki\, gitarzysta pozostaje milczący\, czasem odwraca wzrok\, spuszcza go na podłogę lub zajmuje się instrumentem. Zestawienie jego stoicyzmu ze skrajnym zachowaniem wokalistki wytwarza w spektaklu interesującą dla widza płaszczyznę odbioru. (..) Gdyby przyłożyć do spektaklu Głowackiej kalkę z życia Cobaina\, Winehouse czy Joplin\, może kupowanie biletów na ich koncerty byłoby takim właśnie symbolicznym podaniem mikrofonu zamiast pomocnej dłoni?”fragment recenzji (Julia Niedziejko)
URL:https://dt.fundacjapanagara.pl/wydarzenie/27b-spektakl-pauli-glowackiej/
LOCATION:Dom Tramwajarza Sala Amarantowa\, Słowackiego 19/21\, Poznań\, wielkopolskie\, 60-822\, Poland
CATEGORIES:Spektakl,Spektakle
ATTACH;FMTTYPE=image/jpeg:https://dt.fundacjapanagara.pl/wp-content/uploads/2025/04/483487871_643665348372051_2194445156287829183_n.jpg
END:VEVENT
END:VCALENDAR