BEGIN:VCALENDAR
VERSION:2.0
PRODID:-//Dom Tramwajarza - ECPv6.15.11//NONSGML v1.0//EN
CALSCALE:GREGORIAN
METHOD:PUBLISH
X-ORIGINAL-URL:https://dt.fundacjapanagara.pl
X-WR-CALDESC:Wydarzenia dla Dom Tramwajarza
REFRESH-INTERVAL;VALUE=DURATION:PT1H
X-Robots-Tag:noindex
X-PUBLISHED-TTL:PT1H
BEGIN:VTIMEZONE
TZID:Europe/Warsaw
BEGIN:DAYLIGHT
TZOFFSETFROM:+0100
TZOFFSETTO:+0200
TZNAME:CEST
DTSTART:20250330T010000
END:DAYLIGHT
BEGIN:STANDARD
TZOFFSETFROM:+0200
TZOFFSETTO:+0100
TZNAME:CET
DTSTART:20251026T010000
END:STANDARD
BEGIN:DAYLIGHT
TZOFFSETFROM:+0100
TZOFFSETTO:+0200
TZNAME:CEST
DTSTART:20260329T010000
END:DAYLIGHT
BEGIN:STANDARD
TZOFFSETFROM:+0200
TZOFFSETTO:+0100
TZNAME:CET
DTSTART:20261025T010000
END:STANDARD
BEGIN:DAYLIGHT
TZOFFSETFROM:+0100
TZOFFSETTO:+0200
TZNAME:CEST
DTSTART:20270328T010000
END:DAYLIGHT
BEGIN:STANDARD
TZOFFSETFROM:+0200
TZOFFSETTO:+0100
TZNAME:CET
DTSTART:20271031T010000
END:STANDARD
END:VTIMEZONE
BEGIN:VEVENT
DTSTART;TZID=Europe/Warsaw:20260118T140000
DTEND;TZID=Europe/Warsaw:20260118T153000
DTSTAMP:20260423T002324
CREATED:20260114T200801Z
LAST-MODIFIED:20260114T202121Z
UID:2928-1768744800-1768750200@dt.fundacjapanagara.pl
SUMMARY:JAZZ AND / Koncert: Neskim
DESCRIPTION:Zapraszamy serdecznie na koncert kwartetu 𝗡𝗘𝗦𝗞𝗜𝗠 w ramach JAZZ AND.\n𝗡𝗲𝘀𝗸𝗶𝗺 𝗴𝗿𝗮 𝗡𝗲𝘀𝗸𝗶𝗺Jankowiak / Postaremczak / Gullotta / Aleksandrowicz\n18.01.2026godz. 14:00Dom Tramwajarza\, Klubokawiarnia Pan GarPoznań\, Ul. Słowackiego 19/21\n𝗡𝗘𝗦𝗞𝗜𝗠 koncentruje przestrzenne brzmienie trąbki i saksofonu z akustycznym kontrabasem i perkusją. Program to autorskie kompozycje: spokojne ballady\, hipnotyzujący\, basowy etno-trans\, jazz i żywiołowe improwizacje. Neskim to także szumy\, trzaski\, poza-tonalne impulsy i przede wszystkim otwarta przestrzeń między dźwiękami. Wyłączmy smartfony. Zatrzymajmy się na moment. Bądźmy tu i teraz. Neskim.\n\nKuba Jankowiak / trąbka Porusza się między obrazem\, a dźwiękiem. Przez lata tworzył multimedialny koncept Lentoid. Nagrywał i koncertował z muzykami z Chicago i Bristolu\, Nicole Mitchell\, Mikołajem Trzaską\, Jerzym Mazzollem\, Patrykiem Zakrockim… Europę zjeździł z supergrupą Tsigunz Fanafara Avantura. Wciąż poszukujący.\n\nPaweł Postaremczak / saksofonyOd lat jeden z najciekawszych saksofonistów na polskiej scenie. Hipnotyzujący. Lista muzyków z którymi grał i tworzył zespoły jest długa: Hera\, Hamid Drake\, Michael Zerang\, Mikołaj Trzaska\, Klaus Kugel\, Raphael Rogiński\, Janusz Stefański\, Marcin Masecki…\n\nFlavio Gullotta / kontrabas Kontrabasista pochodzący z Sycylii. Swoje umiejętności rozwijał studiując jazz w Rzymie oraz klasykę w konserwatorium w Mesynie na Sycylii i na poznańskiej Akademii Muzycznej. Współtworzy wiele formacji m.in. super grupę Unleashed Cooperation.\n\nStanisław Aleksandrowicz / perkusjaGra na perkusji i elektronice ze szczególnym upodobaniem do syntezatorów modularnych. Komponuje\, aranżuje\, produkuje\, pracuje jako realizator dźwięku i wykładowca uniwersytecki z tytułem doktora. Dąży do przekraczania granic\, łącząc gatunki i dyscypliny artystyczne. Współtworzy wiele formacji: Stanisław Aleksandrowicz Quintet i Oktet\, Unleashed Cooperation\, Blue Jazz Orchestra\, Kwaśny Deszcz\n\nfot. Adam Brzozowski\n\n Bilet 50 złlub w ramach karnetu na 6 koncertów – 250 zł\nhttps://kicket.com/wydarzenia/jazz-and-koncert-neskim-29291\nKarnetprzelew na kontoFundacja Pana Gara„tytułem Jazz And karnet”Nr konta mBank: 71 1140 2004 0000 3602 8043 1708\nKoncert streamowanyProwadzenie: Mariusz Kwaśniewski_________\nProjekt „Jazz And. Cykl międzygatunkowych koncertów jazzowych” realizowany przez Fundację Pana Gara i jest współfinansowany ze środków Unii Europejskiej w ramach Krajowego Planu Odbudowy\, a także ze środków Miasta Poznania.
URL:https://dt.fundacjapanagara.pl/wydarzenie/jazz-and-koncert-neskim/
LOCATION:Dom Tramwajarza\, Słowackiego 19/21\, Poznań\, 60-822\, Poland
CATEGORIES:Koncert
ATTACH;FMTTYPE=image/jpeg:https://dt.fundacjapanagara.pl/wp-content/uploads/2026/01/NESKIM.jpg
ORGANIZER;CN="Fundacja Pana Gara":MAILTO:dt@fundacjapanagara.pl
END:VEVENT
END:VCALENDAR