BEGIN:VCALENDAR
VERSION:2.0
PRODID:-//Dom Tramwajarza - ECPv6.15.11//NONSGML v1.0//EN
CALSCALE:GREGORIAN
METHOD:PUBLISH
X-WR-CALNAME:Dom Tramwajarza
X-ORIGINAL-URL:https://dt.fundacjapanagara.pl
X-WR-CALDESC:Wydarzenia dla Dom Tramwajarza
REFRESH-INTERVAL;VALUE=DURATION:PT1H
X-Robots-Tag:noindex
X-PUBLISHED-TTL:PT1H
BEGIN:VTIMEZONE
TZID:Europe/Warsaw
BEGIN:DAYLIGHT
TZOFFSETFROM:+0100
TZOFFSETTO:+0200
TZNAME:CEST
DTSTART:20250330T010000
END:DAYLIGHT
BEGIN:STANDARD
TZOFFSETFROM:+0200
TZOFFSETTO:+0100
TZNAME:CET
DTSTART:20251026T010000
END:STANDARD
BEGIN:DAYLIGHT
TZOFFSETFROM:+0100
TZOFFSETTO:+0200
TZNAME:CEST
DTSTART:20260329T010000
END:DAYLIGHT
BEGIN:STANDARD
TZOFFSETFROM:+0200
TZOFFSETTO:+0100
TZNAME:CET
DTSTART:20261025T010000
END:STANDARD
BEGIN:DAYLIGHT
TZOFFSETFROM:+0100
TZOFFSETTO:+0200
TZNAME:CEST
DTSTART:20270328T010000
END:DAYLIGHT
BEGIN:STANDARD
TZOFFSETFROM:+0200
TZOFFSETTO:+0100
TZNAME:CET
DTSTART:20271031T010000
END:STANDARD
END:VTIMEZONE
BEGIN:VEVENT
DTSTART;TZID=Europe/Warsaw:20260208T140000
DTEND;TZID=Europe/Warsaw:20260208T153000
DTSTAMP:20260423T002910
CREATED:20260114T202520Z
LAST-MODIFIED:20260114T202520Z
UID:2938-1770559200-1770564600@dt.fundacjapanagara.pl
SUMMARY:JAZZ AND / Koncert: O.N.E.
DESCRIPTION:Zapraszamy serdecznie na koncert kwartetu 𝗢.𝗡.𝗘. w ramach JAZZ AND.\n8.02.2026godz. 14:00Dom Tramwajarza\, Klubokawiarnia Pan GarPoznań\, Ul. Słowackiego 19/21\n\n𝗢.𝗡.𝗘.Kateryna Ziabliuk – fortepian Kamila Drabek – kontrabasPaulina Owczarek – saxPatrycja Wybrańczyk – perkusja\n\nArtystki mają na koncie 3 albumy. Album Well\, actually… to najnowszy album (2025) kwartetu\, zawiera kompozycje każdej z czterech członkiń zespołu – pianistki Kateryny Ziabliuk\, saksofonistki Monii Muc\, basistki Kamili Drabek i perkusistki Patrycji Wybrańczyk – i odzwierciedla ich zaangażowanie w artystyczną współpracę. Każdy głos ma swoje miejsce\, a jednak muzyka zawsze wydaje się czymś więcej niż tylko sumą ich części. Nawet w miniaturowej solowej kompozycji [solo form]\, pozostałe trzy artystki pozostają obecne\, wspierające i reagujące. Od perkusyjnych faktur fortepianu Ziabliuk i onirycznych brzmień w utworach takich jak Oslo i Berio\, przez wyrazisty ton saksofonów (altowego i barytonowego) Muc\, każdy utwór eksploruje dynamiczną interakcję i zmienne krajobrazy emocjonalne. Rezonujący bas Drabek – momentami liryczny\, momentami żywiołowy – stanowi centralną oś albumu\, podczas gdy perkusja Wybrańczyk iskrzy precyzją i wyobraźnią\, co najlepiej słychać w utworach Cipher i finałowym Sneaking Around. Razem te cztery odrębne osobowości twórcze wypracowały wspólny język\, oparty na wzajemnym szacunku\, długotrwałej współpracy i uważnym wsłuchiwaniu się w siebie nawzajem. Ich koncerty w całej Europie (m.in. na Jazzahead\, B-Jazz\, Umeå Jazz Festival i Edinburgh Jazz & Blues Festival) potwierdziły pozycję O.N.E. jako wykraczającego poza schematy kwartetu\, która ma do powiedzenia coś nowego.\n\n Bilet 50 złhttps://kicket.com/wydarzenia/jazz-and-koncert-one-29293\n\nKoncert streamowanyProwadzenie: Mariusz Kwaśniewski_________\nProjekt „Jazz And. Cykl międzygatunkowych koncertów jazzowych” realizowany przez Fundację Pana Gara i jest współfinansowany ze środków Unii Europejskiej w ramach Krajowego Planu Odbudowy\, a także ze środków Miasta Poznania.
URL:https://dt.fundacjapanagara.pl/wydarzenie/jazz-and-koncert-o-n-e/
LOCATION:Dom Tramwajarza\, Słowackiego 19/21\, Poznań\, 60-822\, Poland
CATEGORIES:Koncert,koncerty,Koncerty/muzyka
ATTACH;FMTTYPE=image/jpeg:https://dt.fundacjapanagara.pl/wp-content/uploads/2026/01/ONE.jpg
ORGANIZER;CN="Fundacja Pana Gara":MAILTO:dt@fundacjapanagara.pl
END:VEVENT
END:VCALENDAR