BEGIN:VCALENDAR
VERSION:2.0
PRODID:-//Dom Tramwajarza - ECPv6.15.11//NONSGML v1.0//EN
CALSCALE:GREGORIAN
METHOD:PUBLISH
X-ORIGINAL-URL:https://dt.fundacjapanagara.pl
X-WR-CALDESC:Wydarzenia dla Dom Tramwajarza
REFRESH-INTERVAL;VALUE=DURATION:PT1H
X-Robots-Tag:noindex
X-PUBLISHED-TTL:PT1H
BEGIN:VTIMEZONE
TZID:Europe/Warsaw
BEGIN:DAYLIGHT
TZOFFSETFROM:+0100
TZOFFSETTO:+0200
TZNAME:CEST
DTSTART:20250330T010000
END:DAYLIGHT
BEGIN:STANDARD
TZOFFSETFROM:+0200
TZOFFSETTO:+0100
TZNAME:CET
DTSTART:20251026T010000
END:STANDARD
BEGIN:DAYLIGHT
TZOFFSETFROM:+0100
TZOFFSETTO:+0200
TZNAME:CEST
DTSTART:20260329T010000
END:DAYLIGHT
BEGIN:STANDARD
TZOFFSETFROM:+0200
TZOFFSETTO:+0100
TZNAME:CET
DTSTART:20261025T010000
END:STANDARD
BEGIN:DAYLIGHT
TZOFFSETFROM:+0100
TZOFFSETTO:+0200
TZNAME:CEST
DTSTART:20270328T010000
END:DAYLIGHT
BEGIN:STANDARD
TZOFFSETFROM:+0200
TZOFFSETTO:+0100
TZNAME:CET
DTSTART:20271031T010000
END:STANDARD
END:VTIMEZONE
BEGIN:VEVENT
DTSTART;TZID=Europe/Warsaw:20260306T200000
DTEND;TZID=Europe/Warsaw:20260306T230000
DTSTAMP:20260422T122443
CREATED:20260218T140001Z
LAST-MODIFIED:20260218T140001Z
UID:3000-1772827200-1772838000@dt.fundacjapanagara.pl
SUMMARY:112 Wieczór z Piosenką Nieobojętną kabaretu Klub Szyderców Bis
DESCRIPTION:Po raz 112 zapraszamy Was na wieczór pełen uśmiechu czyli Wieczór z Piosenką Nieobojętną kabaretu Klub Szyderców Bis.\nWidzimy i słyszymy się: 6 marca (wyjątkowo w PIĄTEK) o godz. 20.00 Dom Tramwajarza – ul. Słowackiego 19/21 – Pan Gar bilety: 40 zł – dostępne na biletomat.pl\nKlub w składzie: Dominika Dobrosielska Przemysław Mazurek Michał Ruksza Bartłomiej BredeSzymon ŻurowskiKarol Wojdyłooraz gościea w programie to\, co kochacie najbardziej – piosenki stare i nowe\, nasze i kilka pożyczonych\, spośród tych\, które wyjątkowo lubimy (i wierzymy\, że Wy również)\, te na wynos i te na miejscu\, śpiewane wspólnie oraz możliwe tylko do słuchania\, lekkie i przyjemne oraz Hymny! Nie zabraknie też fraszek a może i innych form poetyckich. Podsumowując – czeka nas kolejny szalenie przyjemny wieczór\, na który serdecznie zapraszamy!\nDo zobaczenia
URL:https://dt.fundacjapanagara.pl/wydarzenie/112-wieczor-z-piosenka-nieobojetna-kabaretu-klub-szydercow-bis/
LOCATION:Dom Tramwajarza sala Piccolo – Pan Gar\, ul. Słowackiego 19/21\, Poznań\, wielkopolskie\, Poland
CATEGORIES:Kabaret,Koncert,Spektakl
ATTACH;FMTTYPE=image/png:https://dt.fundacjapanagara.pl/wp-content/uploads/2026/02/112-wieczorzpiosenka.png
END:VEVENT
BEGIN:VEVENT
DTSTART;TZID=Europe/Warsaw:20260307T200000
DTEND;TZID=Europe/Warsaw:20260307T220000
DTSTAMP:20260422T122443
CREATED:20260214T121139Z
LAST-MODIFIED:20260214T121139Z
UID:2982-1772913600-1772920800@dt.fundacjapanagara.pl
SUMMARY:Łukasz Łyczkowski - koncert w Panu Garze
DESCRIPTION:Łukasz Łyczkowski – artysta\, wokalista kompozytor\, powołał długo oczekiwany zespół gdzie prezentuje autorską twórczość. Z matczyną formacją 5 RANO doczekał się ponad 42 milionów wyświetleń singli w serwisie YouTube\, w 2017 okazał się najlepszym męskim wokalistą XIII edycji Voice of Poland\, w finale zajmując 2 miejsce. Przez lata towarzyszył wokalnie Leszkowi Cichońskiemu – twórcy gitarowego Rekordu Guinessa\, jest laureatem wielu nagród i festiwali. Niepokorny\, niezależny\, uczulony na szczerość w muzyce i wybierający artyzm\, nie komercję popularny Łyczek zaprasza do swojego świata. Co czeka Was na koncercie? Autorskie utworu ulepione z umiłowanego klasycznego rocka\, folku\, grunge\, bluesa\, jazzu i muzyki z krainy łagodności\, które są konceptualną opowieścią o życiu\, Jego uniesieniach i mrokach. Łukasz Łyczkowski to niebywała charyzma sceniczna\, ekspresja\, sam nazywa to \, wyśpiewaniem siebie”. Skompletował znakomity skład\, w którym perłą w koronie jest wtórująca wokalnie liderowi niezwykła Małgorzata Grancewicz\, która również z powodzeniem występowała w Voice of Poland czy w Szansie na sukces. Koncerty to kwintesencja tego co najpiękniejsze w rock&rollu\, oddanie się bez opamiętania sztuce i publiczności.Skład zespołu:Łukasz Łyczkowski – wokal\, gitara akustycznaMałgorzata Grancewicz – wokalGrzegorz Kruszakin – gitara elektrycznaTomasz Pituła – perkusjaKamil Meler – basArkadiusz Jurusz – klawisze\, organy Hammond\nMiejsce: Dom Tramwajarza ul. Słowackiego 19/21 Poznań Data: 07.03.2026 (piątek) Wejście: 19:00 Start: 20:00\n Bilety: Rezerwacja SMS na numer 665:135 353 ( ilość biletów\, imię i nazwisko\, miejsce koncertuPrzedsprzedaż 60 PLN\, w dniu koncertu na bramce 70 PLN
URL:https://dt.fundacjapanagara.pl/wydarzenie/lukasz-lyczkowski-koncert-w-panu-garze/
LOCATION:Dom Tramwajarza sala Piccolo – Pan Gar\, ul. Słowackiego 19/21\, Poznań\, wielkopolskie\, Poland
CATEGORIES:Koncert,koncerty,Koncerty/muzyka
ATTACH;FMTTYPE=image/jpeg:https://dt.fundacjapanagara.pl/wp-content/uploads/2026/02/494694808_995986849181834_5110225684348832143_n.jpg
END:VEVENT
BEGIN:VEVENT
DTSTART;TZID=Europe/Warsaw:20260308T180000
DTEND;TZID=Europe/Warsaw:20260308T193000
DTSTAMP:20260422T122443
CREATED:20260217T093828Z
LAST-MODIFIED:20260217T093828Z
UID:2994-1772992800-1772998200@dt.fundacjapanagara.pl
SUMMARY:Kobiety na szczęście i niestety vol. 2 - Wieczór komedii improwizowanej - Leniwe Raz
DESCRIPTION:Zapraszamy 8 marca 2026 o 18.00 do współtworzenia premiery! Będzie to spektakl złożony z krótkich scen i piosenek tworzonych na żywo. Tym razem ogramy rzeczywistość okołokobiecą. A to przeróżne wątki: wielkie marzenia\, małe prozy życia\, wyzwania\, relacje\, dzieci\, kolacje… Wrzucimy do gara wszystkie Wasze sugestie i to one dadzą nam natchnienie – ustalicie miejsce akcji\, kim są bohaterowie i jakie łączą ich relacje.\nPodczas prób trenujemy kreatywność\, akceptację i współpracę oraz techniki impro\, ale sam występ to Wielka Niewiadoma. Pewna jest tylko interakcja aktorów z publicznością i spora dawka śmiechu\, bo z tej współpracy powstaje zawsze humor sytuacyjny i słowny.\nZagrają: Agnieszka Rogaczewska-Foryś\, Justyna Klak-Nowakowa\, Luiza Roszak\, Karol Wojdyło\, Artur Kaczmarek\, Anna Siedlewska\nMuzycznie (i nie tylko) poimprowizuje: Przemek Mazurek Muzykant\nMiejsce: Dom Tramwajarza\, Pan Gar\, Słowackiego 19/21\, PoznańBilety: https://app.evently.pl/…/12141-kobiety-na-szczescie-i…Bilety Early Birds (do końca stycznia): normalny 40 zł\, ulgowy* 35 złOd 1 lutego: normalny 50 zł\, ulgowy* 45 zł\n* Bilety ulgowe przysługują emerytom\, rencistom\, uczniom\, studentom.\n\nWARTO WIEDZIEĆ:– Na salę wpuszczamy 20 minut przed występem.– Warto mieć na podorędziu jakiś cytat/przysłowie/powiedzonko. Oczywiście można przyjść nieprzygotowanym i… improwizować.– Może się zdarzyć\, że zaprosimy widzkę/a na scenę. Obowiązuje brak przymusu\, czyli … odetchnąć mogą osoby bez ciągot do występowania.\nOPINIE WIDZÓW:• Dawka pozytywnej energii\, świetna atmosfera. Dawno się tak nie naśmiałem!• Mimo\, iż na widowni zasiadło ponad 80 osób\, atmosfera przypominała jedną z najlepszych domówek. Ekipa LENIWYCH rozbawiła mnie do łez.• To był bardzo udany występ\, masa humoru\, wysoki poziom improwizacji\, dobre wokale\, fajny akompaniament. Podobały mi się różne formy\, ale najbardziej piosenki improwizowane!!!• Spektakl wciąga systematycznie\, scenki są super wymyślone i przede wszystkim zaimprowizowane z wielką wyobraźnią\, poczuciem humoru i refleksem. Bawiliśmy się świetnie\, to był znakomity niedzielny wieczór.• Fantastyczna okazja do pośmiania się – głęboko\, z samej przepony i do łez. Spektakl bardzo angażuje\, trzyma w napięciu\, wzrusza no i oczywiście bawi po pachy.Zdjęcie: Aneta Ludwig Kroniki Rodzinne https://www.facebook.com/anetaludwigGrafika: An Rogaczewska https://www.facebook.com/an.rogaczewska
URL:https://dt.fundacjapanagara.pl/wydarzenie/kobiety-na-szczescie-i-niestety-vol-2-wieczor-komedii-improwizowanej-leniwe-raz/
LOCATION:wielkopolskie
CATEGORIES:Impro,Kabaret,Spektakl
ATTACH;FMTTYPE=image/png:https://dt.fundacjapanagara.pl/wp-content/uploads/2026/02/kobietyleniweraz.png
END:VEVENT
BEGIN:VEVENT
DTSTART;TZID=Europe/Warsaw:20260312T190000
DTEND;TZID=Europe/Warsaw:20260312T210000
DTSTAMP:20260422T122443
CREATED:20260310T122307Z
LAST-MODIFIED:20260310T122307Z
UID:3003-1773342000-1773349200@dt.fundacjapanagara.pl
SUMMARY:Wróci wiosna\, baronowo - piosenki Stanisława Staszewskiego
DESCRIPTION:Zapraszamy na koncert piosenek Stanisława Staszewskiego „Wróci wiosna\, baronowo” w wykonaniu muzyków Kwartetu ProForma – Przemysława Lembicza i Piotra Lembicza.\n12 marca – czwartek – godz. 19.00 Dom Tramwajarza – ul. Słowackiego 19/21 – Pan Gar bilety: 50 zł – dostępne na biletomat.plhttps://biletomat.pl/…/wroci-wiosna-baronowo-piosenki…\nStanisław Staszewski – znany jako „Tata Kazika” – wydaje się być postacią ciągle nieodkrytą i mało znaną. Mimo wielkiego sukcesu piosenek opracowanych w rockowych aranżacjach w latach 90. przez zespół KULT\, jego twórczość pozostaje w cieniu współczesnych mu poetów. Od kilku lat\, staraniem ludzi zaangażowanych w popularyzację twórczości Staszewskiego\, udaje się przybliżać jego złożoną postać. Na ile jednak Stanisław Staszewski jest postacią znaną? Czy jego twórczość stała się tylko – jak sam mawiał – „korbą do wyciskania szmalcu”? Koncert w wykonaniu Przemysława Lembicza i Piotra Lembicza (muzyków poznańskiego Kwartetu ProForma) będzie okazją do przypomnienia sobie najpopularniejszych piosenek Staszka\, takich jak „Celina”\, „Baranek” czy „Notoryczna narzeczona”\, ale też tych mniej znanych – a wszystko to okraszone anegdotami dotyczącymi okoliczności powstania utworów i związanymi z burzliwą biografią Poety. Koncert będzie połączony z promocją wydanego niedawno tomiku dzieł zebranych Poety – możliwość zakupienia książki na miejscu.
URL:https://dt.fundacjapanagara.pl/wydarzenie/wroci-wiosna-baronowo-piosenki-stanislawa-staszewskiego/
LOCATION:Dom Tramwajarza sala Piccolo – Pan Gar\, ul. Słowackiego 19/21\, Poznań\, wielkopolskie\, Poland
CATEGORIES:Koncert,koncerty,Koncerty/muzyka
ATTACH;FMTTYPE=image/png:https://dt.fundacjapanagara.pl/wp-content/uploads/2026/03/wroci-wiosna-baner.png
END:VEVENT
BEGIN:VEVENT
DTSTART;TZID=Europe/Warsaw:20260313T200000
DTEND;TZID=Europe/Warsaw:20260313T230000
DTSTAMP:20260422T122443
CREATED:20260310T122623Z
LAST-MODIFIED:20260310T122623Z
UID:3006-1773432000-1773442800@dt.fundacjapanagara.pl
SUMMARY:Ornette akustycznie w Panu Garze - koncert
DESCRIPTION: ORNETTE AKUSTYCZNIE – PIERWSZY RAZ W POZNANIU! \nEnergia rock and rolla w wyjątkowej\, akustycznej odsłonie!Autorski program ORNETTE przeplatany kultowymi utworami gigantów polskiej sceny rockowej – w świeżych\, autorskich aranżacjach.\nPonad 30 lat scenicznego doświadczenia Grzegorza „Ornette” Stępnia (m.in. Oddział Zamknięty) i setki koncertów gwarantują jedno: emocje świetny kontakt z publicznością koncert\, który zostaje w pamięci\nTo będzie rockowy wieczór z historią w tle i nową energią na scenie.\n Poznań ORNETTE – akustycznie bilety: przedsprzedaż: 50 złw dniu koncertu: 70 złdostępne na biletomat.pl\nWpadajcie – będzie głośno… nawet akustycznie! 
URL:https://dt.fundacjapanagara.pl/wydarzenie/ornette-akustycznie-w-panu-garze-koncert/
LOCATION:Dom Tramwajarza sala Piccolo – Pan Gar\, ul. Słowackiego 19/21\, Poznań\, wielkopolskie\, Poland
CATEGORIES:Koncert,koncerty,Koncerty/muzyka
ATTACH;FMTTYPE=image/png:https://dt.fundacjapanagara.pl/wp-content/uploads/2026/03/ornette-akbaner.png
END:VEVENT
BEGIN:VEVENT
DTSTART;TZID=Europe/Warsaw:20260315T180000
DTEND;TZID=Europe/Warsaw:20260315T210000
DTSTAMP:20260422T122443
CREATED:20260310T122904Z
LAST-MODIFIED:20260310T122904Z
UID:3009-1773597600-1773608400@dt.fundacjapanagara.pl
SUMMARY:Gramofon Gar - Wieczór Winylowy w Panu Garze
DESCRIPTION:Zapraszamy na kolejny Wieczór Winylowy w Panu Garze:\nGRAMOFON GAR15 marca 2026 o godz. 18.00\nKochani\, poprzednie spotkanie naszego cyklu zgromadziło wielką publiczność\, co nas ogromnie cieszy i za co serdecznie dziękujemy! Wybrane przez prowadzącego\, Sebastiana Konrada\, albumy (zwłaszcza jeden!) stały się okazją do rozmów i wspomnień o tym\, co nam w duszy gra – lub grało – na różnych etapach życia.Idąc za ciosem\, na najbliższą edycję” Gramofon Gar” Sebastian przygotował album – niespodziankę\, jeden z bardziej niezwykłych\, fonograficznych rarytasów\, który – jak wierzymy – poruszy delikatne struny Waszej muzycznej wrażliwości i stanie się powodem kolejnych fantastycznych rozmów\, skojarzeń i sentymentalnych podróży!NIE BĄDŹCIE DŁUŻNI – i również przynieście swoje albumy – te najbardziej niezwykłe\, unikatowe\, oryginalne – o których będziemy mogli pogadać!\nWidzimy się w niedzielę\, 15 marca i liczymy\, że znów tłumnie nas odwiedzicie! Do zobaczenia!\nWSTĘP WOLNY\nWydarzenie finansowane ze środków budżetowych miasta Poznania #poznanwspiera
URL:https://dt.fundacjapanagara.pl/wydarzenie/gramofon-gar-wieczor-winylowy-w-panu-garze-2/
LOCATION:Dom Tramwajarza Sala Amarantowa\, Słowackiego 19/21\, Poznań\, wielkopolskie\, 60-822\, Poland
CATEGORIES:Spotkanie
ATTACH;FMTTYPE=image/png:https://dt.fundacjapanagara.pl/wp-content/uploads/2026/03/GG-marzec-26baner.png
END:VEVENT
BEGIN:VEVENT
DTSTART;TZID=Europe/Warsaw:20260319T190000
DTEND;TZID=Europe/Warsaw:20260319T210000
DTSTAMP:20260422T122443
CREATED:20260214T121858Z
LAST-MODIFIED:20260214T121858Z
UID:2985-1773946800-1773954000@dt.fundacjapanagara.pl
SUMMARY:Dyspensa z Kapelą Niwińskich - potańc z muzyką na żywo / Pan Gar
DESCRIPTION:A na św. Józefa zatańczymy tak\, że drzazgi z desek polecą!Pomoże nam w tym Kapela Niwińskich\, której obery i kujawiaki nie dadzą nikomu usiedzieć!\n„Dyspensa z Kapelą Niwińskich” – potańc z muzyką na żywo19 marca – czwartek – od godz. 19.00Dom Tramwajarza – ul. Słowackiego 19/21 – Pan Garbilety – 40 zł – dostępne na platformie kicket.com\nGorąco zapraszamy!\nKapela Niwińskich\nTen muzyczny kolektyw tworzą Mateusz i Agnieszka Niwińscy\, Jakub Mielcarek. Zespół od lat jest aktywnym uczestnikiem sceny IN CRUDO\, wykonuje muzykę tradycyjną polskiej wsi\, kultywując lokalne maniery i tradycyjne repertuary wybranych mikroregionów Polski min. Radomszczyzny\, Mazowsza Leśnego\, regionu Sannickiego\, także Kujaw\, dawnej Galicji\, Polesia\, uczeń wiejskich muzykantów starego pokolenia (min. Piotra i Jana Gaców\, Stefana Nowaczka\, Tadeusza Lipca\, Józefa Ciastka\, Piotra Figurskiego). Zespół pielęgnuje rdzenny styl starej muzyki wiejskiej oraz jej brzmienie\, aranżując\, improwizując i ogrywając je w swoisty dla siebie sposób. To badacze i praktycy muzycznych tradycji Polski\, poszukujący rdzennego brzmienia muzyki polskiej wsi\, uczniowie wiejskich muzykantów i śpiewaczek\, inicjatorzy i uczestnicy licznych działań na rzecz ożywiania rodzimej tradycji muzycznej a także muzycznych eksperymentów z pogranicza innych gatunków muzycznych. Wydali dwie płyty: „Czas wesela” (2017) oraz „Pogłosy” (2022) a także biorą udział w wielu innych przedsięwzięciach muzycznych poświęconych muzyce tradycyjnej min. w płycie Poleskiego Składu Smyczkowego (2023)\, w serii płytowej „Cztery Domy Słońca” (2024)\, płyta „Drogi” Orkiestry Galicja (2024)\, projekt Oberkas Travel (2025).\n\nMateusz Niwiński – skrzypce\, śpiewAgnieszka Niwińska – bębnyJakub Mielcarek – basetla
URL:https://dt.fundacjapanagara.pl/wydarzenie/dyspensa-z-kapela-niwinskich-potanc-z-muzyka-na-zywo-pan-gar/
LOCATION:Dom Tramwajarza sala Piccolo – Pan Gar\, ul. Słowackiego 19/21\, Poznań\, wielkopolskie\, Poland
CATEGORIES:Potańcówki
ATTACH;FMTTYPE=image/png:https://dt.fundacjapanagara.pl/wp-content/uploads/2026/02/niwinscybaner.png
END:VEVENT
BEGIN:VEVENT
DTSTART;TZID=Europe/Warsaw:20260321T200000
DTEND;TZID=Europe/Warsaw:20260321T220000
DTSTAMP:20260422T122443
CREATED:20260217T093116Z
LAST-MODIFIED:20260217T093116Z
UID:2991-1774123200-1774130400@dt.fundacjapanagara.pl
SUMMARY:Czerwie feat. Gia Beżuaszwili - koncert urodzinowy Pana Gara
DESCRIPTION:Świętujemy urodziny Pana Gara! A świętujemy hucznie – zapraszamy na kosmiczny koncert zespołu CZERWIE z którym gościnnie wystąpi Gia Beżuaszwili! Tego nie można przegapić!\n 21 marca – sobota – godz. 20.00 Dom Tramwajarza – ul. Słowackiego 19/21 – Pan Gar bilety: 50 zł – dostępne na platformie biletomat.pl\n„Czerwie” to polska formacja prezentująca alternatywne dźwięki z pogranicza folku\, etno\, sceny absurdu\, muzyki eksperymentalnej\, współczesnej oraz muzyki teatralnej i filmowej. Stworzyli własny niepowtarzalny styl charakteryzujący się niekonwencjonalnym wykorzystaniem instrumentów i wartości muzycznych\, będący jednocześnie fuzją wielu gatunków. Są twórcami m.in. muzyki do spektaklu w reżyserii Piotra Cieplaka „Albośmy to jacy\, tacy” na podstawie „Wesela” St. Wyspiańskiego (Teatr Powszechny im. Zygmunta Hübnera\, Warszawa\, 2007). Sztukę wystawioną 50-krotnie w stolicy wyemitowano wielokrotnie w TVP Kultura. W swojej dyskografii muzycy mają 6 autorskich albumów.Zespół skomponował muzykę do wielu filmów niemych i jest niewątpliwie jednym z nielicznych grup posiadających tak bogate doświadczenie w tym zakresie (ponad 20 lat działalności).Zespół występował na wielu festiwalach europejskich m.in. na prestiżowym Europejskim Festiwalu Kina Niemego Hippodrome w Szkocji (2016)\, na Budapesti Klasszikus Film Maraton Magyar Nemzeti Filmarchívum (Festiwal węgierskiej Filmoteki Narodowej) na Polskiej Wiośnie Filmowej w Budapeszcie (2018); w Muzeum Historii Kina w Dusseldorfie\, na Niesse Film Festival 2019\, Cineast Festiwal Luxemburg 2023\,\nW skład grupy wchodzi obecnie 4 muzyków – Wojtek Zaborowski\, Maciek Kudłacik\, Piotrek Bogunia\, Paweł Zawarus\,– operujących następującym instrumentarium: perkusja\, ksylofon\, instrumenty perkusyjne\, instrumenty etniczne\, bas\, gitara\, mandolina\, akordeon\, syntezatory.Grupa zagrala do tej pory ponad 900 koncertów w Polsce i Europie m.in(Czechy \, Słowacja \, Węgry \, Niemcy \,Holandia \, Wielka Brytania)\nGiorgi Gia Beżuaszwili – urodzony w 1976 r. w Tbilisi\, stolicy Gruzji. Muzyk\, multiinstrumentalista (flet poprzeczny\, flety salamuri\, lutnia panduri\, saksofon sopranowy\, gitara\, bas)\, wokalista\, autor tekstów. Absolwent Fizyki na Politechnice Gruzińskiej w Tbilisi oraz studiów I stopnia na Akademii Muzycznej w Krakowie (flet poprzeczny). Uczestnik festiwalu „Transkaukazja”\, podczas którego prowadził warsztaty i zagrał koncerty. Zwycięzca programu „Megafon” organizowanego przez Polskie Radio Kraków\, prowadzonego przez Agnieszkę Barańską. W ramach nagrody nagrał płytę koncertową pt. „Zagrajcie”. Ma na koncie występ w Studiu Muzycznym Polskiego Radia im. Agnieszki Osieckiej podczas charytatywnego koncertu dla uchodźców z Czeczenii. Jest autorem oprawy muzycznej do programu TVP2 pt. „Podróże z żartem”\, w którym gośćmi byli Katarzyna Pakosińska i Marcin Meller. Od 2017 roku prowadzi klub Pan Gar na poznańskiej Jeżycach. Współtwórca Fundacji Pana Gara działającej od 2020 roku.
URL:https://dt.fundacjapanagara.pl/wydarzenie/czerwie-feat-gia-bezuaszwili-koncert-urodzinowy-pana-gara/
LOCATION:Dom Tramwajarza sala Piccolo – Pan Gar\, ul. Słowackiego 19/21\, Poznań\, wielkopolskie\, Poland
CATEGORIES:Koncert,koncerty,Koncerty/muzyka
ATTACH;FMTTYPE=image/png:https://dt.fundacjapanagara.pl/wp-content/uploads/2026/02/czerwie.png
END:VEVENT
BEGIN:VEVENT
DTSTART;TZID=Europe/Warsaw:20260322T190000
DTEND;TZID=Europe/Warsaw:20260322T210000
DTSTAMP:20260422T122443
CREATED:20260214T114631Z
LAST-MODIFIED:20260214T114631Z
UID:2973-1774206000-1774213200@dt.fundacjapanagara.pl
SUMMARY:Agnieszka KOVA Kowalczyk - Echa Ziemi - koncert w Panu Garze
DESCRIPTION:Dom Tramwajarza zaprasza na koncert wybitnej wiolonczelistki Agnieszki KOVY Kowalczyk pod nazwą Echa Ziemi.\n 22 marca – niedziela – godz. 19.00 Dom Tramwajarza – ul. Słowackiego 19/21 – Pan Gar bilety: przedsprzedaż 40 zł / w dniu koncertu 50 złdostępne na platformie biletomat.pl\nECHA ZIEMI\nMarcowy koncert „Echa Ziemi” to muzyczna podróż przez światy i symbole\, które inspirują autorską twórczość KOVY. W programie znajdą się wybrane utwory z kilku cykli kompozytorskich\, m.in. Goddesses\, Aroma oraz Dancing Souls of Trees – opowieści o naturze\, energii kobiecej\, zapachach\, pamięci i duchowej więzi człowieka z przyrodą. Wszystkie kompozycje wykonywane są na wiolonczeli elektrycznej z wykorzystaniem efektów i techniki live looping\, która pozwala tworzyć wielowarstwowe\, przestrzenne brzmienia w czasie rzeczywistym. Koncert\, osadzony w atmosferze narodzin wiosny\, jest zaproszeniem do zatrzymania się\, wyciszenia i wsłuchania w subtelne Echa Ziemi – odradzającą się energię życia i nowego początku.\nAgnieszka KOVA Kowalczyk to klasycznie wykształcona wiolonczelistka. Koncertowała i/lub nagrywała z wieloma artystami sceny jazzowej\, klasycznej\, rockowej\, jak i twórcami muzyki elektronicznej\, eksperymentalnej i improwizowanej m.in. z Nicole Mitchell\, Dee Alexander\, Lisą-Marie Holmes\, Kayah\, Sylwią Grzeszczak\, Zbigniewem Górnym\, Małgorzatą Ostrowską\, Urszulą\, Robertem Chojnackim\, Felicjanem Andrzejczakiem\, Katarzyną Pakosą\, Swiernalisem czy Waldemarem Rychłym. Od 2012 r. związana jest też z zespołem Raya Wilsona. Agnieszka koncertowała na wielu festiwalach muzycznych takich jak: Tauron Nowa Muzyka\, Opener\, Nowy Wiek Awangardy\, No Women No Art\, Klamra\, FONOMO\, Friv\, BASS & BEAT i innych. Współtworzy też duet Cello 2 Cello\, z którym miała okazję występować zarówno w USA\, Ameryce Południowej\, Afryce\, Azji\, jak i w większości krajów europejskich. Artystka tworzy również własną muzykę m.in. do spektakli teatralnych (Teatr Ósmego Dnia\, Teatr CINEMA\, Tatr Polski w Poznaniu\, Polski Teatr Tańca)\, widowisk multimedialnych\, filmów niemych oraz spotkań medytacyjnych.\nlinki do muzyki:https://youtu.be/qpPQSNGWBGk?si=QaGxHbpZAw6Q5Cck\nhttps://youtu.be/cwEFi-EIsE8?si=9AssdDyTPZwob5zX\nWydarzenie finansowane ze środków budżetowych Miasta Poznania #poznanwspiera
URL:https://dt.fundacjapanagara.pl/wydarzenie/agnieszka-kova-kowalczyk-echa-ziemi-koncert-w-panu-garze/
LOCATION:Dom Tramwajarza sala Piccolo – Pan Gar\, ul. Słowackiego 19/21\, Poznań\, wielkopolskie\, Poland
CATEGORIES:Koncert,koncerty,Koncerty/muzyka
ATTACH;FMTTYPE=image/png:https://dt.fundacjapanagara.pl/wp-content/uploads/2026/02/kovabaner.png
END:VEVENT
BEGIN:VEVENT
DTSTART;TZID=Europe/Warsaw:20260329T180700
DTEND;TZID=Europe/Warsaw:20260329T210000
DTSTAMP:20260422T122443
CREATED:20260214T122309Z
LAST-MODIFIED:20260214T122309Z
UID:2988-1774807620-1774818000@dt.fundacjapanagara.pl
SUMMARY:Osiecka królową piosenki - koncert w Pana Garze
DESCRIPTION:Zapraszamy na muzyczną podróż przez piosenki pióra niezapomnianej Agnieszki Osieckiej \nUsłyszymy utwory\, które śpiewali lata temu:Edmund Fetting\, Edyta Geppert\, Piotr Fronczewski\, Krystyna Janda\, Zbigniew Zamachowski\, Maryla Rodowicz\, Seweryn Krajewski\, Łucja Prus i inni. Wystąpią (info poniżej)\nBartosz Baltazar Zbroszczyk – śpiew\, gitara\, fortepianPiotr Munnich – skrzypce\nBILETY :\nKupBilecik: www.KBQ.pl/191950\nKICKET: https://kicket.com/…/osiecka-krolowa-piosenki-poznan…\nBILETYNA: https://biletyna.pl/…/Osiecka-Krolowa-Piosenki…/Poznan\nTO_BILET: https://tobilet.pl/osiecka-krolowa-piosenki-7.html\nBartosz Baltazar Zbroszczyk jest od lat zawodowo i hobbystycznie związany z muzyką\, jej tworzeniem\, wykonywaniem i produkcją. Gra na fortepianie i gitarze\, śpiewa\, pisze\, aranżuje i nagrywa realizując projekty własne i powierzone we własnym studio nagraniowym. Lotny element wielu formacji\, jak i filar kilku autorskich gawiedzi piosenki poetyckiej.\nPiotr Münnich – specjalista od instrumentów strunowych\, skrzypek\, gitarzysta\, basista\, kompozytor. Absolwent UMFC w klasie kontrabasu. Jego otwartość na muzykę prowadziła go od klasyki\, przez jazz\, hard rock\, funk i elektronikę\nPo koncercie można będzie nabyć wydaną we wrześniu 2025 – pierwszą część cyklu „Osiecka Królową Piosenki”\, czyli piosenek poetyckich pióra Agnieszki Osieckiej w interpretacjach\, opracowaniach i wykonaniach Bartosza Baltazara Zbroszczyka i skrzypka Krzysztofa Szmytke
URL:https://dt.fundacjapanagara.pl/wydarzenie/osiecka-krolowa-piosenki-koncert-w-pana-garze/
LOCATION:Dom Tramwajarza sala Piccolo – Pan Gar\, ul. Słowackiego 19/21\, Poznań\, wielkopolskie\, Poland
CATEGORIES:Koncert,koncerty,Koncerty/muzyka
ATTACH;FMTTYPE=image/jpeg:https://dt.fundacjapanagara.pl/wp-content/uploads/2026/02/615457895_122180266838382821_9039845934174539986_n.jpg
END:VEVENT
END:VCALENDAR