BEGIN:VCALENDAR
VERSION:2.0
PRODID:-//Dom Tramwajarza - ECPv6.15.11//NONSGML v1.0//EN
CALSCALE:GREGORIAN
METHOD:PUBLISH
X-ORIGINAL-URL:https://dt.fundacjapanagara.pl
X-WR-CALDESC:Wydarzenia dla Dom Tramwajarza
REFRESH-INTERVAL;VALUE=DURATION:PT1H
X-Robots-Tag:noindex
X-PUBLISHED-TTL:PT1H
BEGIN:VTIMEZONE
TZID:Europe/Warsaw
BEGIN:DAYLIGHT
TZOFFSETFROM:+0100
TZOFFSETTO:+0200
TZNAME:CEST
DTSTART:20250330T010000
END:DAYLIGHT
BEGIN:STANDARD
TZOFFSETFROM:+0200
TZOFFSETTO:+0100
TZNAME:CET
DTSTART:20251026T010000
END:STANDARD
BEGIN:DAYLIGHT
TZOFFSETFROM:+0100
TZOFFSETTO:+0200
TZNAME:CEST
DTSTART:20260329T010000
END:DAYLIGHT
BEGIN:STANDARD
TZOFFSETFROM:+0200
TZOFFSETTO:+0100
TZNAME:CET
DTSTART:20261025T010000
END:STANDARD
BEGIN:DAYLIGHT
TZOFFSETFROM:+0100
TZOFFSETTO:+0200
TZNAME:CEST
DTSTART:20270328T010000
END:DAYLIGHT
BEGIN:STANDARD
TZOFFSETFROM:+0200
TZOFFSETTO:+0100
TZNAME:CET
DTSTART:20271031T010000
END:STANDARD
END:VTIMEZONE
BEGIN:VEVENT
DTSTART;TZID=Europe/Warsaw:20260422T190000
DTEND;TZID=Europe/Warsaw:20260422T210000
DTSTAMP:20260422T134956
CREATED:20260413T094125Z
LAST-MODIFIED:20260413T094125Z
UID:3048-1776884400-1776891600@dt.fundacjapanagara.pl
SUMMARY:Tadeusz Sobkowiak - Pieśni Ambientowe - performance/koncert w Panu Garze
DESCRIPTION:Pieśni ambientowe – swobodne spotkanie z dźwiękiem\, obrazem\, muzyką i poezją –na taki wieczór zaprasza nas Tadeusz Sobkowiak – malarz\, muzyk\, od lat wiernie tworzący swój świat\, wolny od wpływów\, mód i trendów.\nLabirynt drogą do celu\n➡︎ 22 marca – środa – godz. 19.00➡︎ Dom Tramwajarza – ul. Słowackiego 19/21 – Pan Gar➡︎ wstęp wolny\nŻyjemy w czasach podziałów\, wyodrębniamy coraz mniejsze fragmenty rzeczywistości czy to w nauce\, sztuce\, jak również muzyce. Pojawiło nam się setki specjalistów; od lewej nerki\, struny A czy też np. trójkątów równobocznych w kreacjach abstrakcyjnych malarstwa olejnego\, przykładów można mnożyć bez liku.Istnieje jednak coś co nazywam spostrzeganiem holistycznym ( całościowym)\, tak traktuję sztukę\, tak też widzę muzykę. Od ponad 40 lat próbuję łączyć \, a nie dzielić\, dla purystów jest to nie do przyjęcia. Sztuka jest jedna\, muzyka jest jedna- jest wszędzie. W moich działaniach muzycznych szukam dźwięku\, melodii\, rytmu w otaczającym nas świecie\, pozwalając sobie jednakże na komponowanie własnych utworów. Obecne spotkanie jest próbą podzielenia się słowem\, muzyką i obrazem. Droga poznania jest wielkim labiryntem.Zainteresowanych zapraszam\nTadeusz Sobkowiak
URL:https://dt.fundacjapanagara.pl/wydarzenie/tadeusz-sobkowiak-piesni-ambientowe-performance-koncert-w-panu-garze/
LOCATION:Dom Tramwajarza sala Piccolo – Pan Gar\, ul. Słowackiego 19/21\, Poznań\, wielkopolskie\, Poland
CATEGORIES:Koncert,Spotkanie,Wystawa
ATTACH;FMTTYPE=image/png:https://dt.fundacjapanagara.pl/wp-content/uploads/2026/04/sokowiak-.png
END:VEVENT
BEGIN:VEVENT
DTSTART;TZID=Europe/Warsaw:20260423T190000
DTEND;TZID=Europe/Warsaw:20260423T210000
DTSTAMP:20260422T134956
CREATED:20260408T225928Z
LAST-MODIFIED:20260408T230036Z
UID:3040-1776970800-1776978000@dt.fundacjapanagara.pl
SUMMARY:BAiKA ▪︎ koncert trasy "Czas końca złudzeń" ▪︎ Poznań ▪︎ Pan Gar ▪︎ 23.04.26 r
DESCRIPTION:BAiKA „Czas końca złudzeń”\n\nDuet BAiKA (Banach i Kafi) zaprasza na wiosenną trasę „Czas końca złudzeń”\, promującą najnowszy album o tym samym tytule.Podczas wydarzenia usłyszymy premierowe utwory z nowego albumu\, ale nie zabraknie też dobrze znanych i lubianych kompozycji z wcześniejszych płyt.\nBAiKA to energia\, charyzma i autentyczność – połączenie gitarowych riffów Piotra Banacha z mocnym\, wyrazistym głosem Kafi sprawia\, że każdy ich koncert zostaje w pamięci na długo.\n\nTo muzyka\, która trafia do serca — bez względu na to\, czy znasz ich twórczość\, czy usłyszysz ją po raz pierwszy.\n\nMiejsce i data: Klubokawiarnia Pan Gar Słowackiego 19/2160-822 Poznań 23.04.2026 r.\nBilety:https://kicket.com/wydarzenia/baika-koncert-trasy-czas-konca-zludzen-poznan-pan-gar-29071?locationId=dba8f0a8-303b-41cd-848b-4cdf6cd7da1d&eventId=327371\n\n I PULA 70 zł II PULA 80 zł
URL:https://dt.fundacjapanagara.pl/wydarzenie/baika-%e2%96%aa%ef%b8%8e-koncert-trasy-czas-konca-zludzen-%e2%96%aa%ef%b8%8e-poznan-%e2%96%aa%ef%b8%8e-pan-gar-%e2%96%aa%ef%b8%8e-23-04-26-r/
LOCATION:Dom Tramwajarza sala Piccolo – Pan Gar\, ul. Słowackiego 19/21\, Poznań\, wielkopolskie\, Poland
CATEGORIES:Koncert,koncerty
ATTACH;FMTTYPE=image/jpeg:https://dt.fundacjapanagara.pl/wp-content/uploads/2026/04/583661281_1426510062815351_8837830999282952818_n.jpg
END:VEVENT
BEGIN:VEVENT
DTSTART;TZID=Europe/Warsaw:20260424T200000
DTEND;TZID=Europe/Warsaw:20260424T220000
DTSTAMP:20260422T134956
CREATED:20260413T094505Z
LAST-MODIFIED:20260413T094505Z
UID:3051-1777060800-1777068000@dt.fundacjapanagara.pl
SUMMARY:MICHAŁ OD KOŚCI LIVE - koncert w Panu Garze
DESCRIPTION:Michał od kości wyrusza w „Trasę od kości”\, która będzie promowała debiutancką płytę artysty „Piosenki do filmów\, których nie było”.\nMateriał dojrzewał ponad dwa lata – artysta zamknął w nim wspomnienia i zdarzenia\, nadając im formę intymnych\, muzycznych portretów. Są to dźwiękowe mikroopowieści\, które w wyobraźni Michała od kości mogłyby stać się scenariuszami poruszających obrazów kinowych. Podobno z przyjemnością w tych filmach zagrałby Tom Hanks.\nMichał od Kości\, czyli Michał Włodarczyk\, to songwriter i producent\, który w swojej twórczości łączy organiczne brzmienia żywych instrumentów z subtelną elektroniką. Uznawany za męską wersję Kaśki Sochackiej dzięki emocjonalnym\, osobistym i poetyckim tekstom. Jego muzyczne opowieści chwytają za duszę – od kości aż po skórę. To\, czego nie potrafi wyrazić słowami\, przekłada na częstotliwości dźwięków słyszalnych dla ludzkiego ucha\, tworząc prawdziwe lekarstwo dla duszy i ciała.\nZadebiutował w 2024 roku serią czterech singli\, które przyciągnęły uwagę mediów i słuchaczy. Jest laureatem projektu „Dzielnica Brzmi Dobrze”\, co zaowocowało współpracą z miastem Katowice. Jego utwory pojawiały się w ogólnopolskich stacjach radiowych oraz trafiły na playlisty Spotify\, takie jak „Alternatywna Polska”\, „New Music Friday”\, „Relaks” czy „Fresh Finds Polska”. Wystąpił także na łódzkim festiwalu „Great September”.\nPatronem medialnym „Trasy od kości” jest Naszemiasto.pl\n 24 kwietnia 2026 r. Klub Pan Gar\, ul. Słowackiego 19 Otwarcie bram: 19:00 Start koncertu: 20:00
URL:https://dt.fundacjapanagara.pl/wydarzenie/michal-od-kosci-live-koncert-w-panu-garze/
LOCATION:Dom Tramwajarza sala Piccolo – Pan Gar\, ul. Słowackiego 19/21\, Poznań\, wielkopolskie\, Poland
CATEGORIES:Koncert
ATTACH;FMTTYPE=image/jpeg:https://dt.fundacjapanagara.pl/wp-content/uploads/2026/04/628573839_122232944246123115_7033311969594961410_n.jpg
END:VEVENT
BEGIN:VEVENT
DTSTART;TZID=Europe/Warsaw:20260425T190000
DTEND;TZID=Europe/Warsaw:20260425T210000
DTSTAMP:20260422T134956
CREATED:20260413T094835Z
LAST-MODIFIED:20260413T094835Z
UID:3054-1777143600-1777150800@dt.fundacjapanagara.pl
SUMMARY:Patrick's Drum - Irish Spring - koncert w Panu Garze
DESCRIPTION:Ponieważ Szmaragdowa Wyspa wiosenną porą wygląda wyjątkowo pięknie.Zapraszamy na muzyczną podróż przez irlandzkie krajobrazy\, z domieszką polskiej wrażliwości i współczesnej wyobraźni.\nKoncert „Irish Spring” z zespołem Patrick’s Drum.\nPatrick’s Drum to polski zespół muzyczny wykonujący tradycyjną muzykę celtycką\, który łączy brzmienia dawnych irlandzkich melodii z nowoczesnymi aranżacjami i wielogatunkową inspiracją.\nW składzie znajdują się doświadczeni muzycy od lat obecni na polskiej scenie folkowej. Ich instrumentarium to wyjątkowa mieszanka – obok skrzypiec\, gitary i irlandzkiego bębna bodhrán\, usłyszeć można także pianino czy handpan\, co nadaje ich muzyce niepowtarzalny charakter – subtelny\, a zarazem pełen energii.\nAnna Szewczuk – skrzypce\, śpiew;Jan Kłoczko – gitara akustyczna; pianino; śpiew;Patryk Hołoga – bodhran\, cajon\, handpan\, instr. perkusyjne.\n Data: 25.04.2026 Godz.: 19:00 Miejsce: Poznań\, Pan Gar (Do Tramwajarza); WSTĘP WOLNY (dobrowolna kwesta w trakcie koncertu).\n\nEnglish version:\nBecause the Emerald Isle looks especially beautiful in spring\, we invite you on a musical journey through Irish landscapes\, with a touch of Polish sensitivity and contemporary imagination.\n“Irish Spring” – a concert by Patrick’s Drum.\nPatrick’s Drum is a Polish band performing traditional Celtic music\, blending the sound of old Irish melodies with modern arrangements and multi-genre inspiration.\nThe lineup features experienced musicians who have been present on the Polish folk scene for many years. Their instrumentation is a unique mix – alongside violin\, guitar\, and the Irish bodhrán drum\, you can also hear piano and handpan\, giving their music a distinctive character that is both subtle and full of energy.\nAnna Szewczuk – violin\, vocalsJan Kłoczko – acoustic guitar\, piano\, vocalsPatryk Hołoga – bodhrán\, cajón\, handpan\, percussion\n Date: 25.04.2026 Time: 19:00 Venue: Poznań\, Pan Gar (Do Tramwajarza) Free entry (voluntary donations during the concert).
URL:https://dt.fundacjapanagara.pl/wydarzenie/patricks-drum-irish-spring-koncert-w-panu-garze/
LOCATION:Dom Tramwajarza sala Piccolo – Pan Gar\, ul. Słowackiego 19/21\, Poznań\, wielkopolskie\, Poland
CATEGORIES:Koncert
ATTACH;FMTTYPE=image/jpeg:https://dt.fundacjapanagara.pl/wp-content/uploads/2026/04/649873350_122131065098999554_4308137665881841572_n.jpg
END:VEVENT
BEGIN:VEVENT
DTSTART;TZID=Europe/Warsaw:20260426T190000
DTEND;TZID=Europe/Warsaw:20260426T210000
DTSTAMP:20260422T134956
CREATED:20260413T095147Z
LAST-MODIFIED:20260413T095855Z
UID:3057-1777230000-1777237200@dt.fundacjapanagara.pl
SUMMARY:Kaczmarski. Alternatywa - Nagórski / Wośko
DESCRIPTION:KACZMARSKI. ALTERNATYWA to program koncertowy duetu NAGÓRSKI / WOŚKO\, który koncentruje się wokół poezji Jacka Kaczmarskiego. Na pierwszą część koncertu składają się piosenki do wierszy Jacka Kaczmarskiego\, do których Poeta sam nie napisał muzyki. Jest to wybór utworów z programów\, które artyści opracowali w trakcie swojej wieloletniej pracy z poezją Kaczmarskiego – „Notatnik australijski”\, „Mój Zodiak”\, „Da Capo” i „Skruchy i erotyki dla Ewy”.\nKoncert jest dwuczęściowy. Po przerwie\, w drugiej części koncertu\, duet wykonuje szeroki wybór swoich ulubionych piosenek Kaczmarskiego – od tych najstarszych\, napisanych jeszcze w latach 80-tych\, aż po utwory z tzw. okresu australijskiego. Tekst tytułowej piosenki koncertu („Alternatywa”) pochodzi z tomiku poetyckiego „Notatnik australijski”. „Notatnik…” jest w twórczości Kaczmarskiego tomikiem wyjątkowym\, ponieważ tłem dla rozważań filozoficznych („skąd się wzięliśmy?”\, „dokąd zmierzamy?”\, „jaki jest cel i sens tego wszystkiego?”) nie jest historia Polski i Europy\, lecz australijskie pejzaże i przyroda.\nNa wszystkich koncertach istnieje możliwość kupienia płyt duetu NAGÓRSKI / WOŚKO z podpisami twórców. Najnowsza płyta – Powtórka z Odysei – jest zapisem koncertu\, który odbył się 22 marca 2025 roku w Jazz Clubie „Pod Filarami”.\nBilety:I pula – 50II pula – 60III pula – 70
URL:https://dt.fundacjapanagara.pl/wydarzenie/kaczmarski-alternatywa-nagorski-wosko/
LOCATION:Dom Tramwajarza sala Piccolo – Pan Gar\, ul. Słowackiego 19/21\, Poznań\, wielkopolskie\, Poland
CATEGORIES:Koncert
ATTACH;FMTTYPE=image/jpeg:https://dt.fundacjapanagara.pl/wp-content/uploads/2026/04/618627784_1446822057327703_5846661359781362422_n.jpg
END:VEVENT
BEGIN:VEVENT
DTSTART;TZID=Europe/Warsaw:20260429T200000
DTEND;TZID=Europe/Warsaw:20260429T223000
DTSTAMP:20260422T134956
CREATED:20260413T095412Z
LAST-MODIFIED:20260413T095412Z
UID:3060-1777492800-1777501800@dt.fundacjapanagara.pl
SUMMARY:113 Wieczór z Piosenką Nieobojętną kabaretu Klub Szyderców Bis
DESCRIPTION:113 raz zapraszamy Was na Wieczór z Piosenką Nieobojętną kabaretu Klub Szyderców Bis.\nWidzimy i słyszymy się: 29 ksietnia (wyjątkowo w ŚRODĘ) o godz. 20.00 Dom Tramwajarza – ul. Słowackiego 19/21 – Pan Gar bilety: 40 zł – dostępne na biletomat.plKlub w składzie: Przemysław Mazurek Krzysztof Dziuba Michał Ruksza Bartłomiej BredeSzymon ŻurowskiKarol Wojdyłooraz gościeA w programie to\, z czego słyną Szydercy (ci właściwi Szydercy przez wielkie „S”!) – piosenki stare i nowe\, szydercze i kilka podprowadzonych\, piosenki na wynos\, które jednak coś wnoszą\, śpiewane czasem wspólnie ale zawsze bez przymusu\, hymny\, ale bez konieczności wstawania! Nie zabraknie też fraszek a może i innych form poetyckich. Podsumowując – czeka nas kolejny szalenie przyjemny wieczór\, na który bez szydery serdecznie zapraszamy!
URL:https://dt.fundacjapanagara.pl/wydarzenie/113-wieczor-z-piosenka-nieobojetna-kabaretu-klub-szydercow-bis/
LOCATION:Dom Tramwajarza sala Piccolo – Pan Gar\, ul. Słowackiego 19/21\, Poznań\, wielkopolskie\, Poland
CATEGORIES:Kabaret,Koncert
ATTACH;FMTTYPE=image/png:https://dt.fundacjapanagara.pl/wp-content/uploads/2026/04/113-wieczorzpiosenka.png
END:VEVENT
BEGIN:VEVENT
DTSTART;TZID=Europe/Warsaw:20260430T190000
DTEND;TZID=Europe/Warsaw:20260430T210000
DTSTAMP:20260422T134956
CREATED:20260413T095734Z
LAST-MODIFIED:20260413T095734Z
UID:3063-1777575600-1777582800@dt.fundacjapanagara.pl
SUMMARY:Wind Dreamers - koncert w Panu Garze
DESCRIPTION:Zapraszamy na magiczny koncert grupy 𝙒𝙞𝙣𝙙 𝘿𝙧𝙚𝙖𝙢𝙚𝙧𝙨\, który odbędzie się w Domu Tramwajarza\, na scenie klubu Pan Gar\n30 kwietnia – czwartek – godz. 19.00 Dom Tramwajarza – ul. Słowackiego 19/21 – Pan Gar bilety: 60 zł – dostępne na platformie Biletomat oraz przy wejściu\n𝙒𝙞𝙣𝙙 𝘿𝙧𝙚𝙖𝙢𝙚𝙧𝙨 – grupa zawiązana prawie trzy lata temu\, przez trójkę artystów\, chociaż trzeba zauważyć\, że występują we czworo – na scenie towarzyszy im pies\, Tajga\, która swoją postawą niejako instruuje przybyłych słuchaczy jak się zachowywać w tej osobliwej sytuacji: wystarczy znaleźć wygodne miejsce\, siedzieć lub położyć się\, i doświadczać. Muzyka\, która towarzyszy wszystkim obecnym\, przez około półtorej godziny\, nie jest zaplanowana\, ale bynajmniej nie przypadkowa.\n Joanna Zielecka (flety)\, Jeremi Gromada (gitara)\, Jan Hrynkiewicz (handpan)\,& Tajga (wdzięk). �\nTo\, co charakteryzuje ich koncerty\, to intensywna uważność na siebie nawzajem\, która sprawia\, że improwizowzację wypełnia unikalna harmonia. Melodie\, które powstają w wyniku tej symbiozy niosą ze sobą niekiedy silne emocjonalne treści\, potrafiące dogłębnie poruszyć serca słuchaczy jak i samych grających. Nie jest to sesja soundhealingu czy jakakolwiek forma rytuału terapeutycznego. Autorzy przyznają\, że wielokrotnie spotykali się z wyraźną opinią uczestników\, że ich muzyka ma właściwości lecznicze\, lecz nie biorą odpowiedzialności za występowanie podobnych skutków lub ich brak.\nCzasem do uzdrowienia potrzeba tylko się zatrzymać\, cokolwiek to znaczy\, a to wydarzenie faktycznie może być do takiego zatrzymania wyjątkową sposobnością.
URL:https://dt.fundacjapanagara.pl/wydarzenie/wind-dreamers-koncert-w-panu-garze/
LOCATION:Dom Tramwajarza sala Piccolo – Pan Gar\, ul. Słowackiego 19/21\, Poznań\, wielkopolskie\, Poland
CATEGORIES:Koncert
ATTACH;FMTTYPE=image/png:https://dt.fundacjapanagara.pl/wp-content/uploads/2026/04/wind-dreamers.png
END:VEVENT
BEGIN:VEVENT
DTSTART;TZID=Europe/Warsaw:20260518T190000
DTEND;TZID=Europe/Warsaw:20260518T210000
DTSTAMP:20260422T134956
CREATED:20260408T225211Z
LAST-MODIFIED:20260408T225348Z
UID:3034-1779130800-1779138000@dt.fundacjapanagara.pl
SUMMARY:Seans - PREMIERA Nagle Teatru - czarna komedia
DESCRIPTION:Maria całe życie skrywa pewną tajemnicę i liczy na to\, że uda jej się zabrać ją ze sobą do grobu. Nie wie\, że jej najbliżsi też mają coś na sumieniu. Rozczarowana małżeństwem i niezadowolona z dzieci\, jest przekonana\, że nic ją już w życiu nie czeka. Chce się przygotować na swoje kulminacyjne show\, więc trenuje umieranie. Nie zamierza odchodzić z tego świata byle jak\, tylko z gracją\, umalowana\, ufryzowana i w najlepszej koszuli nocnej. Ale się nie spodziewa takiego finału…\nOBSADA:Krystyna KasperskaMagdalena BorMarcin KwiatkowskiMagdalena LechMichał MiłowiczIga Miłowicz\nSCENARIUSZ I REŻYSERIA: Anna Kapczyńska-Martínez\nBILETY: 30 zł (do końca kwietnia)35 zł (w maju)
URL:https://dt.fundacjapanagara.pl/wydarzenie/seans-premiera-nagle-teatru-czarna-komedia-2/
LOCATION:wielkopolskie
CATEGORIES:Spektakl,Spektakle
ATTACH;FMTTYPE=image/jpeg:https://dt.fundacjapanagara.pl/wp-content/uploads/2026/04/669539936_122274225602179037_8903617615676283873_n.jpg
END:VEVENT
END:VCALENDAR