BEGIN:VCALENDAR
VERSION:2.0
PRODID:-//Dom Tramwajarza - ECPv6.15.11//NONSGML v1.0//EN
CALSCALE:GREGORIAN
METHOD:PUBLISH
X-ORIGINAL-URL:https://dt.fundacjapanagara.pl
X-WR-CALDESC:Wydarzenia dla Dom Tramwajarza
REFRESH-INTERVAL;VALUE=DURATION:PT1H
X-Robots-Tag:noindex
X-PUBLISHED-TTL:PT1H
BEGIN:VTIMEZONE
TZID:Europe/Warsaw
BEGIN:DAYLIGHT
TZOFFSETFROM:+0100
TZOFFSETTO:+0200
TZNAME:CEST
DTSTART:20250330T010000
END:DAYLIGHT
BEGIN:STANDARD
TZOFFSETFROM:+0200
TZOFFSETTO:+0100
TZNAME:CET
DTSTART:20251026T010000
END:STANDARD
BEGIN:DAYLIGHT
TZOFFSETFROM:+0100
TZOFFSETTO:+0200
TZNAME:CEST
DTSTART:20260329T010000
END:DAYLIGHT
BEGIN:STANDARD
TZOFFSETFROM:+0200
TZOFFSETTO:+0100
TZNAME:CET
DTSTART:20261025T010000
END:STANDARD
BEGIN:DAYLIGHT
TZOFFSETFROM:+0100
TZOFFSETTO:+0200
TZNAME:CEST
DTSTART:20270328T010000
END:DAYLIGHT
BEGIN:STANDARD
TZOFFSETFROM:+0200
TZOFFSETTO:+0100
TZNAME:CET
DTSTART:20271031T010000
END:STANDARD
END:VTIMEZONE
BEGIN:VEVENT
DTSTART;TZID=Europe/Warsaw:20260424T200000
DTEND;TZID=Europe/Warsaw:20260424T220000
DTSTAMP:20260422T121235
CREATED:20260413T094505Z
LAST-MODIFIED:20260413T094505Z
UID:3051-1777060800-1777068000@dt.fundacjapanagara.pl
SUMMARY:MICHAŁ OD KOŚCI LIVE - koncert w Panu Garze
DESCRIPTION:Michał od kości wyrusza w „Trasę od kości”\, która będzie promowała debiutancką płytę artysty „Piosenki do filmów\, których nie było”.\nMateriał dojrzewał ponad dwa lata – artysta zamknął w nim wspomnienia i zdarzenia\, nadając im formę intymnych\, muzycznych portretów. Są to dźwiękowe mikroopowieści\, które w wyobraźni Michała od kości mogłyby stać się scenariuszami poruszających obrazów kinowych. Podobno z przyjemnością w tych filmach zagrałby Tom Hanks.\nMichał od Kości\, czyli Michał Włodarczyk\, to songwriter i producent\, który w swojej twórczości łączy organiczne brzmienia żywych instrumentów z subtelną elektroniką. Uznawany za męską wersję Kaśki Sochackiej dzięki emocjonalnym\, osobistym i poetyckim tekstom. Jego muzyczne opowieści chwytają za duszę – od kości aż po skórę. To\, czego nie potrafi wyrazić słowami\, przekłada na częstotliwości dźwięków słyszalnych dla ludzkiego ucha\, tworząc prawdziwe lekarstwo dla duszy i ciała.\nZadebiutował w 2024 roku serią czterech singli\, które przyciągnęły uwagę mediów i słuchaczy. Jest laureatem projektu „Dzielnica Brzmi Dobrze”\, co zaowocowało współpracą z miastem Katowice. Jego utwory pojawiały się w ogólnopolskich stacjach radiowych oraz trafiły na playlisty Spotify\, takie jak „Alternatywna Polska”\, „New Music Friday”\, „Relaks” czy „Fresh Finds Polska”. Wystąpił także na łódzkim festiwalu „Great September”.\nPatronem medialnym „Trasy od kości” jest Naszemiasto.pl\n 24 kwietnia 2026 r. Klub Pan Gar\, ul. Słowackiego 19 Otwarcie bram: 19:00 Start koncertu: 20:00
URL:https://dt.fundacjapanagara.pl/wydarzenie/michal-od-kosci-live-koncert-w-panu-garze/
LOCATION:Dom Tramwajarza sala Piccolo – Pan Gar\, ul. Słowackiego 19/21\, Poznań\, wielkopolskie\, Poland
CATEGORIES:Koncert
ATTACH;FMTTYPE=image/jpeg:https://dt.fundacjapanagara.pl/wp-content/uploads/2026/04/628573839_122232944246123115_7033311969594961410_n.jpg
END:VEVENT
END:VCALENDAR