BEGIN:VCALENDAR
VERSION:2.0
PRODID:-//Dom Tramwajarza - ECPv6.15.11//NONSGML v1.0//EN
CALSCALE:GREGORIAN
METHOD:PUBLISH
X-ORIGINAL-URL:https://dt.fundacjapanagara.pl
X-WR-CALDESC:Wydarzenia dla Dom Tramwajarza
REFRESH-INTERVAL;VALUE=DURATION:PT1H
X-Robots-Tag:noindex
X-PUBLISHED-TTL:PT1H
BEGIN:VTIMEZONE
TZID:Europe/Warsaw
BEGIN:DAYLIGHT
TZOFFSETFROM:+0100
TZOFFSETTO:+0200
TZNAME:CEST
DTSTART:20250330T010000
END:DAYLIGHT
BEGIN:STANDARD
TZOFFSETFROM:+0200
TZOFFSETTO:+0100
TZNAME:CET
DTSTART:20251026T010000
END:STANDARD
BEGIN:DAYLIGHT
TZOFFSETFROM:+0100
TZOFFSETTO:+0200
TZNAME:CEST
DTSTART:20260329T010000
END:DAYLIGHT
BEGIN:STANDARD
TZOFFSETFROM:+0200
TZOFFSETTO:+0100
TZNAME:CET
DTSTART:20261025T010000
END:STANDARD
BEGIN:DAYLIGHT
TZOFFSETFROM:+0100
TZOFFSETTO:+0200
TZNAME:CEST
DTSTART:20270328T010000
END:DAYLIGHT
BEGIN:STANDARD
TZOFFSETFROM:+0200
TZOFFSETTO:+0100
TZNAME:CET
DTSTART:20271031T010000
END:STANDARD
END:VTIMEZONE
BEGIN:VEVENT
DTSTART;TZID=Europe/Warsaw:20260312T190000
DTEND;TZID=Europe/Warsaw:20260312T210000
DTSTAMP:20260422T134634
CREATED:20260310T122307Z
LAST-MODIFIED:20260310T122307Z
UID:3003-1773342000-1773349200@dt.fundacjapanagara.pl
SUMMARY:Wróci wiosna\, baronowo - piosenki Stanisława Staszewskiego
DESCRIPTION:Zapraszamy na koncert piosenek Stanisława Staszewskiego „Wróci wiosna\, baronowo” w wykonaniu muzyków Kwartetu ProForma – Przemysława Lembicza i Piotra Lembicza.\n12 marca – czwartek – godz. 19.00 Dom Tramwajarza – ul. Słowackiego 19/21 – Pan Gar bilety: 50 zł – dostępne na biletomat.plhttps://biletomat.pl/…/wroci-wiosna-baronowo-piosenki…\nStanisław Staszewski – znany jako „Tata Kazika” – wydaje się być postacią ciągle nieodkrytą i mało znaną. Mimo wielkiego sukcesu piosenek opracowanych w rockowych aranżacjach w latach 90. przez zespół KULT\, jego twórczość pozostaje w cieniu współczesnych mu poetów. Od kilku lat\, staraniem ludzi zaangażowanych w popularyzację twórczości Staszewskiego\, udaje się przybliżać jego złożoną postać. Na ile jednak Stanisław Staszewski jest postacią znaną? Czy jego twórczość stała się tylko – jak sam mawiał – „korbą do wyciskania szmalcu”? Koncert w wykonaniu Przemysława Lembicza i Piotra Lembicza (muzyków poznańskiego Kwartetu ProForma) będzie okazją do przypomnienia sobie najpopularniejszych piosenek Staszka\, takich jak „Celina”\, „Baranek” czy „Notoryczna narzeczona”\, ale też tych mniej znanych – a wszystko to okraszone anegdotami dotyczącymi okoliczności powstania utworów i związanymi z burzliwą biografią Poety. Koncert będzie połączony z promocją wydanego niedawno tomiku dzieł zebranych Poety – możliwość zakupienia książki na miejscu.
URL:https://dt.fundacjapanagara.pl/wydarzenie/wroci-wiosna-baronowo-piosenki-stanislawa-staszewskiego/
LOCATION:Dom Tramwajarza sala Piccolo – Pan Gar\, ul. Słowackiego 19/21\, Poznań\, wielkopolskie\, Poland
CATEGORIES:Koncert,koncerty,Koncerty/muzyka
ATTACH;FMTTYPE=image/png:https://dt.fundacjapanagara.pl/wp-content/uploads/2026/03/wroci-wiosna-baner.png
END:VEVENT
END:VCALENDAR