BEGIN:VCALENDAR
VERSION:2.0
PRODID:-//Dom Tramwajarza - ECPv6.15.11//NONSGML v1.0//EN
CALSCALE:GREGORIAN
METHOD:PUBLISH
X-WR-CALNAME:Dom Tramwajarza
X-ORIGINAL-URL:https://dt.fundacjapanagara.pl
X-WR-CALDESC:Wydarzenia dla Dom Tramwajarza
REFRESH-INTERVAL;VALUE=DURATION:PT1H
X-Robots-Tag:noindex
X-PUBLISHED-TTL:PT1H
BEGIN:VTIMEZONE
TZID:Europe/Warsaw
BEGIN:DAYLIGHT
TZOFFSETFROM:+0100
TZOFFSETTO:+0200
TZNAME:CEST
DTSTART:20250330T010000
END:DAYLIGHT
BEGIN:STANDARD
TZOFFSETFROM:+0200
TZOFFSETTO:+0100
TZNAME:CET
DTSTART:20251026T010000
END:STANDARD
BEGIN:DAYLIGHT
TZOFFSETFROM:+0100
TZOFFSETTO:+0200
TZNAME:CEST
DTSTART:20260329T010000
END:DAYLIGHT
BEGIN:STANDARD
TZOFFSETFROM:+0200
TZOFFSETTO:+0100
TZNAME:CET
DTSTART:20261025T010000
END:STANDARD
BEGIN:DAYLIGHT
TZOFFSETFROM:+0100
TZOFFSETTO:+0200
TZNAME:CEST
DTSTART:20270328T010000
END:DAYLIGHT
BEGIN:STANDARD
TZOFFSETFROM:+0200
TZOFFSETTO:+0100
TZNAME:CET
DTSTART:20271031T010000
END:STANDARD
END:VTIMEZONE
BEGIN:VEVENT
DTSTART;TZID=Europe/Warsaw:20260307T200000
DTEND;TZID=Europe/Warsaw:20260307T220000
DTSTAMP:20260422T134519
CREATED:20260214T121139Z
LAST-MODIFIED:20260214T121139Z
UID:2982-1772913600-1772920800@dt.fundacjapanagara.pl
SUMMARY:Łukasz Łyczkowski - koncert w Panu Garze
DESCRIPTION:Łukasz Łyczkowski – artysta\, wokalista kompozytor\, powołał długo oczekiwany zespół gdzie prezentuje autorską twórczość. Z matczyną formacją 5 RANO doczekał się ponad 42 milionów wyświetleń singli w serwisie YouTube\, w 2017 okazał się najlepszym męskim wokalistą XIII edycji Voice of Poland\, w finale zajmując 2 miejsce. Przez lata towarzyszył wokalnie Leszkowi Cichońskiemu – twórcy gitarowego Rekordu Guinessa\, jest laureatem wielu nagród i festiwali. Niepokorny\, niezależny\, uczulony na szczerość w muzyce i wybierający artyzm\, nie komercję popularny Łyczek zaprasza do swojego świata. Co czeka Was na koncercie? Autorskie utworu ulepione z umiłowanego klasycznego rocka\, folku\, grunge\, bluesa\, jazzu i muzyki z krainy łagodności\, które są konceptualną opowieścią o życiu\, Jego uniesieniach i mrokach. Łukasz Łyczkowski to niebywała charyzma sceniczna\, ekspresja\, sam nazywa to \, wyśpiewaniem siebie”. Skompletował znakomity skład\, w którym perłą w koronie jest wtórująca wokalnie liderowi niezwykła Małgorzata Grancewicz\, która również z powodzeniem występowała w Voice of Poland czy w Szansie na sukces. Koncerty to kwintesencja tego co najpiękniejsze w rock&rollu\, oddanie się bez opamiętania sztuce i publiczności.Skład zespołu:Łukasz Łyczkowski – wokal\, gitara akustycznaMałgorzata Grancewicz – wokalGrzegorz Kruszakin – gitara elektrycznaTomasz Pituła – perkusjaKamil Meler – basArkadiusz Jurusz – klawisze\, organy Hammond\nMiejsce: Dom Tramwajarza ul. Słowackiego 19/21 Poznań Data: 07.03.2026 (piątek) Wejście: 19:00 Start: 20:00\n Bilety: Rezerwacja SMS na numer 665:135 353 ( ilość biletów\, imię i nazwisko\, miejsce koncertuPrzedsprzedaż 60 PLN\, w dniu koncertu na bramce 70 PLN
URL:https://dt.fundacjapanagara.pl/wydarzenie/lukasz-lyczkowski-koncert-w-panu-garze/
LOCATION:Dom Tramwajarza sala Piccolo – Pan Gar\, ul. Słowackiego 19/21\, Poznań\, wielkopolskie\, Poland
CATEGORIES:Koncert,koncerty,Koncerty/muzyka
ATTACH;FMTTYPE=image/jpeg:https://dt.fundacjapanagara.pl/wp-content/uploads/2026/02/494694808_995986849181834_5110225684348832143_n.jpg
END:VEVENT
END:VCALENDAR