BEGIN:VCALENDAR
VERSION:2.0
PRODID:-//Dom Tramwajarza - ECPv6.15.11//NONSGML v1.0//EN
CALSCALE:GREGORIAN
METHOD:PUBLISH
X-WR-CALNAME:Dom Tramwajarza
X-ORIGINAL-URL:https://dt.fundacjapanagara.pl
X-WR-CALDESC:Wydarzenia dla Dom Tramwajarza
REFRESH-INTERVAL;VALUE=DURATION:PT1H
X-Robots-Tag:noindex
X-PUBLISHED-TTL:PT1H
BEGIN:VTIMEZONE
TZID:Europe/Warsaw
BEGIN:DAYLIGHT
TZOFFSETFROM:+0100
TZOFFSETTO:+0200
TZNAME:CEST
DTSTART:20250330T010000
END:DAYLIGHT
BEGIN:STANDARD
TZOFFSETFROM:+0200
TZOFFSETTO:+0100
TZNAME:CET
DTSTART:20251026T010000
END:STANDARD
BEGIN:DAYLIGHT
TZOFFSETFROM:+0100
TZOFFSETTO:+0200
TZNAME:CEST
DTSTART:20260329T010000
END:DAYLIGHT
BEGIN:STANDARD
TZOFFSETFROM:+0200
TZOFFSETTO:+0100
TZNAME:CET
DTSTART:20261025T010000
END:STANDARD
BEGIN:DAYLIGHT
TZOFFSETFROM:+0100
TZOFFSETTO:+0200
TZNAME:CEST
DTSTART:20270328T010000
END:DAYLIGHT
BEGIN:STANDARD
TZOFFSETFROM:+0200
TZOFFSETTO:+0100
TZNAME:CET
DTSTART:20271031T010000
END:STANDARD
END:VTIMEZONE
BEGIN:VEVENT
DTSTART;TZID=Europe/Warsaw:20260228T190000
DTEND;TZID=Europe/Warsaw:20260228T210000
DTSTAMP:20260422T135257
CREATED:20260214T120417Z
LAST-MODIFIED:20260214T120417Z
UID:2979-1772305200-1772312400@dt.fundacjapanagara.pl
SUMMARY:Daga Cichocka I Asia i koty I koncert w Panu Garze
DESCRIPTION:Daga Cichocka | mind melting & heart warming sounds\nPoczątkujący songwriterski projekt z autorskimi kompozycjami Dagi “night flights” to piosenki zbierane podczas samotnych nocy w trio serducho – głos – gitara.Przytulnie melancholijne\, w towarzystwie miękkiego\, przestrzennego wokalu tworzą ciepłe\, nastrojowe i kojące brzmienie.Dzieli się w nim swoją miłością do delikatnych\, wpadających w ucho melodii\, gdzie americana z lekkością romansuje z rytmami bossa novy.\nUtwory oprawione muzycznie z (niezastąpioną) Magdą Kruk na dwie gitary i wokal\, niedawno doczekały się linii basowych Jakuba Szwemina.\nTo pierwsza trasa koncertowa projektu oraz zapowiedź debiutanckiej płyty\, choć sami muzycy debiutantami nie są\, a Dagę można było usłyszeć w zupełnie innych odsłonach z innymi zespołami\, np. Ivo Shandor and The Gozer Worshipers\, Goodly czy Pipi ya Jeli podczas takich festiwali jak m.in. Inne Brzmienia\, Fląder\, Gorzowski Splin\, Sea You Music Showcase.\n~ ~ ~ ~ ~ ~ ~ ~ ~ ~ ~ ~ ~ ~ ~ ~ ~ ~ ~ ~ ~ ~ ~ ~\nJoanna Bielawska dała się poznać polskiej publiczności w 2012 roku\, kiedy to światło dzienne ujrzał jej debiutancki album „Miserable Miaow”. Zaprezentowała na nim swoje fascynacje piosenkami\, akustycznymi melodiami i elektronicznymi wpływami\, które razem zbudowały szeroką gamę melancholijnych\, ale wyrazistych piosenek.Jako Asia i Koty artystka samodzielnie komponuje wszystkie utwory i gra na gitarze elektrycznej oraz wykorzystuje loopery. To minimalistyczny songwriting\, wzbogacony o rozbudowane harmonie i mantryczne powtórzenia. Najważniejszym składnikiem jest głos – przejmujący\, czysty i dojrzały.W muzyce Bielawskiej uwagę zwraca delikatność\, a jednocześnie często mroczny nastrój jej utworów\, piosenkowość a z drugiej strony otwarcie się na muzyczne eksperymenty i poszukiwania.\nAsia i Koty koncertowała wielokrotnie w Polsce (m.in. na katowickim OFF Festival\, Opole Songwriters Festival\, Spring Break Festival\, supportowała Hugo Race’a\, Marię Peszek i Hey)\, grała też w Niemczech\, Szwajcarii i na Litwie.Razem z Shyness! występowała m.in. na Męskim Graniu\, Tauronie\, Olsztyn Green Festival oraz na Malta Festival.\n\n28.02.\, godz. 19:00Poznań\, Pan Garbilety: 50 zł (dostępne przy wejściu)
URL:https://dt.fundacjapanagara.pl/wydarzenie/daga-cichocka-i-asia-i-koty-i-koncert-w-panu-garze/
LOCATION:Dom Tramwajarza sala Piccolo – Pan Gar\, ul. Słowackiego 19/21\, Poznań\, wielkopolskie\, Poland
CATEGORIES:Koncert,koncerty,Koncerty/muzyka
ATTACH;FMTTYPE=image/jpeg:https://dt.fundacjapanagara.pl/wp-content/uploads/2026/02/627545995_1190889359694987_6282184949577157380_n.jpg
END:VEVENT
END:VCALENDAR