BEGIN:VCALENDAR
VERSION:2.0
PRODID:-//Dom Tramwajarza - ECPv6.15.11//NONSGML v1.0//EN
CALSCALE:GREGORIAN
METHOD:PUBLISH
X-WR-CALNAME:Dom Tramwajarza
X-ORIGINAL-URL:https://dt.fundacjapanagara.pl
X-WR-CALDESC:Wydarzenia dla Dom Tramwajarza
REFRESH-INTERVAL;VALUE=DURATION:PT1H
X-Robots-Tag:noindex
X-PUBLISHED-TTL:PT1H
BEGIN:VTIMEZONE
TZID:Europe/Warsaw
BEGIN:DAYLIGHT
TZOFFSETFROM:+0100
TZOFFSETTO:+0200
TZNAME:CEST
DTSTART:20250330T010000
END:DAYLIGHT
BEGIN:STANDARD
TZOFFSETFROM:+0200
TZOFFSETTO:+0100
TZNAME:CET
DTSTART:20251026T010000
END:STANDARD
BEGIN:DAYLIGHT
TZOFFSETFROM:+0100
TZOFFSETTO:+0200
TZNAME:CEST
DTSTART:20260329T010000
END:DAYLIGHT
BEGIN:STANDARD
TZOFFSETFROM:+0200
TZOFFSETTO:+0100
TZNAME:CET
DTSTART:20261025T010000
END:STANDARD
BEGIN:DAYLIGHT
TZOFFSETFROM:+0100
TZOFFSETTO:+0200
TZNAME:CEST
DTSTART:20270328T010000
END:DAYLIGHT
BEGIN:STANDARD
TZOFFSETFROM:+0200
TZOFFSETTO:+0100
TZNAME:CET
DTSTART:20271031T010000
END:STANDARD
END:VTIMEZONE
BEGIN:VEVENT
DTSTART;TZID=Europe/Warsaw:20260227T193000
DTEND;TZID=Europe/Warsaw:20260227T220000
DTSTAMP:20260422T135257
CREATED:20260214T115306Z
LAST-MODIFIED:20260214T115306Z
UID:2976-1772220600-1772229600@dt.fundacjapanagara.pl
SUMMARY:Disco Katharsis - Madame Affair + Heat! - koncert w Panu Garze
DESCRIPTION:27 lutego doczekasz się najgorętszego koncertu tej zimy.\nDwa poznańskie zespoły\, dwa spojrzenia na disco\, jeden parny klub\, w którym skryjesz się gdy na dworze będzie -20° i rozgrzejesz się do czerwoności tańcząc.\nSpotkamy się u Pana Gara\, gdzie gotować dla Ciebie będą:\n\nHeat!Zespół powstał ponad trzy lata temu w Poznaniu i bardzo szybko znalazł swój kierunek – disco! Nasza muzyka to podróż w czasie\, do amerykańskich klubów nocnych lat 70.\, celebracja młodości posypana brokatem i wielki zbiór kreatywności pięciu zupełnie różnych młodych muzyków\, a w dużym skrócie: to po prostu świetna zabawa. Swoimi utworami mamy nadzieję przypomnieć słuchaczom\, że choć czasem głęboko ukryte pod codziennymi sprawami\, w duszy każdego drzemie pierwiastek Heat! Skład poszerzony o sekcję dętą oraz niezastąpiony zespół chórkowy Serca Bitche gwarantuje taneczną ucztę\, której długo nie zapomnicie.\n\n\nMadame AffairPoznańskie świry z fiołem na punkcie groove’u. Ciasne bity\, pląsate riffy i bezczelny bas są bazą\, którą zdradzamy na prawo i lewo. Do niedawna\, efektem tych romansów była odmienność każdego utworu\, jednak ostatnio powiększyliśmy skład i staliśmy się relatywnie wierni nowo odnalezionemu brzmieniu. Gramy nu-disco z dance punkową energią i elektronicznym zacięciem. Śpiewamy o problemach przebodźcowanego świata lub o miłości.\n\nWlota: 40 pln
URL:https://dt.fundacjapanagara.pl/wydarzenie/disco-katharsis-madame-affair-heat-koncert-w-panu-garze/
LOCATION:Dom Tramwajarza sala Piccolo – Pan Gar\, ul. Słowackiego 19/21\, Poznań\, wielkopolskie\, Poland
CATEGORIES:Koncert,koncerty,Koncerty/muzyka
ATTACH;FMTTYPE=image/jpeg:https://dt.fundacjapanagara.pl/wp-content/uploads/2026/02/625726620_1504743778326733_2697224995751705882_n.jpg
END:VEVENT
END:VCALENDAR