BEGIN:VCALENDAR
VERSION:2.0
PRODID:-//Dom Tramwajarza - ECPv6.15.11//NONSGML v1.0//EN
CALSCALE:GREGORIAN
METHOD:PUBLISH
X-WR-CALNAME:Dom Tramwajarza
X-ORIGINAL-URL:https://dt.fundacjapanagara.pl
X-WR-CALDESC:Wydarzenia dla Dom Tramwajarza
REFRESH-INTERVAL;VALUE=DURATION:PT1H
X-Robots-Tag:noindex
X-PUBLISHED-TTL:PT1H
BEGIN:VTIMEZONE
TZID:Europe/Warsaw
BEGIN:DAYLIGHT
TZOFFSETFROM:+0100
TZOFFSETTO:+0200
TZNAME:CEST
DTSTART:20250330T010000
END:DAYLIGHT
BEGIN:STANDARD
TZOFFSETFROM:+0200
TZOFFSETTO:+0100
TZNAME:CET
DTSTART:20251026T010000
END:STANDARD
BEGIN:DAYLIGHT
TZOFFSETFROM:+0100
TZOFFSETTO:+0200
TZNAME:CEST
DTSTART:20260329T010000
END:DAYLIGHT
BEGIN:STANDARD
TZOFFSETFROM:+0200
TZOFFSETTO:+0100
TZNAME:CET
DTSTART:20261025T010000
END:STANDARD
BEGIN:DAYLIGHT
TZOFFSETFROM:+0100
TZOFFSETTO:+0200
TZNAME:CEST
DTSTART:20270328T010000
END:DAYLIGHT
BEGIN:STANDARD
TZOFFSETFROM:+0200
TZOFFSETTO:+0100
TZNAME:CET
DTSTART:20271031T010000
END:STANDARD
END:VTIMEZONE
BEGIN:VEVENT
DTSTART;TZID=Europe/Warsaw:20260226T200000
DTEND;TZID=Europe/Warsaw:20260226T220000
DTSTAMP:20260422T135257
CREATED:20260214T113813Z
LAST-MODIFIED:20260214T113813Z
UID:2970-1772136000-1772143200@dt.fundacjapanagara.pl
SUMMARY:Peter J. Birch - koncert w Panu Garze
DESCRIPTION:Pan Garul. Słowackiego 19/2160-822 Poznań\nBILETY: do 31.01.2026 – 30 złOd 1.02 do dnia koncertu – 40 zł\nGdy w dzisiejszych czasach ktoś decyduje się grać i komponować folk\, alt-country czy americanę\, to musi mieć do tego dobry powód i jeszcze lepsze umiejętności. Tak jest w przypadku Piotra Jana Brzezińskiego\, muzyka\, który już od kilkunastu lat udowadnia\, że muzyka gitarowa ma się dobrze pod warunkiem\, że ma się na nią pomysł. Tych pomysłów artyście z Wołowa na Dolnym Śląsku nie brakuje.Peter J. Birch\, gdyż pod takim pseudonimem tworzy Brzeziński\, to człowiek-orkiestra\, który niezależnie od tego czy na scenie występuje w pojedynkę czy ze składem muzyków\, potrafi zbudować unikatową atmosferę już po kilku taktach. Swoją karierę zainaugurował w 2009 roku by już w 2010 roku wypuścić w świat pierwsze nagrania pod postacią EP „In My Island”. Kolejne wydawnictwa kształtowy jego styl\, który przypadł do gustu nie tylko słuchaczom\, lecz znalazł także uznanie w opinii dziennikarzy czy organizatorów największych festiwali. Na koncie Petera J. Bircha są występy nie tylko na najważniejszych imprezach w kraju\, takich jak Opener czy OFF Festival\, lecz także zagranicą\, gdzie miał okazję zaprezentować się publiczności 20-stu państw Europy\, a także zagrać trasę koncertową po Japonii\, która zaowocowała wydaniem jego czwartego albumu „Inner Anxiety” na tamtejszy rynek.Styl Petera J. Bircha przez lata nabierał rumieńców. Ciepłemu brzmieniu gitary akustycznej towarzyszy mocny\, męski głos\, w którym nie brakuje emocji. Warstwa liryczna jest równie ważna co brzmienie\, o czym Brzeziński przekonuje na każdej ze swoich płyt. Choć wachlarz stylistyczny artysty z Wołowa jest szeroki to całokształt twórczości Petera J. Bircha należy uznać za wyjątkowo spójny. Muzykowi udaje się niesłychanie zgrabnie łączyć elementy folku spod znaku Williama Fitzsimmonsa z akcentami alt-country w stylu Bonnie 'Prince’ Billy\, Wilco czy Okkervil River. Co ciekawe\, w brzmieniu Brzezińskiego z łatwością odnajdą się fani Neila Younga czy Nicka Cave’a\, ale trzeba oddać\, że Birchowi nie brakuje odwagi\, by wychodzić poza ramy muzyki gitarowej i eksperymentować z elementami elektroniki\, podobnie jak robią to Damien Rice czy James Vincent McMorrow. Wspólnym mianownikiem wszystkich wcieleń Bircha jest autentyczność\, która wybija się na pierwszy plan niezależnie od towarzyszącego jej dźwiękowego anturażu.
URL:https://dt.fundacjapanagara.pl/wydarzenie/peter-j-birch-koncert-w-panu-garze/
LOCATION:Dom Tramwajarza sala Piccolo – Pan Gar\, ul. Słowackiego 19/21\, Poznań\, wielkopolskie\, Poland
CATEGORIES:Koncert,koncerty
ATTACH;FMTTYPE=image/png:https://dt.fundacjapanagara.pl/wp-content/uploads/2026/02/peter-j-birch.png
END:VEVENT
END:VCALENDAR