BEGIN:VCALENDAR
VERSION:2.0
PRODID:-//Dom Tramwajarza - ECPv6.15.11//NONSGML v1.0//EN
CALSCALE:GREGORIAN
METHOD:PUBLISH
X-WR-CALNAME:Dom Tramwajarza
X-ORIGINAL-URL:https://dt.fundacjapanagara.pl
X-WR-CALDESC:Wydarzenia dla Dom Tramwajarza
REFRESH-INTERVAL;VALUE=DURATION:PT1H
X-Robots-Tag:noindex
X-PUBLISHED-TTL:PT1H
BEGIN:VTIMEZONE
TZID:Europe/Warsaw
BEGIN:DAYLIGHT
TZOFFSETFROM:+0100
TZOFFSETTO:+0200
TZNAME:CEST
DTSTART:20250330T010000
END:DAYLIGHT
BEGIN:STANDARD
TZOFFSETFROM:+0200
TZOFFSETTO:+0100
TZNAME:CET
DTSTART:20251026T010000
END:STANDARD
BEGIN:DAYLIGHT
TZOFFSETFROM:+0100
TZOFFSETTO:+0200
TZNAME:CEST
DTSTART:20260329T010000
END:DAYLIGHT
BEGIN:STANDARD
TZOFFSETFROM:+0200
TZOFFSETTO:+0100
TZNAME:CET
DTSTART:20261025T010000
END:STANDARD
BEGIN:DAYLIGHT
TZOFFSETFROM:+0100
TZOFFSETTO:+0200
TZNAME:CEST
DTSTART:20270328T010000
END:DAYLIGHT
BEGIN:STANDARD
TZOFFSETFROM:+0200
TZOFFSETTO:+0100
TZNAME:CET
DTSTART:20271031T010000
END:STANDARD
END:VTIMEZONE
BEGIN:VEVENT
DTSTART;TZID=Europe/Warsaw:20260225T202500
DTEND;TZID=Europe/Warsaw:20260225T220000
DTSTAMP:20260422T135257
CREATED:20260214T112020Z
LAST-MODIFIED:20260214T112020Z
UID:2967-1772051100-1772056800@dt.fundacjapanagara.pl
SUMMARY:Pan Gar Orchestra - Dźwięki Tbiliskiego Podziemia - koncert
DESCRIPTION:Zapraszamy na koncert grupy „Pan Gar Orchestra”\, związany z premierą najnowszego albumu zespołu „Dźwięki Tbiliskiego Podziemia” z autorskimi utworami Gii Beżuaszwilego.\nPremiera albumu powiązana jest z jubileuszem 50 urodzin Artysty\, będzie więc powód do świętowania!\n 25 lutego – środa – godz. 20:25 Dom Tramwajarza – ul. Słowackiego 19/21 – Pan Gar bilety: 25 złhttps://kicket.com/wydarzenia/pan-gar-orchestra-30233\n\nZespół wystąpi w składzie:\nGia – vocal i gitara akustycznaMaia Beżi : vocal\, fletMarcin Polański : perkusjonaliaPiotr Floyd : gitara basowaNikyta Dalamata : handpan\, jamba\, kachonBobek Bobkowski : gitara elektryczna\, voal
URL:https://dt.fundacjapanagara.pl/wydarzenie/pan-gar-orchestra-dzwieki-tbiliskiego-podziemia-koncert/
LOCATION:Dom Tramwajarza sala Piccolo – Pan Gar\, ul. Słowackiego 19/21\, Poznań\, wielkopolskie\, Poland
CATEGORIES:Koncert,koncerty,Koncerty/muzyka
ATTACH;FMTTYPE=image/png:https://dt.fundacjapanagara.pl/wp-content/uploads/2026/02/pan-gar-orchestra-26-baner.png
END:VEVENT
END:VCALENDAR