BEGIN:VCALENDAR
VERSION:2.0
PRODID:-//Dom Tramwajarza - ECPv6.15.11//NONSGML v1.0//EN
CALSCALE:GREGORIAN
METHOD:PUBLISH
X-ORIGINAL-URL:http://dt.fundacjapanagara.pl
X-WR-CALDESC:Wydarzenia dla Dom Tramwajarza
REFRESH-INTERVAL;VALUE=DURATION:PT1H
X-Robots-Tag:noindex
X-PUBLISHED-TTL:PT1H
BEGIN:VTIMEZONE
TZID:Europe/Warsaw
BEGIN:DAYLIGHT
TZOFFSETFROM:+0100
TZOFFSETTO:+0200
TZNAME:CEST
DTSTART:20240331T010000
END:DAYLIGHT
BEGIN:STANDARD
TZOFFSETFROM:+0200
TZOFFSETTO:+0100
TZNAME:CET
DTSTART:20241027T010000
END:STANDARD
BEGIN:DAYLIGHT
TZOFFSETFROM:+0100
TZOFFSETTO:+0200
TZNAME:CEST
DTSTART:20250330T010000
END:DAYLIGHT
BEGIN:STANDARD
TZOFFSETFROM:+0200
TZOFFSETTO:+0100
TZNAME:CET
DTSTART:20251026T010000
END:STANDARD
BEGIN:DAYLIGHT
TZOFFSETFROM:+0100
TZOFFSETTO:+0200
TZNAME:CEST
DTSTART:20260329T010000
END:DAYLIGHT
BEGIN:STANDARD
TZOFFSETFROM:+0200
TZOFFSETTO:+0100
TZNAME:CET
DTSTART:20261025T010000
END:STANDARD
END:VTIMEZONE
BEGIN:VEVENT
DTSTART;TZID=Europe/Warsaw:20251201T180000
DTEND;TZID=Europe/Warsaw:20251201T200000
DTSTAMP:20260423T021022
CREATED:20251105T113042Z
LAST-MODIFIED:20251105T113042Z
UID:2838-1764612000-1764619200@dt.fundacjapanagara.pl
SUMMARY:Franciszek Rataj - "Wierny Bogu\, Ojczyźnie\, Rodzinie" - opowieść o bohaterze z Wielkopolski
DESCRIPTION:Dom Tramwajarza serdecznie zaprasza na wykład oraz wystawę poświęconą pamięci wielkiego bohatera Wielkopolski\, podpułkownika 𝗙𝗿𝗮𝗻𝗰𝗶𝘀𝘇𝗸𝗮 𝗥𝗮𝘁𝗮𝗷𝗮\, uczestnika dwóch wojen i trzech powstań narodowych. Prelegentami będą 𝗔𝗻𝗻𝗮 𝗠𝗲𝗶𝘀𝗻𝗲𝗿𝗼𝘄𝘀𝗸𝗮 oraz 𝗺𝗮𝗷𝗼𝗿 𝗣𝗶𝗼𝘁𝗿 𝗔𝗹𝗲𝗸𝘀𝗮𝗻𝗱𝗲𝗿 𝗦𝗿𝗼𝗸𝗮. Podczas spotkania obejrzeć będzie można cenne pamiątki po bohaterze wykładu\, m.i. kolekcję medali oraz unikalne fotografie z rodzinnego archiwum.\n\nWydarzenie odbędzie się w klubokawiarni Pan Gar w Domu Tramwajarza przy ul Słowackiego 19/21 w Poznaniu𝟭 𝗴𝗿𝘂𝗱𝗻𝗶𝗮 𝟮𝟬𝟮𝟱 𝗿𝗼𝗸𝘂 𝗼 𝗴𝗼𝗱𝘇. 𝟭𝟴.𝟬𝟬.Wstęp wolny.\n\n𝗙𝗿𝗮𝗻𝗰𝗶𝘀𝘇𝗲𝗸 𝗥𝗮𝘁𝗮𝗷\, ps. „Paweł”\, „2808”(ur. 9 października 1894 w Łagowie\, zm. 30 września 1958 w Poznaniu)Podpułkownik piechoty Wojska Polskiego.𝗨𝗰𝘇𝗲𝘀𝘁𝗻𝗶𝗸:▶︎ Powstania Wielkopolskiego (1918-1919)\,▶︎ Wojny Polsko-Bolszewickiej (1920)▶︎ III Powstania Śląskiego (1921)▶︎ Powstania Warszawskiego (1944)Dowódca 15 pułku piechoty „Wilków” AK.Prywatnie mąż Kazimiery z jeżyckiego rodu Kosickich.\n\n𝗢𝗿𝗱𝗲𝗿𝘆 𝗶 𝗼𝗱𝘇𝗻𝗮𝗰𝘇𝗲𝗻𝗶𝗮:▶︎ Krzyż Srebrny Orderu Virtuti Militari (1921)▶︎ Krzyż Niepodległości (17 marca 1938)▶︎ Krzyż Walecznych (trzykrotnie)▶︎ Złoty Krzyż Zasługi (22 grudnia 1928)▶︎ Wielkopolski Krzyż Powstańczy (24 stycznia 1958)▶︎ Warszawski Krzyż Powstańczy (pośmiertnie)▶︎ Złota Gwiazda Górnośląska\n\nPrelegenci:\n\n𝗔𝗻𝗻𝗮 𝗠𝗲𝗶𝘀𝗻𝗲𝗿𝗼𝘄𝘀𝗸𝗮Poznanianka z jeżyckiego rodu Kosickich\, wnuczka Franciszka Rataja. Absolwentka Uniwersytetu Przyrodniczego\, nauczycielka\, dziennikarka\, publikująca m.i. w Kronikach Miasta Poznania i Naszych Jeżycach. Jako m.i. członkini Zarządu Rady Osiedla Jeżyce oraz prezes Stowarzyszenia „Krąg przemian – Adam Asnyk”\, była animatorką życia kulturalnego i społecznego dzielnicy\, zaangażowana m.i. w rewitalizację Placu Asnyka (ofiarowanego Miastu Poznań przez rodzinę Kosickich) i ochronę secesji „Starych Jeżyc”. Autorka książki „Wierny Bogu\, Ojczyźnie\, Rodzinie. Opowieść o Franciszku Rataju”\, uhonorowana medalem „Wierni Pamięci” przez Towarzystwo Pamięci Powstania Wielkopolskiego za kultywowanie pamięci o dziadku.\n𝗠𝗮𝗷𝗼𝗿 𝗣𝗶𝗼𝘁𝗿 𝗔𝗹𝗲𝗸𝘀𝗮𝗻𝗱𝗲𝗿 𝗦𝗿𝗼𝗸𝗮Wielkopolanin\, oficer Wojska Polskiego\, politolog i muzealnik\, obecnie kustosz – kierownik sekcji zbiorów Muzeum Broni Pancernej w Poznaniu\, oddziału Muzeum Wojska Polskiego w Warszawie. Członek koła przewodników w PTTK im. Marcelego Mottego w Poznaniu. Od lat uczestniczy w wykładach\, wystawach i prelekcjach z historii wojskowości. Osobiście zaangażowany w uhonorowanie pamięci ppłk. Franciszka Rataja. Uhonorowany medalem „Wierni Pamięci” przez Towarzystwo Pamięci Powstania Wielkopolskiego.\nDom Tramwajarza\, ul. Słowackiego 19/21\, Poznań – Jeżyce\nwydarzenie współfinansowane ze środków budżetowych Miasta Poznania #poznanwspiera
URL:http://dt.fundacjapanagara.pl/wydarzenie/franciszek-rataj-wierny-bogu-ojczyznie-rodzinie-opowiesc-o-bohaterze-z-wielkopolski/
LOCATION:Dom Tramwajarza\, Słowackiego 19/21\, Poznań\, 60-822\, Poland
CATEGORIES:wykład,Wystawa
ATTACH;FMTTYPE=image/png:http://dt.fundacjapanagara.pl/wp-content/uploads/2025/11/rataj.png
END:VEVENT
BEGIN:VEVENT
DTSTART;TZID=Europe/Warsaw:20251204T180000
DTEND;TZID=Europe/Warsaw:20251204T190000
DTSTAMP:20260423T021022
CREATED:20251118T125956Z
LAST-MODIFIED:20251118T125956Z
UID:2883-1764871200-1764874800@dt.fundacjapanagara.pl
SUMMARY:Zwierciadło kobiecych emocji - wernisaż wystawy Joanny Bogusz-Paszek
DESCRIPTION:Zapraszamy na wystawę malarstwa Joanny Bogusz-Paszek „Zwierciadło kobiecych emocji”.\nWERNISAŻ: 4 grudnia – czwartek – godz. 18.00Dom Tramwajarza – ul. Słowackiego 19/21 – klub Pan Garwstęp wolny\nJoanna Bogusz-Paszek – Artystka – malarka z wyboru i zamiłowania. Z wykształcenia biolog i technolog żywności – ukończyła studia na Wydziale Biologii (UAM) w Poznaniu oraz Technologii Żywności (UP) w Poznaniu.Pracowała przy obsłudze programów unijnych. Malowaniem\, które stanowi pasję i sposób na życie oraz rodzaj arteterapii zaczęła zajmować się około 2 lata po urodzeniu syna czyli około 5 lata temu.Jednak zainteresowanie malarstwem i pociąg do sztuki towarzyszą jej przez większość życia. Swoje prace publikuje na Instagramie na profilu @zmalowanekartki \, który stanowi osobiste portfolio\, gdzie można się zapoznać z dziełami malarki.Joanna maluje najczęściej motywy kwiatowe\, lub przesycone emocjami portrety kobiet (empatyczny feminizm) w ujęciu abstrakcyjnym\, wykorzystując do swoich prac technikę typowej akwareli\, ale też technikę własną grubo nakładanej akwareli również w połączeniu z akrylem\, w tym złotym\, tworząc na papierze fakturowanym lub na płótnie.\nCharakterystyczną cechą malarstwa Joanny jest tzw. fokus na kolor\, który ma odzwierciedlać emocje i sprawiać\, że obok jaj prac nie sposób przejść obojętnie.Podczas ostatniego intensywnego okresu tworzenia powstało ponad 200 obrazów i obrazków oraz ponad 600 wzorów kartek artystycznych. Wiele prac malarki zyskało swoich odbiorców.Obrazy dekorują wnętrza mieszkań i gabinetów nie tylko w kraju ale i za granicą.Podobnie wiele kartek artystycznych powędrowało w świat.Do tej pory ma na swoim koncie trzy autorskie wystawy zorganizowane w Poznaniu :“Kobiety i Kwiaty” w DK Krąg na poznańskim Łazarzu“ Kobiety w towarzystwie kwiatów i motyli” w DK Słońcena Os. Przyjaźnioraz “Metamorfozy kobiet” w Galerii Sztuk Różnych.i współtworzenie wystawy w duecie – “Ona i On- emocjonujący dialog” w Pireus Poznań.W planach ma malowanie kolejnych obrazów i wystawianie swoich prac\, tak aby móc się jeszcze lepiej rozgościć w świecie malarstwa i dotrzeć do szerszego grona odbiorców.
URL:http://dt.fundacjapanagara.pl/wydarzenie/zwierciadlo-kobiecych-emocji-wernisaz-wystawy-joanny-bogusz-paszek/
LOCATION:Dom Tramwajarza sala Piccolo – Pan Gar\, ul. Słowackiego 19/21\, Poznań\, wielkopolskie\, Poland
CATEGORIES:Wernisaż,Wystawa
ATTACH;FMTTYPE=image/png:http://dt.fundacjapanagara.pl/wp-content/uploads/2025/11/zwierciadlo-kobiecych-emocji-baner.png
END:VEVENT
BEGIN:VEVENT
DTSTART;TZID=Europe/Warsaw:20251205T200000
DTEND;TZID=Europe/Warsaw:20251205T220000
DTSTAMP:20260423T021022
CREATED:20251118T125636Z
LAST-MODIFIED:20251118T125636Z
UID:2880-1764964800-1764972000@dt.fundacjapanagara.pl
SUMMARY:Bajzel - koncert w Panu Garze
DESCRIPTION:𝗕𝗔𝗝𝗭𝗘𝗟 𝘄 𝗣𝗮𝗻𝘂 𝗚𝗮𝗿𝘇𝗲Człowiek–orkiestra\, który potrafi rozkręcić każdą scenę – powraca z nowymi numerami! Zapraszamy:\n↪︎ 5 grudnia – piątek – godz. 20.00↪︎ Dom Tramwajarza – ul. Słowackiego 19/21 – Pan Gar↪︎ bilety: 40 zł (link wkrótce)\n𝗕𝗮𝗷𝘇𝗲𝗹\, nieprzeciętny\, wszechstronny artysta\, znany z projektów Pogodno\, Babu Król i paru innych muzycznych odlotów\, rusza w trasę koncertową zapowiadającą nową płytę\, która ukaże się w 2026 roku. Pierwszy singiel wleci już w grudniu 2025\, a na koncertach można będzie usłyszeć zupełnie nowe\, niepublikowane jeszcze utwory!\nTo będzie koncert pełen energii\, melodii i spontanu\, czyli dokładnie tak\, jak Bajzel lubi najbardziej – sam na scenie\, ale gra jak cała kapela!\n5 grudnia – Poznań – koncert w klubie Pan Gar. Jeden z przystanków trasy\, która zahacza też o Kraków\, Dublin (15 listopada)\, Suchą Beskidzką (29 listopada) i kilka innych miast.\nPrzyjdź\, posłuchaj\, zatańcz\, pogadaj – będzie bajzel\, ale w najlepszym tego słowa znaczeniu.\nProjekt finansowany ze środków budżetowych Miasta Poznania oraz Rady Osiedla Jeżyce. #poznanwspiera
URL:http://dt.fundacjapanagara.pl/wydarzenie/bajzel-koncert-w-panu-garze/
LOCATION:Dom Tramwajarza sala Piccolo – Pan Gar\, ul. Słowackiego 19/21\, Poznań\, wielkopolskie\, Poland
CATEGORIES:Koncert,koncerty,Koncerty/muzyka
ATTACH;FMTTYPE=image/png:http://dt.fundacjapanagara.pl/wp-content/uploads/2025/11/bajzel-w-grudniu.png
END:VEVENT
BEGIN:VEVENT
DTSTART;TZID=Europe/Warsaw:20251207T140000
DTEND;TZID=Europe/Warsaw:20251207T150000
DTSTAMP:20260423T021022
CREATED:20251118T125347Z
LAST-MODIFIED:20251118T125347Z
UID:2877-1765116000-1765119600@dt.fundacjapanagara.pl
SUMMARY:W poszukiwaniu utraconej magii świąt - spektakl dla dzieci
DESCRIPTION:Zapraszamy na radosny\, gwiazdkowy spektakl dla dzieci „W poszukiwaniu utraconej magii świąt” w wykonaniu teatru PantoMimka\n7 grudnia – niedziela – godz. 14.00Dom Tramwajarza – ul. Słowackiego 19/21 – Poznań/Jeżycebilety – 20 zł – dostępne na platformie kicket.pl oraz przed spektaklem\nŚwięta Bożego Narodzenia już niedługo – a chyba nikt nie kocha gwiazdki tak bardzo\, jak dwa uzrocze elfy: Śmieszka i Mimek. Wprost nie mogą doczekać się przybycia świętego Mikołaja! Sprzątają\, pieką ciasta\, pakują prezenty – ale czy to jest w świętach najważniejsze??\nSpektakl dla dzieci w wieku przedszkolnym i wczesnoszkolnym\nwydarzenie finansowane ze środków budżetowych Miasta Poznania #poznanwspiera
URL:http://dt.fundacjapanagara.pl/wydarzenie/w-poszukiwaniu-utraconej-magii-swiat-spektakl-dla-dzieci/
LOCATION:Dom Tramwajarza sala Piccolo – Pan Gar\, ul. Słowackiego 19/21\, Poznań\, wielkopolskie\, Poland
CATEGORIES:Spektakl
ATTACH;FMTTYPE=image/png:http://dt.fundacjapanagara.pl/wp-content/uploads/2025/11/w-poszukiwaniu-baner.png
END:VEVENT
BEGIN:VEVENT
DTSTART;TZID=Europe/Warsaw:20251209T190000
DTEND;TZID=Europe/Warsaw:20251209T200000
DTSTAMP:20260423T021022
CREATED:20251204T133419Z
LAST-MODIFIED:20251204T133419Z
UID:2889-1765306800-1765310400@dt.fundacjapanagara.pl
SUMMARY:Zielony Dym - koncert w Panu Garze
DESCRIPTION:16 grudnia na scenie Pana Gara zagra band Zielony Dym – hardrockowe trio – dynamiczna mieszanka klasyki rocka z autorskimi pomysłami.\n▶︎ 16 grudnia – wtorek – godz. 19.00 (przed Jam Session)▶︎ Dom Tramwajarza – ul. Słowackiego 19/21 – Pan Gar▶︎ wstęp wolny
URL:http://dt.fundacjapanagara.pl/wydarzenie/zielony-dym-koncert-w-panu-garze/
LOCATION:Dom Tramwajarza sala Piccolo – Pan Gar\, ul. Słowackiego 19/21\, Poznań\, wielkopolskie\, Poland
CATEGORIES:Koncert
ATTACH;FMTTYPE=image/png:http://dt.fundacjapanagara.pl/wp-content/uploads/2025/12/zielony-dym.png
END:VEVENT
BEGIN:VEVENT
DTSTART;TZID=Europe/Warsaw:20251210T190000
DTEND;TZID=Europe/Warsaw:20251210T210000
DTSTAMP:20260423T021022
CREATED:20251204T133818Z
LAST-MODIFIED:20251204T133818Z
UID:2892-1765393200-1765400400@dt.fundacjapanagara.pl
SUMMARY:Árstíðir - koncert w Panu Garze
DESCRIPTION:Árstíðir (Islandia)środa\, 10 grudnia 2025\, godz. 19:00Poznań – Pan Gar / Dom Tramwajarza (ul. Słowackiego 19/21)\nBilety:80 zł – do końca października90 zł – od 1 listopada100 zł – w dniu koncertu\nMożna je kupić wyłącznie tutaj:https://bkb.pl/163891-41cb8\nÁrstíðir (Islandia)Pochodzący z Reykjavíku zespół Árstíðir (po islandzku Pory Roku)\, założony został w 2008 roku. Grupa zainspirowana folkiem i americaną serwuje też czasem muzykę z pogranicza elektroniki i popu. Ich brzmienie ma w sobie islandzki\, magiczny wręcz pierwiastek.Fundamentem muzyki Árstíðir jest „chemia” pomiędzy jego członkami – Daníelem\, Gunnarem i Ragnarem. Chłopaków połączyła pasja do harmonii wokalnych\, które stały się znakiem rozpoznawczym zespołu. Na scenie towarzyszy im sekcja smyczkowa!\nÁrstíðir wkroczyli na arenę międzynarodową w 2010 roku\, gdy chmury popiołu z wulkanu Eyjafjallajökull rozprzestrzeniły się po Europie czyniąc Islandię tematem dnia. Po wydaniu dwóch singli\, które zajęły 1 miejsca na listach przebojów w kraju\, eklektyczne trio wyruszyło w nieustającą trasę koncertową od Syberii po San Diego\, od Zagrzebia po Svalbard. Jednocześnie podbijali Internet dzięki improwizacji 800-letniego islandzkiego hymnu na stacji kolejowej\, którą telefonem zarejestrowała ich znajoma – nagranie stało się viralem na YouTube.\nRdzeniem utworów Árstíðir są kompozycje w nurcie singer-songwriter\, obudowane ambitnymi i pomysłowymi aranżacjami.\nPo 15 latach tworzenia muzyki\, wydaniu kilku albumów i koncertowaniu razem\, członkowie grupy traktują się jak rodzina.I jeszcze jedno – grają piękne\, mistyczne wręcz koncerty!\nZdecydowanie warto ich sprawdzić na żywo!www.arstidir.com\nKontakt: Agencja Koncertowa Borówka Music: www.facebook.com/borowkamusic
URL:http://dt.fundacjapanagara.pl/wydarzenie/arstidir-koncert-w-panu-garze/
LOCATION:Dom Tramwajarza sala Piccolo – Pan Gar\, ul. Słowackiego 19/21\, Poznań\, wielkopolskie\, Poland
CATEGORIES:Koncert,koncerty,Koncerty/muzyka
ATTACH;FMTTYPE=image/jpeg:http://dt.fundacjapanagara.pl/wp-content/uploads/2025/12/492948503_1005305415080069_6998932789093557696_n.jpg
END:VEVENT
BEGIN:VEVENT
DTSTART;TZID=Europe/Warsaw:20251211T200000
DTEND;TZID=Europe/Warsaw:20251211T230000
DTSTAMP:20260423T021022
CREATED:20251204T134335Z
LAST-MODIFIED:20251204T134335Z
UID:2895-1765483200-1765494000@dt.fundacjapanagara.pl
SUMMARY:110 Wieczór z Piosenką Nieobojętną
DESCRIPTION:Już 11 grudnia zapraszamy do Domu Tramwajarza na ostatni w tym roku\, 110 Wieczór z Piosenką Nieobojętną kabaretu Klub Szyderców Bis!\nBędzie to odpowiedni czas\, by podsumować 2025 rok\, będzie też okazja muzycznie (nie bez odrobiny ironii) przygotować się na nadchodzącą gwiazdkę! Zróbcie sobie przerwę od maratonów po centrach handlowych\, pozwólcie karpiowi popływać w wannie w spokoju i przyjdźcie śpiewać i śmiać się z nami! To radośniejsze\, niż otwarcie wszystkie okienek kalendarzyka adwentowego jednocześnie!\nBilety – 40 zł – do nabycia na platformie biletowej kicket.pl oraz przed występem
URL:http://dt.fundacjapanagara.pl/wydarzenie/110-wieczor-z-piosenka-nieobojetna/
LOCATION:Dom Tramwajarza\, Słowackiego 19/21\, Poznań\, 60-822\, Poland
CATEGORIES:Kabaret,Koncert
ATTACH;FMTTYPE=image/png:http://dt.fundacjapanagara.pl/wp-content/uploads/2025/12/110-wieczor.png
END:VEVENT
BEGIN:VEVENT
DTSTART;TZID=Europe/Warsaw:20251212T200000
DTEND;TZID=Europe/Warsaw:20251212T220000
DTSTAMP:20260423T021022
CREATED:20251204T134619Z
LAST-MODIFIED:20251204T134619Z
UID:2898-1765569600-1765576800@dt.fundacjapanagara.pl
SUMMARY:Mój kumpel muzyk - koncert w Panu Garze
DESCRIPTION:Zapraszamy na potrójny koncert fantastycznych artystów (i dobrych kumpli): „Mój kumpel muzyk”. Zagrają Teofil z Katowic\, Mewa oraz Bartosz Knapiński.\n 12 grudnia – piątek – godz. 20.00 Dom Tramwajarza – ul. Słowackiego 19/21 – Pan Gar wstęp 30 zł (płatne na wejściu)\nWYSTĄPIĄ: TEOFIL Z KATOWIC – Akordeonista którego da się słuchać.Gram starą muzykę w nowy sposób i piszę piosenki do tańca.Zagrałem we wszystkich miastach Górnego Śląska oraz wszystkich dzielnicach Warszawy. Uczę dorosłych muzyki.W moich rękach akordeon jest naprawdę syntezatorem marszczonym.Te piosenki to morski hip-hop – „takie podobne do Mozila” lub cokolwiek co Ci to przypomina innego. Traktuje akordeon jako narzędzie\, takie samo jak młotek do wbijania gwoździ.Piosenki pisze z potrzeby. Inspiruję mnie ręczne pisanie w zeszycie\, słowa zasłyszane na ulicy czyli życie codzienne. Zwykle uśmiechnięty\, w tekstach poruszam temat miłości i beznadziei oraz elementy autoterapii.\nhttps://teofilzkatowic.com/\n MEWA z zespołu Mewa i Przyjaciele wystąpi tym razem bez przyjaciół. Zagra piosenki z różnych etapów życia i poziomów świadomości – trochę autorefleksji\, trochę głupot\, dużo wspomnień. To będzie pierwszy na świecie solo set Mewy.\nPłyta do posłuchania:distrokid.com/hyperfollow/mewa/peeling-the-layers-off\n BARTOSZ KNAPIŃSKI❟ szerzej znany jako Bartosz z TUGI\, to jeden z najbardziej wyrazistych głosów młodej\, niezależnej sceny. Jako solowy artysta wyróżnia się rzadką umiejętnością łączenia intensywnej\, rytmicznej energii z literacką wrażliwością. W jego muzyce słychać zarówno odwagę eksperymentowania\, jak i świadome czerpanie z osobistych doświadczeń\, które stają się fundamentem jego twórczości.\nTo\, co wyróżnia Bartosza jako muzyka\, to charakterystyczne\, pełne napięcia brzmienie – surowe\, ale niesione emocją\, często oparte na kontrastach\, które budują unikatowy klimat jego utworów. Jako tekściarz imponuje precyzją słowa i umiejętnością tworzenia obrazów\, które pozostają w głowie długo po przesłuchaniu. Jego teksty są szczere\, sugestywne i niosą w sobie coś\, co można nazwać „podskórnym pulsem” – mieszanką introspekcji\, obserwacji i odważnego komentarza.\nBartosz z TUGI to artysta\, który nie idzie na skróty. Stawia na autentyczność\, konsekwentnie rozwija własny język muzyczny i literacki\, a jego solowe działania pokazują\, że potrafi równie mocno zaznaczyć swoją obecność poza zespołem. Jego twórczość to połączenie osobistej historii\, wyrazistości i artystycznej dojrzałości\, dzięki którym coraz wyraźniej rysuje się jego miejsce na współczesnej scenie.
URL:http://dt.fundacjapanagara.pl/wydarzenie/moj-kumpel-muzyk-koncert-w-panu-garze/
LOCATION:wielkopolskie
CATEGORIES:Koncert,koncerty,Koncerty/muzyka
ATTACH;FMTTYPE=image/png:http://dt.fundacjapanagara.pl/wp-content/uploads/2025/12/mojkumpelbanner.png
END:VEVENT
BEGIN:VEVENT
DTSTART;TZID=Europe/Warsaw:20251216T180000
DTEND;TZID=Europe/Warsaw:20251216T200000
DTSTAMP:20260423T021022
CREATED:20251204T135015Z
LAST-MODIFIED:20251208T091650Z
UID:2901-1765908000-1765915200@dt.fundacjapanagara.pl
SUMMARY:Pomiędzy światami - o muzyce w obrzędach pogrzebowych Australii i Madagaskaru
DESCRIPTION:W ramach programu „Wolne wykłady” zapraszamy na wykład dr-a Łukasza Smolucha „Pomiędzy światami – o muzyce w obrzędach pogrzebowych Australii i Madagaskaru”.\n 16 grudnia – wtorek – godz. 18.00 Dom Tramwajarza – ul. Słowackiego 19/21 – Pan Gar Wstęp wolny\nDr Łukasz Smoluch jest muzykologiem i antropologiem kultury. Od lat fascynuje go muzyka australijskich Aborygenów\, tradycje polskich diaspor i kultura bębniarska Afryki. Prowadził badania terenowe w Europie\, Azji\, Ameryce Południowej\, Australii i Afryce. Przygląda się uważnie przemianom lokalnych kultur oraz związkom muzyki z tożsamością\, fotografuje i muzykuje. Jest współzałożycielem zespołu „Pięć Stron Świata”. Pracuje w Instytucie Muzykologii na Uniwersytecie im. Adama Mickiewicza w Poznaniu.\n\nWydarzenie finansowane ze środków budżetowych Miasta Poznania #poznanwspiera
URL:http://dt.fundacjapanagara.pl/wydarzenie/muzyka-pomiedzy-swiatami-o-muzyce-i-obrzedach-pogrzebowych-australii-i-madagaskaru/
LOCATION:Dom Tramwajarza sala Piccolo – Pan Gar\, ul. Słowackiego 19/21\, Poznań\, wielkopolskie\, Poland
CATEGORIES:Wystawa
ATTACH;FMTTYPE=image/png:http://dt.fundacjapanagara.pl/wp-content/uploads/2025/12/muzyka-pomiedzy-swiatami-baner-1.png
END:VEVENT
BEGIN:VEVENT
DTSTART;TZID=Europe/Warsaw:20251228T180000
DTEND;TZID=Europe/Warsaw:20251228T200000
DTSTAMP:20260423T021022
CREATED:20251204T135346Z
LAST-MODIFIED:20251204T135346Z
UID:2904-1766944800-1766952000@dt.fundacjapanagara.pl
SUMMARY:Gramofon Gar - przedsylwestrowy wieczór przedsylwestrowy
DESCRIPTION:28 grudnia w niedzielę o godz. 18.00 zapraszamy Was na najbardziej roztrzeszczany beforek przed sylwestrową imprezą!\nGRAMOFON GAR W PANU GARZE\nGramy kultowe kawałki\, które rozkręcają z prędkością 33 obrotów na minutę każdą imprezę!\nPrzynoście swoje ulubione płyty\, bawmy się razem!\nNa wieczór zaprasza Sebastian Konrad\nWSTĘP WOLNY
URL:http://dt.fundacjapanagara.pl/wydarzenie/gramofon-gar-przedsylwestrowy-wieczor-przedsylwestrowy/
LOCATION:Dom Tramwajarza sala Piccolo – Pan Gar\, ul. Słowackiego 19/21\, Poznań\, wielkopolskie\, Poland
CATEGORIES:Spotkanie
ATTACH;FMTTYPE=image/png:http://dt.fundacjapanagara.pl/wp-content/uploads/2025/12/ggsyl.png
END:VEVENT
BEGIN:VEVENT
DTSTART;TZID=Europe/Warsaw:20251230T190000
DTEND;TZID=Europe/Warsaw:20251230T200000
DTSTAMP:20260423T021022
CREATED:20251208T092140Z
LAST-MODIFIED:20251208T092140Z
UID:2909-1767121200-1767124800@dt.fundacjapanagara.pl
SUMMARY:Something Completely FRANTIC! - Romano D. Franto - spektakl w Panu Garze
DESCRIPTION:A teraz coś z zupełnie innej beczki!W przedostatni dzień roku zapraszamy na komediowy monodram w wykonaniu Romano D. Franto – „Something Completely FRANTIC!”\n\n 30 grudnia – wtorek – godz. 19.00 Dom Tramwajarza – ul. Słowackiego 19/21 – Pan Gar bilety: 25 zł\n\n„SOMETHING COMPLETELY FRANTIC!” to absurdalny monodram cyrkowo-komediowy oparty na krótkich scenkach i płynnych transformacjach głównego bohatera. Karuzela postaci prowadzi nas przez abstrakcyjny\, szalony\, a czasem głęboko filozoficzny krajobraz ludzkiej psychiki. Romano D. Franto – ekscentryczny komik\, błazen i muzyk z Chorwacji. Zajmuje się muzyką\, aktorstwem\, pantomimą oraz cyrkowym storytellingiem z nutą groteski. Prowadzi warsztaty „Art of nothing” i „Mind’fool’ness”. Instagram\, YouTube\, Facebook\, TikTok: Romano D. Franto (Frantic)
URL:http://dt.fundacjapanagara.pl/wydarzenie/something-completely-frantic-romano-d-franto-spektakl-w-panu-garze/
LOCATION:Dom Tramwajarza sala Piccolo – Pan Gar\, ul. Słowackiego 19/21\, Poznań\, wielkopolskie\, Poland
CATEGORIES:Spektakl
ATTACH;FMTTYPE=image/png:http://dt.fundacjapanagara.pl/wp-content/uploads/2025/12/frantic-baner.png
END:VEVENT
END:VCALENDAR