BEGIN:VCALENDAR
VERSION:2.0
PRODID:-//Dom Tramwajarza - ECPv6.15.11//NONSGML v1.0//EN
CALSCALE:GREGORIAN
METHOD:PUBLISH
X-ORIGINAL-URL:http://dt.fundacjapanagara.pl
X-WR-CALDESC:Wydarzenia dla Dom Tramwajarza
REFRESH-INTERVAL;VALUE=DURATION:PT1H
X-Robots-Tag:noindex
X-PUBLISHED-TTL:PT1H
BEGIN:VTIMEZONE
TZID:Europe/Warsaw
BEGIN:DAYLIGHT
TZOFFSETFROM:+0100
TZOFFSETTO:+0200
TZNAME:CEST
DTSTART:20250330T010000
END:DAYLIGHT
BEGIN:STANDARD
TZOFFSETFROM:+0200
TZOFFSETTO:+0100
TZNAME:CET
DTSTART:20251026T010000
END:STANDARD
BEGIN:DAYLIGHT
TZOFFSETFROM:+0100
TZOFFSETTO:+0200
TZNAME:CEST
DTSTART:20260329T010000
END:DAYLIGHT
BEGIN:STANDARD
TZOFFSETFROM:+0200
TZOFFSETTO:+0100
TZNAME:CET
DTSTART:20261025T010000
END:STANDARD
BEGIN:DAYLIGHT
TZOFFSETFROM:+0100
TZOFFSETTO:+0200
TZNAME:CEST
DTSTART:20270328T010000
END:DAYLIGHT
BEGIN:STANDARD
TZOFFSETFROM:+0200
TZOFFSETTO:+0100
TZNAME:CET
DTSTART:20271031T010000
END:STANDARD
END:VTIMEZONE
BEGIN:VEVENT
DTSTART;TZID=Europe/Warsaw:20260222T180000
DTEND;TZID=Europe/Warsaw:20260222T200000
DTSTAMP:20260422T153016
CREATED:20260214T111440Z
LAST-MODIFIED:20260214T112644Z
UID:2964-1771783200-1771790400@dt.fundacjapanagara.pl
SUMMARY:Gramofon Gar. Muzyka i poezja - wspomnienie Jana Kaspra.
DESCRIPTION:Zapraszamy na kolejne spotkanie z cyklu Gramofon Gar.Najbliższy wieczór poświęcimy pamięci Jana Kaspra\, wybitnego pedagoga\, twórcy Teatru Prób\, poety\, ale również wielkiego melomana\, kolekcjonera muzyki na winylach.\nPodczas spotkania posłuchamy ulubionych utworów Messera (jak nazywali swojego mistrza uczniowie) ale także kilku wierszy z jego pośmiertnie wydanego tomu poezji „Morderca dobrej zabawy”.\nBędzie to również okazja\, by obejrzeć fragmenty filmu dokumentalnego\, poświęconego twórczości Jana Kaspra: „Only for fun” w reżyserii Sebastiana Konrada\, który wieczór także poprowadzi.\nTę edycję wydarzenia wspiera również stowarzyszenie Łazęga Poznańska\, gdzie Jan Kasper miał swoje ostatnie publiczne wystąpienie.\n▶︎ 22 lutego – niedziela – godz. 18.00▶︎ Dom Tramwajarza – ul. Słowackiego 19/21 – Pan Gar▶︎ wstęp wolny\nWydarzenie finansowane ze środków budżetowych Miasta Poznania #poznanwspiera
URL:http://dt.fundacjapanagara.pl/wydarzenie/gramofon-gar-muzyka-i-poezja-wspomnienie-jana-kaspra/
LOCATION:wielkopolskie
CATEGORIES:Spotkanie literackie
ATTACH;FMTTYPE=image/png:http://dt.fundacjapanagara.pl/wp-content/uploads/2026/02/kaspergg.png
END:VEVENT
END:VCALENDAR