BEGIN:VCALENDAR
VERSION:2.0
PRODID:-//Dom Tramwajarza - ECPv6.15.11//NONSGML v1.0//EN
CALSCALE:GREGORIAN
METHOD:PUBLISH
X-ORIGINAL-URL:http://dt.fundacjapanagara.pl
X-WR-CALDESC:Wydarzenia dla Dom Tramwajarza
REFRESH-INTERVAL;VALUE=DURATION:PT1H
X-Robots-Tag:noindex
X-PUBLISHED-TTL:PT1H
BEGIN:VTIMEZONE
TZID:Europe/Warsaw
BEGIN:DAYLIGHT
TZOFFSETFROM:+0100
TZOFFSETTO:+0200
TZNAME:CEST
DTSTART:20250330T010000
END:DAYLIGHT
BEGIN:STANDARD
TZOFFSETFROM:+0200
TZOFFSETTO:+0100
TZNAME:CET
DTSTART:20251026T010000
END:STANDARD
BEGIN:DAYLIGHT
TZOFFSETFROM:+0100
TZOFFSETTO:+0200
TZNAME:CEST
DTSTART:20260329T010000
END:DAYLIGHT
BEGIN:STANDARD
TZOFFSETFROM:+0200
TZOFFSETTO:+0100
TZNAME:CET
DTSTART:20261025T010000
END:STANDARD
BEGIN:DAYLIGHT
TZOFFSETFROM:+0100
TZOFFSETTO:+0200
TZNAME:CEST
DTSTART:20270328T010000
END:DAYLIGHT
BEGIN:STANDARD
TZOFFSETFROM:+0200
TZOFFSETTO:+0100
TZNAME:CET
DTSTART:20271031T010000
END:STANDARD
END:VTIMEZONE
BEGIN:VEVENT
DTSTART;TZID=Europe/Warsaw:20260125T140000
DTEND;TZID=Europe/Warsaw:20260125T153000
DTSTAMP:20260423T020020
CREATED:20260114T201304Z
LAST-MODIFIED:20260114T202107Z
UID:2931-1769349600-1769355000@dt.fundacjapanagara.pl
SUMMARY:JAZZ AND / Koncert: Jakub Królikowski & Goście feat. pralka Światowit
DESCRIPTION:Zapraszamy koncert zespołu pod przewodnictwem Jakuba Królikowskiego w ramach cyklu JAZZ AND.\n𝗝𝗮𝗸𝘂𝗯 𝗞𝗿𝗼́𝗹𝗶𝗸𝗼𝘄𝘀𝗸𝗶 & 𝗚𝗼𝘀́𝗰𝗶𝗲 𝗳𝗲𝗮𝘁. 𝗽𝗿𝗮𝗹𝗸𝗮 𝗦́𝘄𝗶𝗮𝘁𝗼𝘄𝗶𝘁koncert\n25.01.2026 godz. 14:00 Dom Tramwajarza\, Klubokawiarnia Pan GarPoznań\, Ul. Słowackiego 19/21\nkoncert streamowany\n𝗝𝗮𝗸𝘂𝗯 𝗞𝗿𝗼́𝗹𝗶𝗸𝗼𝘄𝘀𝗸𝗶 & 𝗚𝗼𝘀́𝗰𝗶𝗲 𝗳𝗲𝗮𝘁. 𝗽𝗿𝗮𝗹𝗸𝗮 𝗦́𝘄𝗶𝗮𝘁𝗼𝘄𝗶𝘁Koncert to połączenie jazzu\, wykorzystanie obiektów w muzyce (w roli głównej pralka Światowid) oraz muzyki eksperymentalnej i współczesnej klasyki.\nJakub KrólikowskiZuzanna BabiakPatryk Rynkiewicz Patryk PiłasiewiczDaniel Karpiński\n\nfot. Jacek Mójta\n\nBilety: 50 zł lub w ramach karnetu – 250 zł (6 koncertów) https://kicket.com/…/jazz-and-koncert-jakub-krolikowski…\nKarnetprzelew na kontoFundacja Pana Gara„tytułem Jazz And karnet”Nr konta mBank: 71 1140 2004 0000 3602 8043 1708\n_________\nProjekt „Jazz And. Cykl międzygatunkowych koncertów jazzowych” realizowany przez Fundację Pana Gara i jest współfinansowany ze środków Unii Europejskiej w ramach Krajowego Planu Odbudowy\, a także ze środków Miasta Poznania.
URL:http://dt.fundacjapanagara.pl/wydarzenie/jazz-and-koncert-jakub-krolikowski-goscie-feat-pralka-swiatowit/
LOCATION:Dom Tramwajarza\, Słowackiego 19/21\, Poznań\, 60-822\, Poland
CATEGORIES:Koncert
ATTACH;FMTTYPE=image/jpeg:http://dt.fundacjapanagara.pl/wp-content/uploads/2026/01/Jakub-Krolikowski-i-Goscie.jpg
ORGANIZER;CN="Fundacja Pana Gara":MAILTO:dt@fundacjapanagara.pl
END:VEVENT
END:VCALENDAR