BEGIN:VCALENDAR
VERSION:2.0
PRODID:-//Dom Tramwajarza - ECPv6.15.11//NONSGML v1.0//EN
CALSCALE:GREGORIAN
METHOD:PUBLISH
X-ORIGINAL-URL:http://dt.fundacjapanagara.pl
X-WR-CALDESC:Wydarzenia dla Dom Tramwajarza
REFRESH-INTERVAL;VALUE=DURATION:PT1H
X-Robots-Tag:noindex
X-PUBLISHED-TTL:PT1H
BEGIN:VTIMEZONE
TZID:Europe/Warsaw
BEGIN:DAYLIGHT
TZOFFSETFROM:+0100
TZOFFSETTO:+0200
TZNAME:CEST
DTSTART:20250330T010000
END:DAYLIGHT
BEGIN:STANDARD
TZOFFSETFROM:+0200
TZOFFSETTO:+0100
TZNAME:CET
DTSTART:20251026T010000
END:STANDARD
BEGIN:DAYLIGHT
TZOFFSETFROM:+0100
TZOFFSETTO:+0200
TZNAME:CEST
DTSTART:20260329T010000
END:DAYLIGHT
BEGIN:STANDARD
TZOFFSETFROM:+0200
TZOFFSETTO:+0100
TZNAME:CET
DTSTART:20261025T010000
END:STANDARD
BEGIN:DAYLIGHT
TZOFFSETFROM:+0100
TZOFFSETTO:+0200
TZNAME:CEST
DTSTART:20270328T010000
END:DAYLIGHT
BEGIN:STANDARD
TZOFFSETFROM:+0200
TZOFFSETTO:+0100
TZNAME:CET
DTSTART:20271031T010000
END:STANDARD
END:VTIMEZONE
BEGIN:VEVENT
DTSTART;TZID=Europe/Warsaw:20260117T110000
DTEND;TZID=Europe/Warsaw:20260117T130000
DTSTAMP:20260422T182718
CREATED:20260114T204300Z
LAST-MODIFIED:20260114T204300Z
UID:2953-1768647600-1768654800@dt.fundacjapanagara.pl
SUMMARY:JAZZ AND / Warsztaty wokalne z Zuzanną Babiak
DESCRIPTION:Zapraszamy na warsztaty wokalne w ramach JAZZ AND. Zajęcia poprowadzi 𝗭𝘂𝘇𝗮𝗻𝗻𝗮 𝗕𝗮𝗯𝗶𝗮𝗸\nTematem warsztatów będzie emisja głosu\, jakie daje możliwości i wolność wyrazu zwłaszcza w muzyce jazzowej\, kolejne dwa spotkania będą skupiały się na improwizacji głosem.\n\nTerminy: 3\, 10\, 17.01.2026 (soboty)Godz. 11:00-13:00 Dom Tramwajarza\, Klubokawiarnia Pan GarPoznań\, Ul. Słowackiego 19/21\nUdział bezpłatny.\nObowiązują zapisy przez Formularz Google Nabór zamknięty\nInformacje i pytania: kontakt@fundacjapanagara.pl Można uczestniczyć w jednych\, dwóch lub trzech zajęciach.\n𝗭𝘂𝘇𝗮𝗻𝗻𝗮 𝗕𝗮𝗯𝗶𝗮𝗸Wokalistka jazzowa\, nauczycielka wokalu\, absolwentka Akademii Muzycznej im. I. J. Paderewskiego w Poznaniu. Ukończyła POSM II st. im. M. Karłowicza w Poznaniu w klasie klarnetu. Swoje umiejętności wokalne kształtowała na różnych warsztatach wokalnych między innymi na warsztatach Hanza Jazz Festiwal i Cho-Jazz. Wiedzę zdobywała u takich wykładowców\, jak: Janusz Szrom\, Diana Torto\, Łukasz Rynkowski i wielu innych. Zwyciężczyni trzeciego miejsca w kategorii wokalnej na Blue Note Poznań Competition 2020. W roku 2021 zagrała koncert podczas Maratonu Komedy organizowanego przez Stowarzyszenie Jazz Poznań. Wokalistka w jazzowym zespole Swingin Affair. Podczas koncertów z projektem Pawła Ernsta „Trip Hop meets Orchestra” śpiewa utwory Massive Attack\, Björk\, czy Portishead. Znana jest z dużego ciepła i dobrej energii podczas śpiewania\, która wypełnia każde pomieszczenie. Najbliższymi gatunkami są dla niej: jazz\, blues oraz soul. Wiedzę o głosie przekazuje w swojej pracowni wokalnej Wokal u Zuzy\, w POSM II st. w Poznaniu oraz Performance Music Studio.\nWokalistką i nauczycielką wokalu została z pasji i chęci otwierania ludzkich serc i głosów.\n_________\nProjekt „Jazz And. Cykl międzygatunkowych koncertów jazzowych” realizowany przez Fundację Pana Gara i jest współfinansowany ze środków Unii Europejskiej w ramach Krajowego Planu Odbudowy\, a także ze środków Miasta Poznania.
URL:http://dt.fundacjapanagara.pl/wydarzenie/jazz-and-warsztaty-wokalne-z-zuzanna-babiak/
LOCATION:Dom Tramwajarza\, Słowackiego 19/21\, Poznań\, 60-822\, Poland
CATEGORIES:Warsztaty
ATTACH;FMTTYPE=image/jpeg:http://dt.fundacjapanagara.pl/wp-content/uploads/2026/01/Zuza-Babiak.jpg
ORGANIZER;CN="Fundacja Pana Gara":MAILTO:dt@fundacjapanagara.pl
END:VEVENT
BEGIN:VEVENT
DTSTART;TZID=Europe/Warsaw:20260117T133000
DTEND;TZID=Europe/Warsaw:20260117T163000
DTSTAMP:20260422T182718
CREATED:20260114T204645Z
LAST-MODIFIED:20260114T204645Z
UID:2956-1768656600-1768667400@dt.fundacjapanagara.pl
SUMMARY:JAZZ AND / Warsztaty improwizacji instrumentalnej z Jakubem Królikowskim
DESCRIPTION:Zapraszamy WARSZTATY IMPROWIZACJI INSTRUMENTALNEJ z 𝗝𝗮𝗸𝘂𝗯𝗲𝗺 𝗞𝗿𝗼́𝗹𝗶𝗸𝗼𝘄𝘀𝗸𝗶𝗺i w ramach JAZZ AND.\n\n17.01.2026 (sobota) godz. 13:30-16:30 (3 h zajęć)  Dom Tramwajarza\, Klubokawiarnia Pan GarPoznań\, Ul. Słowackiego 19/21\n\nWarsztaty improwizacji instrumentalnej to cykl 4 spotkań. Tematem warsztatów jest nauka improwizacji\, słuchania i znajdowania swojego miejsca i roli w grze zespołowej\, a także skupienie się na rozwijaniu możliwości brzmieniowych i technicznych w grze na instrumencie.\nZapraszamy osoby grające na różnych instrumentach. Nie trzeba mieć przygotowania muzycznego\, wystarczy otwarta głowa i chęć do wspólnego muzykowania.\nTerminy: 10.01.2026 / godz. 13:3017.01.2026 / godz. 13:3024.01.2026 / godz. 13:3031.01.2026 / godz. 14:30 (uwaga\, zmiana godziny)\n\nMożna uczestniczyć we wszystkich spotkaniach lub w wybranych.\nWstęp wolnyZapisy przez Formularz Google https://forms.gle/Ricp7rwgHGNr5HwA8\n\n𝗝𝗮𝗸𝘂𝗯 𝗞𝗿𝗼́𝗹𝗶𝗸𝗼𝘄𝘀𝗸𝗶 Kompozytor i pianista jazzowy. Wykonuje muzykę improwizowaną i jazz futurystyczny na fortepianie. W unikatowy sposób gra na syntezatorach i keyboardach „organic techno”. Otrzymał Nagrodę Główną na Konkursie Młodych Kompozytorów im. M. Stachowskiego\, pod honorowym patronatem Krzysztofa Pendereckiego (2018). Wziął udział w rezydencji artystycznej w A4 Bratislava\, gdzie skomponował muzykę do filmów czołowych słowackich animatorów. Skomponował muzykę do spektaklu „NOC I MGŁA” w Muzeum Martyrologii Wielkopolan Fort VII zrealizowanego przez TVP3 Poznań (2020). Współtwórca i kurator festiwalu sztuki audiowizualnej ŚWIATŁODŹWIĘKI. Występował w brut Konzerthaus Wien (AT)\, WUK Projektraum (AT)\, Maison Internationale de Rennes (FR)\, HfMT Rostock (DE)\, Poznan International Fair\, Polski Teatr Tańca\, CK Zamek i innych. Grał i komponował na takie festiwale jak: Imagetanz Vienna (AT)\, KioSK Festival (SK)\, One Caucasus (GE)\, Jazz Od Nowa\, 4th Mediations Biennale i in. Współtworzy zespoły: Fanfara Awantura\, Florafabrik\, Koń\, With Out Identity\, Beethoven bei Uns\, Kwartet Mełech/Majewski/Królikowski/Buhl\, Kartony.Absolwent Kompozycji oraz Fortepianu Jazzowego w Akademii Muzycznej w Poznaniu. Obecnie – doktorant na Wydziale Jazzu. _________\nProjekt „Jazz And. Cykl międzygatunkowych koncertów jazzowych” realizowany przez Fundację Pana Gara i jest współfinansowany ze środków Unii Europejskiej w ramach Krajowego Planu Odbudowy\, a także ze środków Miasta Poznania.
URL:http://dt.fundacjapanagara.pl/wydarzenie/jazz-and-warsztaty-improwizacji-instrumentalnej-z-jakubem-krolikowskim/
LOCATION:Dom Tramwajarza\, Słowackiego 19/21\, Poznań\, 60-822\, Poland
CATEGORIES:Warsztaty
ATTACH;FMTTYPE=image/jpeg:http://dt.fundacjapanagara.pl/wp-content/uploads/2026/01/Warstzty-z-Jakubem-Krolikowskim.jpg
ORGANIZER;CN="Fundacja Pana Gara":MAILTO:dt@fundacjapanagara.pl
END:VEVENT
END:VCALENDAR