BEGIN:VCALENDAR
VERSION:2.0
PRODID:-//Dom Tramwajarza - ECPv6.15.11//NONSGML v1.0//EN
CALSCALE:GREGORIAN
METHOD:PUBLISH
X-ORIGINAL-URL:http://dt.fundacjapanagara.pl
X-WR-CALDESC:Wydarzenia dla Dom Tramwajarza
REFRESH-INTERVAL;VALUE=DURATION:PT1H
X-Robots-Tag:noindex
X-PUBLISHED-TTL:PT1H
BEGIN:VTIMEZONE
TZID:Europe/Warsaw
BEGIN:DAYLIGHT
TZOFFSETFROM:+0100
TZOFFSETTO:+0200
TZNAME:CEST
DTSTART:20250330T010000
END:DAYLIGHT
BEGIN:STANDARD
TZOFFSETFROM:+0200
TZOFFSETTO:+0100
TZNAME:CET
DTSTART:20251026T010000
END:STANDARD
BEGIN:DAYLIGHT
TZOFFSETFROM:+0100
TZOFFSETTO:+0200
TZNAME:CEST
DTSTART:20260329T010000
END:DAYLIGHT
BEGIN:STANDARD
TZOFFSETFROM:+0200
TZOFFSETTO:+0100
TZNAME:CET
DTSTART:20261025T010000
END:STANDARD
BEGIN:DAYLIGHT
TZOFFSETFROM:+0100
TZOFFSETTO:+0200
TZNAME:CEST
DTSTART:20270328T010000
END:DAYLIGHT
BEGIN:STANDARD
TZOFFSETFROM:+0200
TZOFFSETTO:+0100
TZNAME:CET
DTSTART:20271031T010000
END:STANDARD
END:VTIMEZONE
BEGIN:VEVENT
DTSTART;TZID=Europe/Warsaw:20260111T140000
DTEND;TZID=Europe/Warsaw:20260111T153000
DTSTAMP:20260423T031753
CREATED:20260114T203000Z
LAST-MODIFIED:20260114T203000Z
UID:2942-1768140000-1768145400@dt.fundacjapanagara.pl
SUMMARY:JAZZ AND / Koncert: Ślina
DESCRIPTION:Zapraszamy koncert kwartetu 𝗦́𝗟𝗜𝗡𝗔 w ramach cyklu JAZZ AND.\n11.01.2026 godz. 14:00 Dom Tramwajarza\, Klubokawiarnia Pan GarPoznań\, Ul. Słowackiego 19/21\n𝗦́𝗟𝗜𝗡𝗔Lepkie i niekończące się improwizacje instrumentalne\, transowe wyziewy psychodelicznej rockowej pulsacji\, free jazzowy jazgot połykający ambientową ciszę poszarpaną post-rockową i post-punkową wilgocią napięcia niezliczonych faktur dźwiękowych. Tak właśnie prezentuje się muzyczny świat wrocławskiego kwartetu ŚLINA\, który jak w soczewce kumuluje osiągnięcia muzyki eksperymentalnej\, improwizowanej z ostatnich kilkudziesięciu dekad. Lubią nasiąkać echem free jazzu z lat 60. i 70.\, pod tytułem „Bitches Brew” Milesa Davisa\, przy jednoczesnym skręcie w rejony niemieckiego krautrocka spod znaku Can\, Amon Düül II czy Fausta\, będąc blisko współczesnej elektroniki\, na którą nanizują drony\, trzaski\, szumy i sprzężenia. Nie jest im obca również muzyka etniczna\, dalekowschodnia\, indyjska. To wszystko zaprezentowali wraz z wydaniem pierwszego albumu „36:28”\, który został ogłoszony debiutem roku 2019 przez portal „Polish Jazz”. Kolejne wydawnictwa „42’00″” (2021) i „Ślina Trzaska” (2022) są zarówno kontynuacją eklektycznych poszukiwań zespołu\, jak i niekończącym się labiryntem eksperymentalnych doznań. Dociskają trans kolanem do granic wytrzymałości! Poczuj i bądź jego częścią!\n𝗦́𝗟𝗜𝗡𝗔 wystąpi w składzie:Matylda Gerber – saksofonyMikołaj Nowicki – kontrabas/elektronikaStanisław Olek – perkusjaFilip Zakrzewski – gitara/elektronika\nfot. Kazimierz Ździebło\nFB: https://www.facebook.com/slina.improvBC: https://slina.bandcamp.com/\nBilety: 50 zł https://kicket.com/wydarzenia/jazz-and-koncert-slina-29378\n\n_________\nProjekt „Jazz And. Cykl międzygatunkowych koncertów jazzowych” realizowany przez Fundację Pana Gara i jest współfinansowany ze środków Unii Europejskiej w ramach Krajowego Planu Odbudowy\, a także ze środków Miasta Poznania.
URL:http://dt.fundacjapanagara.pl/wydarzenie/jazz-and-koncert-slina/
LOCATION:Dom Tramwajarza\, Słowackiego 19/21\, Poznań\, 60-822\, Poland
CATEGORIES:Koncert,koncerty,Koncerty/muzyka
ATTACH;FMTTYPE=image/jpeg:http://dt.fundacjapanagara.pl/wp-content/uploads/2026/01/SLINA.jpg
ORGANIZER;CN="Fundacja Pana Gara":MAILTO:dt@fundacjapanagara.pl
END:VEVENT
END:VCALENDAR