BEGIN:VCALENDAR
VERSION:2.0
PRODID:-//Dom Tramwajarza - ECPv6.15.11//NONSGML v1.0//EN
CALSCALE:GREGORIAN
METHOD:PUBLISH
X-ORIGINAL-URL:http://dt.fundacjapanagara.pl
X-WR-CALDESC:Wydarzenia dla Dom Tramwajarza
REFRESH-INTERVAL;VALUE=DURATION:PT1H
X-Robots-Tag:noindex
X-PUBLISHED-TTL:PT1H
BEGIN:VTIMEZONE
TZID:Europe/Warsaw
BEGIN:DAYLIGHT
TZOFFSETFROM:+0100
TZOFFSETTO:+0200
TZNAME:CEST
DTSTART:20250330T010000
END:DAYLIGHT
BEGIN:STANDARD
TZOFFSETFROM:+0200
TZOFFSETTO:+0100
TZNAME:CET
DTSTART:20251026T010000
END:STANDARD
BEGIN:DAYLIGHT
TZOFFSETFROM:+0100
TZOFFSETTO:+0200
TZNAME:CEST
DTSTART:20260329T010000
END:DAYLIGHT
BEGIN:STANDARD
TZOFFSETFROM:+0200
TZOFFSETTO:+0100
TZNAME:CET
DTSTART:20261025T010000
END:STANDARD
BEGIN:DAYLIGHT
TZOFFSETFROM:+0100
TZOFFSETTO:+0200
TZNAME:CEST
DTSTART:20270328T010000
END:DAYLIGHT
BEGIN:STANDARD
TZOFFSETFROM:+0200
TZOFFSETTO:+0100
TZNAME:CET
DTSTART:20271031T010000
END:STANDARD
END:VTIMEZONE
BEGIN:VEVENT
DTSTART;TZID=Europe/Warsaw:20260107T080000
DTEND;TZID=Europe/Warsaw:20260107T170000
DTSTAMP:20260422T182307
CREATED:20260107T113709Z
LAST-MODIFIED:20260107T113709Z
UID:2925-1767772800-1767805200@dt.fundacjapanagara.pl
SUMMARY:111 Wieczór z Piosenką Nieobojętną kabaretu Klub Szyderców Bis
DESCRIPTION:Kabaret Klub Szyderców Bis oraz Dom Tramwajarza zapraszają na pierwszy w tym roku\, ale w ogóle to już 111 Wieczór z Piosenką Nieobojętną\, czyli najprzyjemniejszy w Poznaniu wieczór\, pełen uśmiechu\, żartów i piosenek – zarówno autorskich\, jak i ciekawych interpretacji znanych już przebojów.\nSPOTYKAMY SIĘ:29 stycznia 2026 roku (w czwartek) o godz. 20.00jak ZAWSZE w Domu Tramwajarza (ul. Słowackiego 19/21)jak ZAWSZE w klubie Pan Gar (w tymże Domu!)\nNie zabraknie stałych elementów naszego cyklu\, więc ze sceny wybrzmią hymny\, fraszki\, piosenki na wynos\, piosenki wspólnie śpiewane z publicznością a i pewnie jakiś wierszyk się trafi!\nHumor Szyderców raczej koi niż kąsa\, więc wyjdziecie otuleni dobrym nastrojem jak schabowy panierką!\nNa scenie pojawią się również nasi goście\, którzy uraczą Was swoimi talentami wszelakimi!\nBilety: 40 złDo nabycia przez Internet na platformie kicket.pl lub za gotówkę tuż przed występem (o ile jeszcze jakieś zostaną!)\nSerdecznie zapraszamy!
URL:http://dt.fundacjapanagara.pl/wydarzenie/111-wieczor-z-piosenka-nieobojetna-kabaretu-klub-szydercow-bis/
LOCATION:Dom Tramwajarza sala Piccolo – Pan Gar\, ul. Słowackiego 19/21\, Poznań\, wielkopolskie\, Poland
CATEGORIES:Kabaret,Koncert,Koncerty/muzyka
ATTACH;FMTTYPE=image/png:http://dt.fundacjapanagara.pl/wp-content/uploads/2026/01/111-wieczor-baner2.png
END:VEVENT
END:VCALENDAR