BEGIN:VCALENDAR
VERSION:2.0
PRODID:-//Dom Tramwajarza - ECPv6.15.11//NONSGML v1.0//EN
CALSCALE:GREGORIAN
METHOD:PUBLISH
X-WR-CALNAME:Dom Tramwajarza
X-ORIGINAL-URL:http://dt.fundacjapanagara.pl
X-WR-CALDESC:Wydarzenia dla Dom Tramwajarza
REFRESH-INTERVAL;VALUE=DURATION:PT1H
X-Robots-Tag:noindex
X-PUBLISHED-TTL:PT1H
BEGIN:VTIMEZONE
TZID:Europe/Warsaw
BEGIN:DAYLIGHT
TZOFFSETFROM:+0100
TZOFFSETTO:+0200
TZNAME:CEST
DTSTART:20240331T010000
END:DAYLIGHT
BEGIN:STANDARD
TZOFFSETFROM:+0200
TZOFFSETTO:+0100
TZNAME:CET
DTSTART:20241027T010000
END:STANDARD
BEGIN:DAYLIGHT
TZOFFSETFROM:+0100
TZOFFSETTO:+0200
TZNAME:CEST
DTSTART:20250330T010000
END:DAYLIGHT
BEGIN:STANDARD
TZOFFSETFROM:+0200
TZOFFSETTO:+0100
TZNAME:CET
DTSTART:20251026T010000
END:STANDARD
BEGIN:DAYLIGHT
TZOFFSETFROM:+0100
TZOFFSETTO:+0200
TZNAME:CEST
DTSTART:20260329T010000
END:DAYLIGHT
BEGIN:STANDARD
TZOFFSETFROM:+0200
TZOFFSETTO:+0100
TZNAME:CET
DTSTART:20261025T010000
END:STANDARD
END:VTIMEZONE
BEGIN:VEVENT
DTSTART;TZID=Europe/Warsaw:20251128T200000
DTEND;TZID=Europe/Warsaw:20251128T220000
DTSTAMP:20260423T003725
CREATED:20251106T100357Z
LAST-MODIFIED:20251106T100357Z
UID:2850-1764360000-1764367200@dt.fundacjapanagara.pl
SUMMARY:POLMUZ - koncert w Panu Garze
DESCRIPTION:Zapraszamy na koncert formacji POLMUZ w składzie:\n\nMichał Fetler – saksofon altowy\, barytonowy\, basowyJakub Królikowski – syntezatory\, przetwarzanieKsawery Wójciński – kontrabasDaniel Karpiński – perkusja\n↪︎ 28.11 – piątek – godz. 20.00↪︎ Dom Tramwajarza – ul. Słowackiego 19/21 – Pan Gar↪︎ bilety: 50 zł dostępne na kicket.pl (link wkrótce)\n\nPolmuz wykonuje radykalne interpretacje utworów ludowych\, na podstawie unikalnych\, ponad stuletnich nagrań z terenów południowej Wielkopolski. Obrzędowy trans i brutalna narracja stanowią futurystyczną wizję polskiej muzyki ludowej. Debiutanckie wydawnictwo zespołu pt. „Drzewiej” składa się z dwóch albumów\, zawierających te same utwory w różnych wykonaniach. Polmuz jest laureatem Pierwszej Nagrody oraz Nagrody Specjalnej na Festiwalu Nowa Tradycja 2018 w Programie 2 Polskiego Radia. Występował dotychczas na Off Festival\, NOSPR\, Malta Festival\, Narodowe Forum Muzyki\, Solidarity of Arts\, Ethno Port\, Narodowy Instytut Audiowizualny w Warszawie\, Filharmonia Szczecińska\, Studio Koncertowe PR im. Agnieszki Osieckiej.\nWydarzenie finansowane ze środków budżetowych Miasta Poznania #poznanwspiera
URL:http://dt.fundacjapanagara.pl/wydarzenie/polmuz-koncert-w-panu-garze/
LOCATION:Dom Tramwajarza Sala Amarantowa\, Słowackiego 19/21\, Poznań\, wielkopolskie\, 60-822\, Poland
CATEGORIES:Koncert,koncerty,Koncerty/muzyka
ATTACH;FMTTYPE=image/png:http://dt.fundacjapanagara.pl/wp-content/uploads/2025/11/polmuz.png
END:VEVENT
END:VCALENDAR