BEGIN:VCALENDAR
VERSION:2.0
PRODID:-//Dom Tramwajarza - ECPv6.15.11//NONSGML v1.0//EN
CALSCALE:GREGORIAN
METHOD:PUBLISH
X-WR-CALNAME:Dom Tramwajarza
X-ORIGINAL-URL:http://dt.fundacjapanagara.pl
X-WR-CALDESC:Wydarzenia dla Dom Tramwajarza
REFRESH-INTERVAL;VALUE=DURATION:PT1H
X-Robots-Tag:noindex
X-PUBLISHED-TTL:PT1H
BEGIN:VTIMEZONE
TZID:Europe/Warsaw
BEGIN:DAYLIGHT
TZOFFSETFROM:+0100
TZOFFSETTO:+0200
TZNAME:CEST
DTSTART:20240331T010000
END:DAYLIGHT
BEGIN:STANDARD
TZOFFSETFROM:+0200
TZOFFSETTO:+0100
TZNAME:CET
DTSTART:20241027T010000
END:STANDARD
BEGIN:DAYLIGHT
TZOFFSETFROM:+0100
TZOFFSETTO:+0200
TZNAME:CEST
DTSTART:20250330T010000
END:DAYLIGHT
BEGIN:STANDARD
TZOFFSETFROM:+0200
TZOFFSETTO:+0100
TZNAME:CET
DTSTART:20251026T010000
END:STANDARD
BEGIN:DAYLIGHT
TZOFFSETFROM:+0100
TZOFFSETTO:+0200
TZNAME:CEST
DTSTART:20260329T010000
END:DAYLIGHT
BEGIN:STANDARD
TZOFFSETFROM:+0200
TZOFFSETTO:+0100
TZNAME:CET
DTSTART:20261025T010000
END:STANDARD
END:VTIMEZONE
BEGIN:VEVENT
DTSTART;TZID=Europe/Warsaw:20251123T180000
DTEND;TZID=Europe/Warsaw:20251123T220000
DTSTAMP:20260423T003736
CREATED:20251029T104450Z
LAST-MODIFIED:20251029T104450Z
UID:2807-1763920800-1763935200@dt.fundacjapanagara.pl
SUMMARY:Czemoo i Sad Smiles - 2 koncerty w Panu Garze
DESCRIPTION:Sad Smiles oraz Czemooniedziela\, 23 listopada 2025\, godz. 18:00Poznań – Pan Gar / Dom Tramwajarza (ul. Słowackiego 19/21)\nBilety:30 zł – do końca października40 zł – od 1 listopada50 zł – w dniu koncertudostępne na platformie sprzedażowej kicket.plhttps://kicket.com/wydarz…/sad-smiles-oraz-czemoo-27353…\nCzemooTo nowa muzyczna formacja\, która łączy hardcore’ową moc z autentycznością rapu. Zespół powstał z fuzji członków punkowego zespołu Lockdown i poznańskiego rapera Kubeusa\, którzy w ramach nowego projektu łączą energię rapu z ostrzejszym brzmieniem. Czemoo dopiero stawia pierwsze wspólne kroki na scenie\, ale jego członkowie mają już na koncie liczne sukcesy w swoich dotychczasowych działalnościach – zarówno w rockowym\, jak i rapowym świecie. Na koncie mają profesjonalnie nagrany własny materiał\, który już wkrótce ujrzy światło dzienne.Zespół składa się z czterech młodych muzyków w wieku 12- 13 lat\, którzy wnoszą do projektu świeże spojrzenie na muzykę – pełne pasji i energii. Przygotujcie się na niezapomniane koncerty i dźwięki\, które będą stanowiły przełom na scenie muzycznej w nadchodzących latach.\nSad SmilesTo jest ich czas! W ostatnich miesiącach zagrali na scenach głównych OFF Festivalu i Jarocin Festiwalu (wygrali przegląd kapel!)\, wystąpili też na Męskim Graniu\, Inside Seaside\, Great September oraz na Watermill Festivalu w Niemczech czy Takt w Serbii! Mają średnio po 18 lat i ponad 150 koncertów na koncie! Latem (nakładem poznańskiej wytwórni 33 Records) ukazał się ich debiutancki album „Bunt”\, który zbiera świetne recenzje! Sad Smiles to zespół złożony z czterech nastolatków\, którzy kochają muzykę. Średnia wieku w kapeli to… 18 lat\, a już piszą dojrzałe teksty\, komponują muzykę i tworzą własne piosenki.Nie można też zamknąć ich w jednym gatunku muzycznym. To przede wszystkim alternatywny rock\, ale nie tylko… Jedno jest pewno – jest tu pasja i energia. Dużo energii!\nAgencja Koncertowa Borówka Music
URL:http://dt.fundacjapanagara.pl/wydarzenie/czemoo-i-sad-smiles-2-koncerty-w-panu-garze/
LOCATION:Dom Tramwajarza sala Piccolo – Pan Gar\, ul. Słowackiego 19/21\, Poznań\, wielkopolskie\, Poland
CATEGORIES:Koncert,koncerty,Koncerty/muzyka
ATTACH;FMTTYPE=image/jpeg:http://dt.fundacjapanagara.pl/wp-content/uploads/2025/10/532601735_764427076295877_5644518554594097188_n.jpg
END:VEVENT
END:VCALENDAR