BEGIN:VCALENDAR
VERSION:2.0
PRODID:-//Dom Tramwajarza - ECPv6.15.11//NONSGML v1.0//EN
CALSCALE:GREGORIAN
METHOD:PUBLISH
X-WR-CALNAME:Dom Tramwajarza
X-ORIGINAL-URL:http://dt.fundacjapanagara.pl
X-WR-CALDESC:Wydarzenia dla Dom Tramwajarza
REFRESH-INTERVAL;VALUE=DURATION:PT1H
X-Robots-Tag:noindex
X-PUBLISHED-TTL:PT1H
BEGIN:VTIMEZONE
TZID:Europe/Warsaw
BEGIN:DAYLIGHT
TZOFFSETFROM:+0100
TZOFFSETTO:+0200
TZNAME:CEST
DTSTART:20240331T010000
END:DAYLIGHT
BEGIN:STANDARD
TZOFFSETFROM:+0200
TZOFFSETTO:+0100
TZNAME:CET
DTSTART:20241027T010000
END:STANDARD
BEGIN:DAYLIGHT
TZOFFSETFROM:+0100
TZOFFSETTO:+0200
TZNAME:CEST
DTSTART:20250330T010000
END:DAYLIGHT
BEGIN:STANDARD
TZOFFSETFROM:+0200
TZOFFSETTO:+0100
TZNAME:CET
DTSTART:20251026T010000
END:STANDARD
BEGIN:DAYLIGHT
TZOFFSETFROM:+0100
TZOFFSETTO:+0200
TZNAME:CEST
DTSTART:20260329T010000
END:DAYLIGHT
BEGIN:STANDARD
TZOFFSETFROM:+0200
TZOFFSETTO:+0100
TZNAME:CET
DTSTART:20261025T010000
END:STANDARD
END:VTIMEZONE
BEGIN:VEVENT
DTSTART;TZID=Europe/Warsaw:20251122T190000
DTEND;TZID=Europe/Warsaw:20251122T220000
DTSTAMP:20260423T003828
CREATED:20251029T103813Z
LAST-MODIFIED:20251029T103906Z
UID:2804-1763838000-1763848800@dt.fundacjapanagara.pl
SUMMARY:Lulu Suicide & Mote - koncert w Panu Garze
DESCRIPTION:Zapraszamy na podwójny koncert – na scenie klubu Pan Gar zagrają dla Was formacje LULU SUICIDE oraz MOTE!\n▶︎ 22 listopada – sobota – godz. 19.00▶︎ Dom Tramwajarza – Słowackiego 19/21 – klub Pan Gar▶︎ bilety 30 zł – dostępne na platformie Kicket: https://kicket.com/…/lulu-suicide–mote-koncert-w-panu… oraz na bramce.\n▶︎ Lulu Suicide to wesoło-smutne trio z Poznania\, które porusza się w przestrzeni shoegaze’u\, grunge’u\, Dream popu i dziewczynkowej melancholii. Zespół charakteryzuje się ładną\, różową gitarką\, seksownym basistą i śpiewającym perkusistą. LULU Suicide wydało swój pierwszy album “hi im ready to die” w Sierpniu 2024 roku.\nW skład zespołu wchodzą Stachu Psie Serce (bas\, wokal)\, Bobek Bobkowski (perkusja\, wokal) oraz Maja Beżi (gitara\, wokal).\n▶︎ MOTE – pochodzący z Berlina artysta\, wychowany na eklektycznej mieszance The Beatles\, Nirvany\, Garbage\, Snoop Dogga\, No Doubt i kompozytorów klasycznych\, wymyka się łatwej klasyfikacji. Jego najnowsza EP-ka „Vampires” destyluje te różnorodne wpływy w brzmienie\, które wydaje się jednocześnie natarczywe i ponadczasowe – gdzie elektroniczne faktury zderzają się z surowością alternatywnego rocka\, a popowe riffy skrywają mroczne emocje.\nWydarzenie finansowane ze środków budżetowych miasta Poznania oraz Rady Osiedla Jeżyce #poznanwspiera
URL:http://dt.fundacjapanagara.pl/wydarzenie/lulu-suicide-mote-koncert-w-panu-garze/
LOCATION:Dom Tramwajarza sala Piccolo – Pan Gar\, ul. Słowackiego 19/21\, Poznań\, wielkopolskie\, Poland
CATEGORIES:Koncert,koncerty,Koncerty/muzyka
ATTACH;FMTTYPE=image/png:http://dt.fundacjapanagara.pl/wp-content/uploads/2025/10/lulu-banner3.png
END:VEVENT
END:VCALENDAR