BEGIN:VCALENDAR
VERSION:2.0
PRODID:-//Dom Tramwajarza - ECPv6.15.11//NONSGML v1.0//EN
CALSCALE:GREGORIAN
METHOD:PUBLISH
X-WR-CALNAME:Dom Tramwajarza
X-ORIGINAL-URL:http://dt.fundacjapanagara.pl
X-WR-CALDESC:Wydarzenia dla Dom Tramwajarza
REFRESH-INTERVAL;VALUE=DURATION:PT1H
X-Robots-Tag:noindex
X-PUBLISHED-TTL:PT1H
BEGIN:VTIMEZONE
TZID:Europe/Warsaw
BEGIN:DAYLIGHT
TZOFFSETFROM:+0100
TZOFFSETTO:+0200
TZNAME:CEST
DTSTART:20240331T010000
END:DAYLIGHT
BEGIN:STANDARD
TZOFFSETFROM:+0200
TZOFFSETTO:+0100
TZNAME:CET
DTSTART:20241027T010000
END:STANDARD
BEGIN:DAYLIGHT
TZOFFSETFROM:+0100
TZOFFSETTO:+0200
TZNAME:CEST
DTSTART:20250330T010000
END:DAYLIGHT
BEGIN:STANDARD
TZOFFSETFROM:+0200
TZOFFSETTO:+0100
TZNAME:CET
DTSTART:20251026T010000
END:STANDARD
BEGIN:DAYLIGHT
TZOFFSETFROM:+0100
TZOFFSETTO:+0200
TZNAME:CEST
DTSTART:20260329T010000
END:DAYLIGHT
BEGIN:STANDARD
TZOFFSETFROM:+0200
TZOFFSETTO:+0100
TZNAME:CET
DTSTART:20261025T010000
END:STANDARD
END:VTIMEZONE
BEGIN:VEVENT
DTSTART;TZID=Europe/Warsaw:20251112T183000
DTEND;TZID=Europe/Warsaw:20251112T220000
DTSTAMP:20260423T003757
CREATED:20251029T102942Z
LAST-MODIFIED:20251029T102942Z
UID:2798-1762972200-1762984800@dt.fundacjapanagara.pl
SUMMARY:UTAIMASHOU! Zaśpiewajmy po japońsku! Warsztaty muzyczne z Hibike
DESCRIPTION:Kontynuujemy warsztaty UTAIMASHOU! w których chcemy zaśpiewać po japońsku razem z WAMI oraz uwiecznić nasze starania na naszym kanale YouTube:)\nUtworem warsztatowym\, który wybraliśmy wspólnie w ankiecie jest „Moon Revenge” z Sailor Moon R: The Movie!\nDotychczas zaśpiewaliśmy już razem:„Zankoku na tenshi no teeze” z Neon Genesis Evangelion (nawet dwa razy!)„Kimi wo nosete” z Laputa tenku no shiro„Hikaru nara” z Shigatsu wa kimi no uso „Gurenge” z Kimetsu no yaiba„Kiyoshi kono yoru”\, czyli Cichą noc „Kaze no toorimichi” z Tonari no Totoro „Suzume” z Suzume no Tojimari „Lacrimosa” z Kuroshitsuji „Tabi no tochuu” z Spice and wolf „Blue bird” z Naruto Shippuden „the WORLD” z Death Note „Unravel” z Tokyo Ghoul\n\nPlan warsztatów jest następujący:Rozśpiewanie – dyrygentka Kasia wprowadzi Was w tajniki emisji głosu.Rozczytanie – japonistki z Hibike pomogą Wam zagłębić się w znaczenie tekstu japońskiego.Pośpiewanie – połączymy siły i wspólnie przygotujemy utwór przyakompaniamencie pianina.Podsumowanie – koncertowo wykonamy\, zarejestrujemy i udostępnimy:)\nNasze dotychczasowe nagrania znajdziecie tutajhttps://youtube.com/playlist…\nUWAGA!!!Liczba miejsc jest ograniczona!Jeżeli chcesz mieć pewność\, że znajdzie się miejsce dla Ciebie – ZAPISZ SIĘ na warsztaty wysyłając do nas wiadomość mailową:\nwydarzenia@chorkameralnyhibike.com\n\nObawiasz się\, że nie masz wystarczających umiejętności wokalnych???BEZ OBAW! Warsztaty są dla każdego i ich priorytetem jest zaproszenie naszej publiczności do wspólnego tworzenia i muzykowania:)Boisz się\, że nie znasz języka japońskiego???TO NIE PROBLEM! Każdy uczestnik otrzyma fonetyczny zapis tekstu. Japoński jest niezwykle wygodnym językiem do śpiewania\, a czym możecie się przekonać sami:)\n\nKoszt – 30 zł za udział w wydarzeniu (płatne gotówką na miejscu).
URL:http://dt.fundacjapanagara.pl/wydarzenie/utaimashou-zaspiewajmy-po-japonsku-warsztaty-muzyczne-z-hibike-2/
LOCATION:Dom Tramwajarza sala Piccolo – Pan Gar\, ul. Słowackiego 19/21\, Poznań\, wielkopolskie\, Poland
CATEGORIES:Warsztaty
ATTACH;FMTTYPE=image/jpeg:http://dt.fundacjapanagara.pl/wp-content/uploads/2025/10/573041137_1431736262289742_2639762662780333877_n.jpg
END:VEVENT
END:VCALENDAR