BEGIN:VCALENDAR
VERSION:2.0
PRODID:-//Dom Tramwajarza - ECPv6.15.11//NONSGML v1.0//EN
CALSCALE:GREGORIAN
METHOD:PUBLISH
X-WR-CALNAME:Dom Tramwajarza
X-ORIGINAL-URL:http://dt.fundacjapanagara.pl
X-WR-CALDESC:Wydarzenia dla Dom Tramwajarza
REFRESH-INTERVAL;VALUE=DURATION:PT1H
X-Robots-Tag:noindex
X-PUBLISHED-TTL:PT1H
BEGIN:VTIMEZONE
TZID:Europe/Warsaw
BEGIN:DAYLIGHT
TZOFFSETFROM:+0100
TZOFFSETTO:+0200
TZNAME:CEST
DTSTART:20240331T010000
END:DAYLIGHT
BEGIN:STANDARD
TZOFFSETFROM:+0200
TZOFFSETTO:+0100
TZNAME:CET
DTSTART:20241027T010000
END:STANDARD
BEGIN:DAYLIGHT
TZOFFSETFROM:+0100
TZOFFSETTO:+0200
TZNAME:CEST
DTSTART:20250330T010000
END:DAYLIGHT
BEGIN:STANDARD
TZOFFSETFROM:+0200
TZOFFSETTO:+0100
TZNAME:CET
DTSTART:20251026T010000
END:STANDARD
BEGIN:DAYLIGHT
TZOFFSETFROM:+0100
TZOFFSETTO:+0200
TZNAME:CEST
DTSTART:20260329T010000
END:DAYLIGHT
BEGIN:STANDARD
TZOFFSETFROM:+0200
TZOFFSETTO:+0100
TZNAME:CET
DTSTART:20261025T010000
END:STANDARD
END:VTIMEZONE
BEGIN:VEVENT
DTSTART;TZID=Europe/Warsaw:20251109T200000
DTEND;TZID=Europe/Warsaw:20251109T220000
DTSTAMP:20260423T003838
CREATED:20251029T102440Z
LAST-MODIFIED:20251029T102440Z
UID:2795-1762718400-1762725600@dt.fundacjapanagara.pl
SUMMARY:Mariyam - koncert w Panu Garze
DESCRIPTION:Zapraszamy na koncert niezwykłej wokalistki 𝗠𝗮𝗿𝗶𝘆𝗮𝗺\, który promuje jej debiutancki album “𝗦𝗲𝘃𝗲𝗻 𝗛𝗲𝗮𝘃𝗲𝗻𝘀” – muzyczno-mistyczną podróż przez eklektyzm gatunkowy i symbolizm tytułowych siedmiu nieb.\n 9 listopada 2025 – niedziela – godz. 20.00 Dom Tramwajarza – ul. Słowackiego 19/21 – Pan Gar bilety: 30 zł (dostępne na kicket.pl)https://kicket.com/wyd…/mariyam-koncert-w-panu-garze-28431\n𝗠𝗮𝗿𝗶𝘆𝗮𝗺 jest poznańską wokalistką i kompozytorką\, czerpiącą inspirację ze starych nauk\, archetypów i własnej samotności\, której utwory zawierają się w przestrzeniach filmowych\, eterycznych i eklektycznych. Ich wspólny komponent to treści wrażliwe i leczące w swoim przyjmującym\, empatycznym przekazie.\nDebiutowała w 2022 roku utworem “Tears Garden”\, który sama opisuje jako “czułą opowieść o uleczaniu siebie”. Z początkiem 2025 roku “Stars After All” przypomniało o jej twórczości jako bezpośrednia zapowiedź nadchodzącego albumu\, czerpiącego z symbolizmu ciał niebieskich i numerologii – w drugiej połowie ów roku ukazały się również single “Jestem” i “Brokenness of Humanness”. W debiutanckim koncepcyjnym albumie “Seven Heavens”\, opartym na koncepcji siedmiu nieb – każdy utwór odpowiada konkretnemu ciału niebieskiemu i przypisanej doniego cyfrze w tradycji numerologicznej. Wydawnictwo zawdzięcza swoją złożoność czteroletniej pracy nad nim (prod. lessman i Mateusz Krautwurst). Krążąc pomiędzy epicką muzyką filmową\, organicznym minimalizmem\, ciemną elektroniką\, a nawet neo-soulem\, “Seven Heavens” porusza tematykę wrażliwego człowieczeństwa w nieludzkim\, błądzącym świecie – czule i lecząco\, jednak zachowując pewną bezkompromisowość ikrytyczne spojrzenie na sytuacje i zjawiska tego wymagające.\nWydarzenie finansowane ze środków budżetowych Miasta Poznania oraz Rady Osiedla Jeżyce #poznanwspiera
URL:http://dt.fundacjapanagara.pl/wydarzenie/mariyam-koncert-w-panu-garze/
LOCATION:Dom Tramwajarza sala Piccolo – Pan Gar\, ul. Słowackiego 19/21\, Poznań\, wielkopolskie\, Poland
CATEGORIES:Koncert,koncerty,Koncerty/muzyka
ATTACH;FMTTYPE=image/png:http://dt.fundacjapanagara.pl/wp-content/uploads/2025/10/Mariyam.png
END:VEVENT
END:VCALENDAR