BEGIN:VCALENDAR
VERSION:2.0
PRODID:-//Dom Tramwajarza - ECPv6.15.11//NONSGML v1.0//EN
CALSCALE:GREGORIAN
METHOD:PUBLISH
X-WR-CALNAME:Dom Tramwajarza
X-ORIGINAL-URL:http://dt.fundacjapanagara.pl
X-WR-CALDESC:Wydarzenia dla Dom Tramwajarza
REFRESH-INTERVAL;VALUE=DURATION:PT1H
X-Robots-Tag:noindex
X-PUBLISHED-TTL:PT1H
BEGIN:VTIMEZONE
TZID:Europe/Warsaw
BEGIN:DAYLIGHT
TZOFFSETFROM:+0100
TZOFFSETTO:+0200
TZNAME:CEST
DTSTART:20240331T010000
END:DAYLIGHT
BEGIN:STANDARD
TZOFFSETFROM:+0200
TZOFFSETTO:+0100
TZNAME:CET
DTSTART:20241027T010000
END:STANDARD
BEGIN:DAYLIGHT
TZOFFSETFROM:+0100
TZOFFSETTO:+0200
TZNAME:CEST
DTSTART:20250330T010000
END:DAYLIGHT
BEGIN:STANDARD
TZOFFSETFROM:+0200
TZOFFSETTO:+0100
TZNAME:CET
DTSTART:20251026T010000
END:STANDARD
BEGIN:DAYLIGHT
TZOFFSETFROM:+0100
TZOFFSETTO:+0200
TZNAME:CEST
DTSTART:20260329T010000
END:DAYLIGHT
BEGIN:STANDARD
TZOFFSETFROM:+0200
TZOFFSETTO:+0100
TZNAME:CET
DTSTART:20261025T010000
END:STANDARD
END:VTIMEZONE
BEGIN:VEVENT
DTSTART;TZID=Europe/Warsaw:20251031T190000
DTEND;TZID=Europe/Warsaw:20251031T220000
DTSTAMP:20260423T003650
CREATED:20251028T164507Z
LAST-MODIFIED:20251028T164744Z
UID:2781-1761937200-1761948000@dt.fundacjapanagara.pl
SUMMARY:HALLOWEEN W PANU GARZE - WSTĘP WOLNY
DESCRIPTION:Dom Tramwajarza\, klub Pan Gar\, Poznańska Giełda Fonograficzna oraz Fundacja Poetariat\, wydawca Antologii Poezji Turpistycznej\, zapraszają na najbardziej wyjątkowy wieczór halloweenowy w mieście!\n𝗛𝗔𝗟𝗟𝗢𝗪𝗘𝗘𝗡 𝗪 𝗣𝗔𝗡𝗨 𝗚𝗔𝗥𝗭𝗘! start – godz. 19.00bawimy się do ostatniego trupa! WSTĘP WOLNY\nUśmiech i gęsia skórka gwarantowane! A wśród atrakcji:\n 𝗚𝗿𝗮𝗺𝗼𝗳𝗼𝗻 𝗚𝗮𝗿– słuchamy najstraszniejszych płyt – możecie również przynieść swoje!\n 𝗪𝗲𝗿𝘀𝘆 𝗚𝗿𝗼𝘇𝘆– czytamy krótkie formy literackie – w prozie i poezji – byle upiorne! A jeżeli starczy Wam odwagi – możecie pochwalić się własnym utworem!\n 𝗛𝗼𝗿𝗿𝗼𝗿 𝗻𝗮 𝗲𝗸𝗿𝗮𝗻𝗶𝗲– seans krótkometrażowego filmu grozy w reżyserii Katarzyny Babicz!\n𝗗𝗮𝗻𝘀𝗲 𝗠𝗮𝗰𝗮𝗯𝗿𝗲– after party przy mrocznym DJ-skim secie!\nMistrzem Ceremonii będzie Sebastian Konrad!\nTowarzyszyć będzie nam również Poznańska Giełda Fonograficzna – będzie więc można pogrzebać w najczarniejszych płytach!\nA DLA WSZYSTKICH\, KTÓRZY TEGO WIECZORU ODWIEDZĄ NAS W 𝗛𝗔𝗟𝗟𝗢𝗪𝗘𝗘𝗡𝗢𝗪𝗬𝗠 𝗞𝗢𝗦𝗧𝗜𝗨𝗠𝗜𝗘 – 𝟭𝟬% 𝗥𝗔𝗕𝗔𝗧𝗨 NA PRZEKĄSKI I NAPOJE PRZY BARZE!\nSTRACH PRZEGAPIĆ!
URL:http://dt.fundacjapanagara.pl/wydarzenie/halloween-w-panu-garze-wstep-wolny/
LOCATION:Dom Tramwajarza sala Piccolo – Pan Gar\, ul. Słowackiego 19/21\, Poznań\, wielkopolskie\, Poland
CATEGORIES:Spotkanie
ATTACH;FMTTYPE=image/jpeg:http://dt.fundacjapanagara.pl/wp-content/uploads/2025/10/Helloween-u-Pana-Gara.jpg
ORGANIZER;CN="Fundacja Pana Gara":MAILTO:dt@fundacjapanagara.pl
END:VEVENT
END:VCALENDAR