BEGIN:VCALENDAR
VERSION:2.0
PRODID:-//Dom Tramwajarza - ECPv6.15.11//NONSGML v1.0//EN
CALSCALE:GREGORIAN
METHOD:PUBLISH
X-WR-CALNAME:Dom Tramwajarza
X-ORIGINAL-URL:http://dt.fundacjapanagara.pl
X-WR-CALDESC:Wydarzenia dla Dom Tramwajarza
REFRESH-INTERVAL;VALUE=DURATION:PT1H
X-Robots-Tag:noindex
X-PUBLISHED-TTL:PT1H
BEGIN:VTIMEZONE
TZID:Europe/Warsaw
BEGIN:DAYLIGHT
TZOFFSETFROM:+0100
TZOFFSETTO:+0200
TZNAME:CEST
DTSTART:20240331T010000
END:DAYLIGHT
BEGIN:STANDARD
TZOFFSETFROM:+0200
TZOFFSETTO:+0100
TZNAME:CET
DTSTART:20241027T010000
END:STANDARD
BEGIN:DAYLIGHT
TZOFFSETFROM:+0100
TZOFFSETTO:+0200
TZNAME:CEST
DTSTART:20250330T010000
END:DAYLIGHT
BEGIN:STANDARD
TZOFFSETFROM:+0200
TZOFFSETTO:+0100
TZNAME:CET
DTSTART:20251026T010000
END:STANDARD
BEGIN:DAYLIGHT
TZOFFSETFROM:+0100
TZOFFSETTO:+0200
TZNAME:CEST
DTSTART:20260329T010000
END:DAYLIGHT
BEGIN:STANDARD
TZOFFSETFROM:+0200
TZOFFSETTO:+0100
TZNAME:CET
DTSTART:20261025T010000
END:STANDARD
END:VTIMEZONE
BEGIN:VEVENT
DTSTART;TZID=Europe/Warsaw:20251012T190000
DTEND;TZID=Europe/Warsaw:20251012T210000
DTSTAMP:20260423T004026
CREATED:20251008T154526Z
LAST-MODIFIED:20251008T154526Z
UID:2768-1760295600-1760302800@dt.fundacjapanagara.pl
SUMMARY:Wybiła Północ - Młoda Scena 4.0 - koncert w Panu Garze
DESCRIPTION:Zapraszamy na koncert finalisty naszego programu Młoda Scena 4.0 – formacji WYBIŁA PÓŁNOC!\n▶︎ 12 października – niedziela – godz. 19.00▶︎ Dom Tramwajarza / Słowackiego 19/21 / Pan Gar▶︎ wstęp wolny\nWybiła północ – założony w styczniu 2025 roku czteroosobowy zespół zaprasza na mocne granie. Piszą o sobie:„Nasza muzyka to hardrock w mrocznym klimacie\, pełen napięcia\, niepokoju i refleksji. To podróż przez nocne rozmyślania\, przez ciężar codziennych zmagań i wewnętrzną walkę człowieka z własnymi demonami. To głos sprzeciwu wobec bezradności\, rutyny i obojętności świata.”\nWydarzenie finansowane ze środków budżetowych Miasta Poznania #poznanwspiera
URL:http://dt.fundacjapanagara.pl/wydarzenie/wybila-polnoc-mloda-scena-4-0-koncert-w-panu-garze/
LOCATION:Dom Tramwajarza sala Piccolo – Pan Gar\, ul. Słowackiego 19/21\, Poznań\, wielkopolskie\, Poland
CATEGORIES:Koncert,koncerty,Koncerty/muzyka
ATTACH;FMTTYPE=image/png:http://dt.fundacjapanagara.pl/wp-content/uploads/2025/10/polnoc-baner.png
END:VEVENT
END:VCALENDAR