BEGIN:VCALENDAR
VERSION:2.0
PRODID:-//Dom Tramwajarza - ECPv6.15.11//NONSGML v1.0//EN
CALSCALE:GREGORIAN
METHOD:PUBLISH
X-WR-CALNAME:Dom Tramwajarza
X-ORIGINAL-URL:http://dt.fundacjapanagara.pl
X-WR-CALDESC:Wydarzenia dla Dom Tramwajarza
REFRESH-INTERVAL;VALUE=DURATION:PT1H
X-Robots-Tag:noindex
X-PUBLISHED-TTL:PT1H
BEGIN:VTIMEZONE
TZID:Europe/Warsaw
BEGIN:DAYLIGHT
TZOFFSETFROM:+0100
TZOFFSETTO:+0200
TZNAME:CEST
DTSTART:20240331T010000
END:DAYLIGHT
BEGIN:STANDARD
TZOFFSETFROM:+0200
TZOFFSETTO:+0100
TZNAME:CET
DTSTART:20241027T010000
END:STANDARD
BEGIN:DAYLIGHT
TZOFFSETFROM:+0100
TZOFFSETTO:+0200
TZNAME:CEST
DTSTART:20250330T010000
END:DAYLIGHT
BEGIN:STANDARD
TZOFFSETFROM:+0200
TZOFFSETTO:+0100
TZNAME:CET
DTSTART:20251026T010000
END:STANDARD
BEGIN:DAYLIGHT
TZOFFSETFROM:+0100
TZOFFSETTO:+0200
TZNAME:CEST
DTSTART:20260329T010000
END:DAYLIGHT
BEGIN:STANDARD
TZOFFSETFROM:+0200
TZOFFSETTO:+0100
TZNAME:CET
DTSTART:20261025T010000
END:STANDARD
END:VTIMEZONE
BEGIN:VEVENT
DTSTART;TZID=Europe/Warsaw:20251011T190000
DTEND;TZID=Europe/Warsaw:20251011T210000
DTSTAMP:20260423T015834
CREATED:20251004T122616Z
LAST-MODIFIED:20251004T122616Z
UID:2745-1760209200-1760216400@dt.fundacjapanagara.pl
SUMMARY:Konrad Biebiołka - koncert w Panu Garze - Młoda Scena 4.0
DESCRIPTION:Zapraszamy na koncert finalisty naszego programu Młoda Scena 4.0 – Konrada Bebiołki!\n11 października – sobota – godz. 19.00Dom Tramwajarza – ul. Słowackiego 19/21 – Pan GarWstęp Wolny\nKonrad Bebiołka – wokalista\, gitarzysta\, kompozytor i autor tekstów\, który nieustannie poszukuje nowych form wyrazu. Jego muzyka łączy w sobie różne gatunki\, tworząc barwną mozaikę emocji i nastrojów.\nNa scenie\, za pomocą loopera\, buduje wielowarstwowe brzmienia\, które oplatają słuchacza ciepłem i głębią. Każdy koncert staje się podróżą w świat dźwięków pełnych autentyczności i pasji.\nWystępował na scenie z Piotrem Bukartykiem\, grupą SNOWMEN\, zagrałem na Poznańskim festiwalu Enea Spring Break\, a jego utwór Gin i Czeski Film został doceniony przez wytwórnię Kayax i wydany podczas akcji My Name is New dla młodych mniej znanych artystów z polskiej sceny muzycznej.\n\nWydarzenie finansowane ze środków budżetowych Miasta Poznania #poznanwspiera \nPokaż mniej
URL:http://dt.fundacjapanagara.pl/wydarzenie/konrad-biebiolka-koncert-w-panu-garze-mloda-scena-4-0/
LOCATION:Dom Tramwajarza sala Piccolo – Pan Gar\, ul. Słowackiego 19/21\, Poznań\, wielkopolskie\, Poland
CATEGORIES:Koncert,koncerty
ATTACH;FMTTYPE=image/png:http://dt.fundacjapanagara.pl/wp-content/uploads/2025/10/konrad-bebiulka-baner.png
END:VEVENT
END:VCALENDAR