BEGIN:VCALENDAR
VERSION:2.0
PRODID:-//Dom Tramwajarza - ECPv6.15.11//NONSGML v1.0//EN
CALSCALE:GREGORIAN
METHOD:PUBLISH
X-ORIGINAL-URL:http://dt.fundacjapanagara.pl
X-WR-CALDESC:Wydarzenia dla Dom Tramwajarza
REFRESH-INTERVAL;VALUE=DURATION:PT1H
X-Robots-Tag:noindex
X-PUBLISHED-TTL:PT1H
BEGIN:VTIMEZONE
TZID:Europe/Warsaw
BEGIN:DAYLIGHT
TZOFFSETFROM:+0100
TZOFFSETTO:+0200
TZNAME:CEST
DTSTART:20240331T010000
END:DAYLIGHT
BEGIN:STANDARD
TZOFFSETFROM:+0200
TZOFFSETTO:+0100
TZNAME:CET
DTSTART:20241027T010000
END:STANDARD
BEGIN:DAYLIGHT
TZOFFSETFROM:+0100
TZOFFSETTO:+0200
TZNAME:CEST
DTSTART:20250330T010000
END:DAYLIGHT
BEGIN:STANDARD
TZOFFSETFROM:+0200
TZOFFSETTO:+0100
TZNAME:CET
DTSTART:20251026T010000
END:STANDARD
BEGIN:DAYLIGHT
TZOFFSETFROM:+0100
TZOFFSETTO:+0200
TZNAME:CEST
DTSTART:20260329T010000
END:DAYLIGHT
BEGIN:STANDARD
TZOFFSETFROM:+0200
TZOFFSETTO:+0100
TZNAME:CET
DTSTART:20261025T010000
END:STANDARD
END:VTIMEZONE
BEGIN:VEVENT
DTSTART;TZID=Europe/Warsaw:20251009T190000
DTEND;TZID=Europe/Warsaw:20251009T220000
DTSTAMP:20260423T004321
CREATED:20250929T171709Z
LAST-MODIFIED:20250929T171709Z
UID:2721-1760036400-1760047200@dt.fundacjapanagara.pl
SUMMARY:JAZZ BEATLES by Imienowski Jazz Set / Pan Gar
DESCRIPTION:Wracamy do Poznania – odświeżony materiał i ponownie wielkie emocje! Ruszamy w podróż prosto do Liverpoolu.\nUsłyszycie cały przekrój utworów skomponowanych przez członków tej legendarnej grupy: „Hey Jude”\, „Get Back”\, „Let It Be”\, „Michelle”\, „Yesterday”\, „Come Together” i wiele innych\, doskonale znanych utworów. Koncert promuje płytę „Jazz Side of Abbey Road”. Tworząc i grając własne piosenki\, zamiast polegać na profesjonalnych kompozytorach i muzykach sesyjnych\, The Beatles zrewolucjonizowali muzykę pop i rock na początku lat 60-tych. Choć ich czas w świetle reflektorów był zbyt krótki – będąc na szczycie\, rozwiązali się w 1970 roku – John Lennon\, Paul McCartney\, George Harrison i Ringo Starr zapoczątkowali nową erę muzyki.\nTHE BEATLES zainspirowali wielu muzyków jazzowych. Ten koncert będzie poświęcony twórczości legendarnych Beatlesów. Utwory z różnych płyt zostaną zaprezentowane w zupełnie innej\, niecodziennej\, a czasem nieoczekiwanej perspektywie\, w jazzowej interpretacji. Koncert promuje płytę „JAZZ SIDE OF ABBEY ROAD”.\nZagra dla Państwa „Imienowski Jazz Set” w składzie:\nTomasz Imienowski Gitarzysta basowy\, kompozytor. Z muzyką związany od dzieciństwa. Porusza się biegle we wszystkich stylach muzycznych\, jednak najczęściej można go spotkać z piosenką autorską\, ambitnymi projektami jazzowymi i bluesowymi. Na scenie pojawia się również z zespołem Krzysztofa Tyńca\, zespołem Piramidy i projektami muzyki jazzowej. Współpracował z Teatrem Ateneum w Warszawie. Ceniony jest przede wszystkim za świetny „drive” i pracę sekcyjną. Został zaproszony do gościnnego występu na rejestrowanym i wydanym w 2012 roku koncertowym DVD Wojtka Pilichowskiego. Zagrał około tysiąc koncertów w całym kraju i za granicą (USA\, Dania\, Niemcy\, Holandia\, Francja\, Łotwa\, Litwa\, Rosja\, Szwajcaria\, Chorwacja\, Litwa\, Czechy). Koncertował także w radiu i telewizji.\nBartosz Krzywda r. 1973 – pianista\, kompozytor\, aranżer\, producent muzyczny. Ukończył Liceum Muzyczne w Elblągu w klasie perkusji. Lider autorskich zespołów: Dream Power\, Elefunk\, Specjal Jazz Sextet\, Krzywda\, Trąba Deluks. Laureat: Nagroda Artystyczna Prezydenta Elbląga w 2009 roku\, Artystyczne Wydarzenie Roku 2011 (płyta „Projekt Elbląg” ze Specjal Jazz Sextet). Autor muzyki do filmów i przedstawień teatralnych. Inicjator życia jazzowego w Elblągu. Kierownik muzyczny wielu muzycznych przedsięwzięć.\nMichał Lasota Perkusista\, absolwent wydziału jazzu Akademii Muzycznej we Wrocławiu. Od przeszło 15 lat aktywności zawodowej udzielał się w licznych projektach muzycznych u boku takich artystów jak Martyna Jakubowicz (koncerty w ramach promocji albumu 'Tylko Dylan’ )\, Katarzyna Groniec (koncerty promujące album 'Przypadki’). W marcu 2012 roku rozpoczął współpracę z L.U.C.’iem w ramach promocji albumu 'Kostostumostów’\, a dziś udziela się m. in. w jego projekcie Rebel Babel. Ponadto współpracował z: Mikromusic\, Krzysztof Żesławski Quartet (płyta Osiecka na jazzowo 2016)\, \, Natalia Lubrano\, Halina Frąckowiak\, Leszek Cichoński\, Teatr Muzyczny Capitol we Wrocławiu (ścieżka dźwiękowa ze spektaklu Frankenstein.) Od 2010 roku współpracuje z Teatrem Muzycznym im. D. Baduszkowej w Gdyni w takich spektaklach jak: Lalka\, Chłopi czy Hair Spray.\nBilety dostępne online:bilety24: https://bit.ly/4n5ZIG4kupbilecik: https://kbq.pl/177298biletyna: https://bilety.io/YmyOV\nInformacje w sprawie biletów\, rezerwacje i informacje o koncercie tel. 513 207 643
URL:http://dt.fundacjapanagara.pl/wydarzenie/jazz-beatles-by-imienowski-jazz-set-pan-gar/
LOCATION:Dom Tramwajarza sala Piccolo – Pan Gar\, ul. Słowackiego 19/21\, Poznań\, wielkopolskie\, Poland
CATEGORIES:koncerty,Koncerty/muzyka
ATTACH;FMTTYPE=image/jpeg:http://dt.fundacjapanagara.pl/wp-content/uploads/2025/09/548146592_1376197821175146_3728660586487094792_n.jpg
END:VEVENT
END:VCALENDAR