BEGIN:VCALENDAR
VERSION:2.0
PRODID:-//Dom Tramwajarza - ECPv6.15.11//NONSGML v1.0//EN
CALSCALE:GREGORIAN
METHOD:PUBLISH
X-WR-CALNAME:Dom Tramwajarza
X-ORIGINAL-URL:http://dt.fundacjapanagara.pl
X-WR-CALDESC:Wydarzenia dla Dom Tramwajarza
REFRESH-INTERVAL;VALUE=DURATION:PT1H
X-Robots-Tag:noindex
X-PUBLISHED-TTL:PT1H
BEGIN:VTIMEZONE
TZID:Europe/Warsaw
BEGIN:DAYLIGHT
TZOFFSETFROM:+0100
TZOFFSETTO:+0200
TZNAME:CEST
DTSTART:20240331T010000
END:DAYLIGHT
BEGIN:STANDARD
TZOFFSETFROM:+0200
TZOFFSETTO:+0100
TZNAME:CET
DTSTART:20241027T010000
END:STANDARD
BEGIN:DAYLIGHT
TZOFFSETFROM:+0100
TZOFFSETTO:+0200
TZNAME:CEST
DTSTART:20250330T010000
END:DAYLIGHT
BEGIN:STANDARD
TZOFFSETFROM:+0200
TZOFFSETTO:+0100
TZNAME:CET
DTSTART:20251026T010000
END:STANDARD
BEGIN:DAYLIGHT
TZOFFSETFROM:+0100
TZOFFSETTO:+0200
TZNAME:CEST
DTSTART:20260329T010000
END:DAYLIGHT
BEGIN:STANDARD
TZOFFSETFROM:+0200
TZOFFSETTO:+0100
TZNAME:CET
DTSTART:20261025T010000
END:STANDARD
END:VTIMEZONE
BEGIN:VEVENT
DTSTART;TZID=Europe/Warsaw:20251005T190000
DTEND;TZID=Europe/Warsaw:20251005T210000
DTSTAMP:20260423T030905
CREATED:20250930T093936Z
LAST-MODIFIED:20250930T093936Z
UID:2738-1759690800-1759698000@dt.fundacjapanagara.pl
SUMMARY:The Burak Show - stand-up
DESCRIPTION:Po przerwie znów chwytam za mikrofon\, żeby rozbawić Was do łez!\nW tym roku The Burak Show to jeszcze więcej świeżych żartów i absurdalnych historii z mojego życia – śmiesznych\, prawdziwych i czasem aż zbyt szczerych.\nZ biegiem lat patrzę na świat inaczej\, dostrzegam więcej i… mam jeszcze więcej do powiedzenia! Będzie o blaskach i cieniach bycia Polakiem w Ameryce\, o codziennych absurdach i o tym\, jak wygląda życie na styku dwóch kultur.\nJeśli lubicie humor\, który jest ostry\, szczery i pełen dystansu – nie możecie tego przegapić!\nWpadnij\, pośmiejemy się razem!\nWystęp zaczyna się o 19:00\, zatem przyjdź 15-20 minut wcześniej.\nBilety na stronie: https://www.davezameryki.pl/\nDo zobaczenia! 
URL:http://dt.fundacjapanagara.pl/wydarzenie/the-burak-show-stand-up/
LOCATION:Dom Tramwajarza sala Piccolo – Pan Gar\, ul. Słowackiego 19/21\, Poznań\, wielkopolskie\, Poland
CATEGORIES:Stand-up
ATTACH;FMTTYPE=image/jpeg:http://dt.fundacjapanagara.pl/wp-content/uploads/2025/09/494071679_1218379216586137_4378919542827398988_n.jpg
END:VEVENT
END:VCALENDAR