BEGIN:VCALENDAR
VERSION:2.0
PRODID:-//Dom Tramwajarza - ECPv6.15.11//NONSGML v1.0//EN
CALSCALE:GREGORIAN
METHOD:PUBLISH
X-WR-CALNAME:Dom Tramwajarza
X-ORIGINAL-URL:http://dt.fundacjapanagara.pl
X-WR-CALDESC:Wydarzenia dla Dom Tramwajarza
REFRESH-INTERVAL;VALUE=DURATION:PT1H
X-Robots-Tag:noindex
X-PUBLISHED-TTL:PT1H
BEGIN:VTIMEZONE
TZID:Europe/Warsaw
BEGIN:DAYLIGHT
TZOFFSETFROM:+0100
TZOFFSETTO:+0200
TZNAME:CEST
DTSTART:20240331T010000
END:DAYLIGHT
BEGIN:STANDARD
TZOFFSETFROM:+0200
TZOFFSETTO:+0100
TZNAME:CET
DTSTART:20241027T010000
END:STANDARD
BEGIN:DAYLIGHT
TZOFFSETFROM:+0100
TZOFFSETTO:+0200
TZNAME:CEST
DTSTART:20250330T010000
END:DAYLIGHT
BEGIN:STANDARD
TZOFFSETFROM:+0200
TZOFFSETTO:+0100
TZNAME:CET
DTSTART:20251026T010000
END:STANDARD
BEGIN:DAYLIGHT
TZOFFSETFROM:+0100
TZOFFSETTO:+0200
TZNAME:CEST
DTSTART:20260329T010000
END:DAYLIGHT
BEGIN:STANDARD
TZOFFSETFROM:+0200
TZOFFSETTO:+0100
TZNAME:CET
DTSTART:20261025T010000
END:STANDARD
END:VTIMEZONE
BEGIN:VEVENT
DTSTART;TZID=Europe/Warsaw:20251003T190000
DTEND;TZID=Europe/Warsaw:20251003T233000
DTSTAMP:20260423T003716
CREATED:20250929T170855Z
LAST-MODIFIED:20250929T171851Z
UID:2715-1759518000-1759534200@dt.fundacjapanagara.pl
SUMMARY:Zgolusie - koncert w Panu Garze + afterparty DJ Refugee's Sound
DESCRIPTION:Zapraszamy na koncert formacji „𝗭𝗚𝗢𝗟𝗨𝗦𝗜𝗘” w składzie:\nZgolus – Bartłomiej Zgoła – kontrabasSebeck – Sebastian Wróbel – gitaraKmicic – Michał Kmita – gitaraCzarek – Cezariusz Grzana – perkusja\n𝗦𝗧𝗔𝗥𝗧:03 października\, piątek\, godz. 19.00𝗞𝗢𝗡𝗖𝗘𝗥𝗧: 20:20𝗔𝗙𝗧𝗘𝗥𝗣𝗔𝗥𝗧𝗬: DJ Refugee’s Sound: 22:00𝗚𝗗𝗭𝗜𝗘:Dom Tramwajarza / ul. Słowackiego 19/21 / Pan GarWSTĘP WOLNY – podczas koncertu będzie można kupić dobrowolne cegiełki.\nNa koncercie oprócz autorskiego materiału pojawią się utwory które zainspirowały lidera zespołu i ukształtowały jego muzyczną tożsamość.𝗭𝗴𝗼𝗹𝘂𝘀𝗶𝗲 – to muzyka zarówno dla ludzi wtajemniczonych w klimacie jak i wszystkich wielbicieli inteligentnego grania z elementami improwizacji w różnych stylach muzycznych. W autorskiej muzyce zespołu można będzie się spodziewać elementów reggae\, bluesa\, rock’n’roll\, acid jazzu oraz kilku znanych hitów.Historia zespołu:Kilka lat temu Zgolus (Bartłomiej Zgoła) stwierdził że jednak jest uzależniony od grania.Dzięki wsparciu przyjaciół i rodziny możemy dać wam więcej i więcej.Dziękuję i pozdrawiamhttps://www.facebook.com/zgolusie\n\nAfterparty:𝗥𝗲𝗳𝘂𝗴𝗲𝗲’𝘀 𝗦𝗼𝘂𝗻𝗱 aka Krystian z Górczyna to pochodzący z Poznania Dj/Selektor działający od 2000 roku\, od początku związany z lokalną sceną sound systemową. Jako Refugees Sound popularyzator muzyki jamajskiej. Krystian z Górczyna ma na koncie setki występów w towarzystwie wielu artystów. Od 2019 roku współtworzył projekt dj-ski Head Cleaner oparty w 100% na taśmie magnetofonowej. Obecnie podczas jego grania najczęściej z płyt winylowych usłyszymy takie gatunki jak Reggae\, Dub\, Funk\, Soul\, Jazz\, Rap czy Elektronikę\, oraz wszystkie fuzję tych gatunków. Sety Krystiana z Górczyna to pełna niespodzianek podróż doskonale przyjmowana przez publiczność. K. z G. to także posiadacz ogromnej kolekcji nośników takich jak kasety magnetofonowe\, kasety VHS\, płyty winylowe\, płyty cd.
URL:http://dt.fundacjapanagara.pl/wydarzenie/zgolusie-koncert-w-panu-garze-afterparty-dj-refugees-sound/
LOCATION:Dom Tramwajarza sala Piccolo – Pan Gar\, ul. Słowackiego 19/21\, Poznań\, wielkopolskie\, Poland
CATEGORIES:Koncert,koncerty
ATTACH;FMTTYPE=image/png:http://dt.fundacjapanagara.pl/wp-content/uploads/2025/09/zgolusie-2025-10-baner.png
END:VEVENT
END:VCALENDAR